{"text_format":"1","workbook":"xlsx","n_sheets":7,"sheets":["Allg_Angaben","Auswertung","Blatt 1","Blatt 2","Hinweise","Tabelle2","Tabelle1"],"not_rendered":{"charts":0,"images":0,"macros":1,"external_links":2,"defined_names":40,"comments":2,"pivot_tables":0},"unopened":[],"bounds":{"document_bytes":16777216,"sheet_cells":100000,"rows_first":2000,"rows_last":500,"rows_between":2000,"halvings":0,"cell_chars":16384,"cell_head_chars":4096},"cells_cut":0,"cells_raw":0,"read":"whole","date_system":"1900"}

{"sheet":"Allg_Angaben","index":0,"n_rows":39,"n_cols":7,"rows_kept":39,"cut":false,"hidden":false,"merged":[]}
["VFDB-Contest 2025",null,null,null," "]
["( Version 40 vom 02.01.2025)",null,null,null,null,"Datum : ","2025-02-08"]
["Angaben zum Contest :",null,null,null,null,null," "]
[]
["Contest-Teil ( Blatt 1 ) :",null,1,"Band : ","80 m","Mode : ","SSB"]
[]
["Contest-Teil ( Blatt 2 ) :",null,2,"Band : ","40 m","Mode : ","SSB"]
[null,null," ",null," ",null,"(SSB/CW)"]
[]
["Angaben zum Teilnehmer :"]
[]
[null,"Rufzeichen : "," ",null,"Wertungsgruppe : ","SWL"]
[]
[null,"DOK : "," ",null,"Locator : "," "]
[]
["Anschrift :","Name : ",null," "]
[null,"Strasse : ",null," "]
[null,"PLZ/Ort : "]
[null,"E-Mail :"]
["Station :",null,"Sender/Ausgangsleistung : "," "]
[null,null,"Empfänger/Eingangsstufe :"," "]
[null,null,"Antenne/ über NN :"," "]
[]
["Beteiligte Funkamateure bei Mehrmannbetrieb :"]
[null,"Rufzeichen","Name"," ","DOK"]
[]
[]
[]
[]
[]
["Auswertung der Contest-Teile"]
["Contest-Teil : ",{"$f":"cont1","v":1},"(Blatt 1)",null,"Anzahl der Punkte :",{"$f":"punkt1","v":0}]
[]
["Band : ",{"$f":"band1","v":"80 m"},null,null,"Anzahl der Multiplikatoren :",{"$f":"multi1","v":0}]
["Mode : ",{"$f":"mode1","v":"SSB"},null,null,"Gesamtpunktzahl :",{"$f":"gesamt1","v":0}]
["Contest-Teil  : ",{"$f":"cont2","v":2},"(Blatt 2 )",null,"Anzahl der Punkte :",{"$f":"punkt2","v":0}]
[]
["Band : ",{"$f":"band2","v":"40 m"},null,null,"Anzahl der Multiplikatoren :",{"$f":"multi2","v":0}]
["Mode : ",{"$f":"mode2","v":"SSB"},null,null,"Gesamtpunktzahl :",{"$f":"gesamt2","v":0}]

{"sheet":"Auswertung","index":1,"n_rows":114,"n_cols":31,"rows_kept":114,"cut":false,"hidden":false,"merged":[[24,22,24,23],[39,7,39,11],[23,9,23,10],[24,9,24,10],[23,22,23,23]]}
["Auswertung der Contest-Teile ",null,null,null,null,null,null,null,null,null,null,null,null,null,null,null,null,null,null,null,null,null,null,null,"Summe der Locator-Punkte (nur Teil 3) :",{"$f":"L30","v":0}]
[null,null,null,null,null,"Contest-Teil : ",{"$f":"cont1","v":1},null,"(Blatt 1)",null,null,null,null,null,null,null,null,null,null,null,null,null,null,null,"Summe der QSO-Punkte   :",{"$f":"SUM('Blatt 1'!L:L)","v":0}]
[null,null,null,null,null,"Band : ",{"$f":"band1","v":"80 m"},null,null,null,"Mode : ",{"$f":"mode1","v":"SSB"},null,null,null,null,null,null,null,null,null,null,null,null,"Summe der Multiplikatoren :",{"$f":"L11","v":0}]
[null,null,null,null,null,null,null,null,null,null,null,null,null,null,null,null,null,null,null,null,null,null,null,null,"Gesamtpunktzahl  :",{"$f":"(Z2+Z1)*Z3","v":0}]
[null,null,null,null,null,null,null,null,null,null,null,null,null,null,null,null,null,null,null,null,null,null,null,null,"Summe der Locator-Punkte (nur Teil 4) :",{"$f":"L34","v":0}]
[null,null,null,null,null,"Contest-Teil  : ",{"$f":"cont2","v":2},null,"(Blatt 2 )",null,null,null,null,null,null,null,null,null,null,null,null,null,null,null,"Summe der QSO-Punkte   :",{"$f":"SUM('Blatt 2'!L:L)","v":0}]
[null,null,null,null,null,"Band : ",{"$f":"band2","v":"40 m"},null,null,null,"Mode : ",{"$f":"mode2","v":"SSB"},null,null,null,null,null,null,null,null,null,null,null,null,"Summe der Multiplikatoren :",{"$f":"Y11","v":0}]
[null,null,null,null,null,null,null,null,null,null,null,null,null,null,null,null,null,null,null,null,null,null,null,null,"Gesamtpunktzahl :",{"$f":"(Z5+punkt2)*multi2","v":0}]
["Liste der DOKs als Multiplikatoren "]
[]
["Teil :",null,{"$f":"G2","v":1},", Band :",null,null,{"$f":"band1","v":"80 m"},null,",Summe :",null,null,{"$f":"COUNTIF($B$14:$L$27,\"X\")","v":0},null,"Teil :",null,{"$f":"G6","v":2},", Band :",null,null,{"$f":"band2","v":"40 m"},null,",Summe :",null,null,{"$f":"COUNTIF($O$14:$Y$27,\"X\")","v":0}]
[]
["Z","...0",1,2,3,4,5,6,7,8,9,{"$f":"AC14","v":"VFDB"},null,"Z","..0",1,2,3,4,5,6,7,8,9,{"$f":"AC14","v":"VFDB"},null,null,"SDOK OV","SDOK VFDB","Z-DOK"]
["0..",{"$f":"IF(COUNTIF('Blatt 1'!$AD$7:$AE$305,\"Z00\")>0,\"X\",\" \")","v":" "},{"$f":"IF(COUNTIF('Blatt 1'!$AD$7:$AE$305,\"Z01\")>0,\"X\",\" \")","v":" "},{"$f":"IF(COUNTIF('Blatt 1'!$AD$7:$AE$305,\"Z02\")>0,\"X\",\" \")","v":" "},{"$f":"IF(COUNTIF('Blatt 1'!$AD$7:$AE$305,\"Z03\")>0,\"X\",\" \")","v":" "},{"$f":"IF(COUNTIF('Blatt 1'!$AD$7:$AE$305,\"Z04\")>0,\"X\",\" \")","v":" "},{"$f":"IF(COUNTIF('Blatt 1'!$AD$7:$AE$305,\"Z05\")>0,\"X\",\" \")","v":" "},{"$f":"IF(COUNTIF('Blatt 1'!$AD$7:$AE$305,\"Z06\")>0,\"X\",\" \")","v":" "},{"$f":"IF(COUNTIF('Blatt 1'!$AD$7:$AE$305,\"Z07\")>0,\"X\",\" \")","v":" "},{"$f":"IF(COUNTIF('Blatt 1'!$AD$7:$AE$305,\"Z08\")>0,\"X\",\" \")","v":" "},{"$f":"IF(COUNTIF('Blatt 1'!$AD$7:$AE$305,\"Z09\")>0,\"X\",\" \")","v":" "},{"$f":"IF(COUNTIF('Blatt 1'!$O$7:$P$305,AC14)>0,\"X\",\" \")","v":" "},null,0,{"$f":"IF(COUNTIF('Blatt 2'!$AD$7:$AE$305,\"Z00\")>0,\"X\",\" \")","v":" "},{"$f":"IF(COUNTIF('Blatt 2'!$AD$7:$AE$305,\"Z01\")>0,\"X\",\" \")","v":" "},{"$f":"IF(COUNTIF('Blatt 2'!$AD$7:$AE$305,\"Z02\")>0,\"X\",\" \")","v":" "},{"$f":"IF(COUNTIF('Blatt 2'!$AD$7:$AE$305,\"Z03\")>0,\"X\",\" \")","v":" "},{"$f":"IF(COUNTIF('Blatt 2'!$AD$7:$AE$305,\"Z04\")>0,\"X\",\" \")","v":" "},{"$f":"IF(COUNTIF('Blatt 2'!$AD$7:$AE$305,\"Z05\")>0,\"X\",\" \")","v":" "},{"$f":"IF(COUNTIF('Blatt 2'!$AD$7:$AE$305,\"Z06\")>0,\"X\",\" \")","v":" "},{"$f":"IF(COUNTIF('Blatt 2'!$AD$7:$AE$305,\"Z07\")>0,\"X\",\" \")","v":" "},{"$f":"IF(COUNTIF('Blatt 2'!$AD$7:$AE$305,\"Z08\")>0,\"X\",\" \")","v":" "},{"$f":"IF(COUNTIF('Blatt 2'!$AD$7:$AE$305,\"Z09\")>0,\"X\",\" \")","v":" "},{"$f":"IF(COUNTIF('Blatt 2'!$O$7:$P$305,AC14)>0,\"X\",\" \")","v":" "},null,null,"WWFF","VFDB","z 01","z01"]
[1,{"$f":"IF(COUNTIF('Blatt 1'!$AD$7:$AE$305,\"Z10\")>0,\"X\",\" \")","v":" "},{"$f":"IF(COUNTIF('Blatt 1'!$AD$7:$AE$305,\"Z11\")>0,\"X\",\" \")","v":" "},{"$f":"IF(COUNTIF('Blatt 1'!$AD$7:$AE$305,\"Z12\")>0,\"X\",\" \")","v":" "},{"$f":"IF(COUNTIF('Blatt 1'!$AD$7:$AE$305,\"Z13\")>0,\"X\",\" \")","v":" "},{"$f":"IF(COUNTIF('Blatt 1'!$AD$7:$AE$305,\"Z14\")>0,\"X\",\" \")","v":" "},{"$f":"IF(COUNTIF('Blatt 1'!$AD$7:$AE$305,\"Z15\")>0,\"X\",\" \")","v":" "},{"$f":"IF(COUNTIF('Blatt 1'!$AD$7:$AE$305,\"Z16\")>0,\"X\",\" \")","v":" "},{"$f":"IF(COUNTIF('Blatt 1'!$AD$7:$AE$305,\"Z17\")>0,\"X\",\" \")","v":" "},{"$f":"IF(COUNTIF('Blatt 1'!$AD$7:$AE$305,\"Z18\")>0,\"X\",\" \")","v":" "},{"$f":"IF(COUNTIF('Blatt 1'!$AD$7:$AE$305,\"Z19\")>0,\"X\",\" \")","v":" "},{"$f":"AC15","v":"VFDBHQ"},null,1,{"$f":"IF(COUNTIF('Blatt 2'!$AD$7:$AE$305,\"Z10\")>0,\"X\",\" \")","v":" "},{"$f":"IF(COUNTIF('Blatt 2'!$AD$7:$AE$305,\"Z11\")>0,\"X\",\" \")","v":" "},{"$f":"IF(COUNTIF('Blatt 2'!$AD$7:$AE$305,\"Z12\")>0,\"X\",\" \")","v":" "},{"$f":"IF(COUNTIF('Blatt 2'!$AD$7:$AE$305,\"Z13\")>0,\"X\",\" \")","v":" "},{"$f":"IF(COUNTIF('Blatt 2'!$AD$7:$AE$305,\"Z14\")>0,\"X\",\" \")","v":" "},{"$f":"IF(COUNTIF('Blatt 2'!$AD$7:$AE$305,\"Z15\")>0,\"X\",\" \")","v":" "},{"$f":"IF(COUNTIF('Blatt 2'!$AD$7:$AE$305,\"Z16\")>0,\"X\",\" \")","v":" "},{"$f":"IF(COUNTIF('Blatt 2'!$AD$7:$AE$305,\"Z17\")>0,\"X\",\" \")","v":" "},{"$f":"IF(COUNTIF('Blatt 2'!$AD$7:$AE$305,\"Z18\")>0,\"X\",\" \")","v":" "},{"$f":"IF(COUNTIF('Blatt 2'!$AD$7:$AE$305,\"Z19\")>0,\"X\",\" \")","v":" "},{"$f":"AC15","v":"VFDBHQ"},null,null,"GDM","VFDBHQ","z 02","z02"]
[2,{"$f":"IF(COUNTIF('Blatt 1'!$AD$7:$AE$305,\"Z20\")>0,\"X\",\" \")","v":" "},{"$f":"IF(COUNTIF('Blatt 1'!$AD$7:$AE$305,\"Z21\")>0,\"X\",\" \")","v":" "},{"$f":"IF(COUNTIF('Blatt 1'!$AD$7:$AE$305,\"Z22\")>0,\"X\",\" \")","v":" "},{"$f":"IF(COUNTIF('Blatt 1'!$AD$7:$AE$305,\"Z23\")>0,\"X\",\" \")","v":" "},{"$f":"IF(COUNTIF('Blatt 1'!$AD$7:$AE$305,\"Z24\")>0,\"X\",\" \")","v":" "},{"$f":"IF(COUNTIF('Blatt 1'!$AD$7:$AE$305,\"Z25\")>0,\"X\",\" \")","v":" "},{"$f":"IF(COUNTIF('Blatt 1'!$AD$7:$AE$305,\"Z26\")>0,\"X\",\" \")","v":" "},{"$f":"IF(COUNTIF('Blatt 1'!$AD$7:$AE$305,\"Z27\")>0,\"X\",\" \")","v":" "},{"$f":"IF(COUNTIF('Blatt 1'!$AD$7:$AE$305,\"Z28\")>0,\"X\",\" \")","v":" "},{"$f":"IF(COUNTIF('Blatt 1'!$AD$7:$AE$305,\"Z29\")>0,\"X\",\" \")","v":" "},{"$f":"IF(COUNTIF('Blatt 1'!$O$7:$P$305,AC15)>0,\"X\",\" \")","v":" "},null,2,{"$f":"IF(COUNTIF('Blatt 2'!$AD$7:$AE$305,\"Z20\")>0,\"X\",\" \")","v":" "},{"$f":"IF(COUNTIF('Blatt 2'!$AD$7:$AE$305,\"Z21\")>0,\"X\",\" \")","v":" "},{"$f":"IF(COUNTIF('Blatt 2'!$AD$7:$AE$305,\"Z22\")>0,\"X\",\" \")","v":" "},{"$f":"IF(COUNTIF('Blatt 2'!$AD$7:$AE$305,\"Z23\")>0,\"X\",\" \")","v":" "},{"$f":"IF(COUNTIF('Blatt 2'!$AD$7:$AE$305,\"Z24\")>0,\"X\",\" \")","v":" "},{"$f":"IF(COUNTIF('Blatt 2'!$AD$7:$AE$305,\"Z25\")>0,\"X\",\" \")","v":" "},{"$f":"IF(COUNTIF('Blatt 2'!$AD$7:$AE$305,\"Z26\")>0,\"X\",\" \")","v":" "},{"$f":"IF(COUNTIF('Blatt 2'!$AD$7:$AE$305,\"Z27\")>0,\"X\",\" \")","v":" "},{"$f":"IF(COUNTIF('Blatt 2'!$AD$7:$AE$305,\"Z28\")>0,\"X\",\" \")","v":" "},{"$f":"IF(COUNTIF('Blatt 2'!$AD$7:$AE$305,\"Z29\")>0,\"X\",\" \")","v":" "},{"$f":"IF(COUNTIF('Blatt 2'!$O$7:$P$305,AC15)>0,\"X\",\" \")","v":" "}," ",null,"25ILLW","YLZ","z 03","z03"]
[3,{"$f":"IF(COUNTIF('Blatt 1'!$AD$7:$AE$305,\"Z30\")>0,\"X\",\" \")","v":" "},{"$f":"IF(COUNTIF('Blatt 1'!$AD$7:$AE$305,\"Z31\")>0,\"X\",\" \")","v":" "},{"$f":"IF(COUNTIF('Blatt 1'!$AD$7:$AE$305,\"Z32\")>0,\"X\",\" \")","v":" "},{"$f":"IF(COUNTIF('Blatt 1'!$AD$7:$AE$305,\"Z33\")>0,\"X\",\" \")","v":" "},{"$f":"IF(COUNTIF('Blatt 1'!$AD$7:$AE$305,\"Z34\")>0,\"X\",\" \")","v":" "},{"$f":"IF(COUNTIF('Blatt 1'!$AD$7:$AE$305,\"Z35\")>0,\"X\",\" \")","v":" "},{"$f":"IF(COUNTIF('Blatt 1'!$AD$7:$AE$305,\"Z36\")>0,\"X\",\" \")","v":" "},{"$f":"IF(COUNTIF('Blatt 1'!$AD$7:$AE$305,\"Z37\")>0,\"X\",\" \")","v":" "},{"$f":"IF(COUNTIF('Blatt 1'!$AD$7:$AE$305,\"Z38\")>0,\"X\",\" \")","v":" "},{"$f":"IF(COUNTIF('Blatt 1'!$AD$7:$AE$305,\"Z39\")>0,\"X\",\" \")","v":" "},{"$f":"AC16","v":"YLZ"},null,3,{"$f":"IF(COUNTIF('Blatt 2'!$AD$7:$AE$305,\"Z30\")>0,\"X\",\" \")","v":" "},{"$f":"IF(COUNTIF('Blatt 2'!$AD$7:$AE$305,\"Z31\")>0,\"X\",\" \")","v":" "},{"$f":"IF(COUNTIF('Blatt 2'!$AD$7:$AE$305,\"Z32\")>0,\"X\",\" \")","v":" "},{"$f":"IF(COUNTIF('Blatt 2'!$AD$7:$AE$305,\"Z33\")>0,\"X\",\" \")","v":" "},{"$f":"IF(COUNTIF('Blatt 2'!$AD$7:$AE$305,\"Z34\")>0,\"X\",\" \")","v":" "},{"$f":"IF(COUNTIF('Blatt 2'!$AD$7:$AE$305,\"Z35\")>0,\"X\",\" \")","v":" "},{"$f":"IF(COUNTIF('Blatt 2'!$AD$7:$AE$305,\"Z36\")>0,\"X\",\" \")","v":" "},{"$f":"IF(COUNTIF('Blatt 2'!$AD$7:$AE$305,\"Z37\")>0,\"X\",\" \")","v":" "},{"$f":"IF(COUNTIF('Blatt 2'!$AD$7:$AE$305,\"Z38\")>0,\"X\",\" \")","v":" "},{"$f":"IF(COUNTIF('Blatt 2'!$AD$7:$AE$305,\"Z39\")>0,\"X\",\" \")","v":" "},{"$f":"AC16","v":"YLZ"}," ",null,"JSZ24","FUBZ","z 04","z04"]
[4,{"$f":"IF(COUNTIF('Blatt 1'!$AD$7:$AE$305,\"Z40\")>0,\"X\",\" \")","v":" "},{"$f":"IF(COUNTIF('Blatt 1'!$AD$7:$AE$305,\"Z41\")>0,\"X\",\" \")","v":" "},{"$f":"IF(COUNTIF('Blatt 1'!$AD$7:$AE$305,\"Z42\")>0,\"X\",\" \")","v":" "},{"$f":"IF(COUNTIF('Blatt 1'!$AD$7:$AE$305,\"Z43\")>0,\"X\",\" \")","v":" "},{"$f":"IF(COUNTIF('Blatt 1'!$AD$7:$AE$305,\"Z44\")>0,\"X\",\" \")","v":" "},{"$f":"IF(COUNTIF('Blatt 1'!$AD$7:$AE$305,\"Z45\")>0,\"X\",\" \")","v":" "},{"$f":"IF(COUNTIF('Blatt 1'!$AD$7:$AE$305,\"Z46\")>0,\"X\",\" \")","v":" "},{"$f":"IF(COUNTIF('Blatt 1'!$AD$7:$AE$305,\"Z47\")>0,\"X\",\" \")","v":" "},{"$f":"IF(COUNTIF('Blatt 1'!$AD$7:$AE$305,\"Z48\")>0,\"X\",\" \")","v":" "},{"$f":"IF(COUNTIF('Blatt 1'!$AD$7:$AE$305,\"Z49\")>0,\"X\",\" \")","v":" "},{"$f":"IF(COUNTIF('Blatt 1'!$O$7:$P$305,AC16)>0,\"X\",\" \")","v":" "},null,4,{"$f":"IF(COUNTIF('Blatt 2'!$AD$7:$AE$305,\"Z40\")>0,\"X\",\" \")","v":" "},{"$f":"IF(COUNTIF('Blatt 2'!$AD$7:$AE$305,\"Z41\")>0,\"X\",\" \")","v":" "},{"$f":"IF(COUNTIF('Blatt 2'!$AD$7:$AE$305,\"Z42\")>0,\"X\",\" \")","v":" "},{"$f":"IF(COUNTIF('Blatt 2'!$AD$7:$AE$305,\"Z43\")>0,\"X\",\" \")","v":" "},{"$f":"IF(COUNTIF('Blatt 2'!$AD$7:$AE$305,\"Z44\")>0,\"X\",\" \")","v":" "},{"$f":"IF(COUNTIF('Blatt 2'!$AD$7:$AE$305,\"Z45\")>0,\"X\",\" \")","v":" "},{"$f":"IF(COUNTIF('Blatt 2'!$AD$7:$AE$305,\"Z46\")>0,\"X\",\" \")","v":" "},{"$f":"IF(COUNTIF('Blatt 2'!$AD$7:$AE$305,\"Z47\")>0,\"X\",\" \")","v":" "},{"$f":"IF(COUNTIF('Blatt 2'!$AD$7:$AE$305,\"Z48\")>0,\"X\",\" \")","v":" "},{"$f":"IF(COUNTIF('Blatt 2'!$AD$7:$AE$305,\"Z49\")>0,\"X\",\" \")","v":" "},{"$f":"IF(COUNTIF('Blatt 2'!$O$7:$P$305,AC16)>0,\"X\",\" \")","v":" "},null,null,"140WR","VFDB75","z 05","z05"]
[5,{"$f":"IF(COUNTIF('Blatt 1'!$AD$7:$AE$305,\"Z50\")>0,\"X\",\" \")","v":" "},{"$f":"IF(COUNTIF('Blatt 1'!$AD$7:$AE$305,\"Z51\")>0,\"X\",\" \")","v":" "},{"$f":"IF(COUNTIF('Blatt 1'!$AD$7:$AE$305,\"Z52\")>0,\"X\",\" \")","v":" "},{"$f":"IF(COUNTIF('Blatt 1'!$AD$7:$AE$305,\"Z53\")>0,\"X\",\" \")","v":" "},{"$f":"IF(COUNTIF('Blatt 1'!$AD$7:$AE$305,\"Z54\")>0,\"X\",\" \")","v":" "},{"$f":"IF(COUNTIF('Blatt 1'!$AD$7:$AE$305,\"Z55\")>0,\"X\",\" \")","v":" "},{"$f":"IF(COUNTIF('Blatt 1'!$AD$7:$AE$305,\"Z56\")>0,\"X\",\" \")","v":" "},{"$f":"IF(COUNTIF('Blatt 1'!$AD$7:$AE$305,\"Z57\")>0,\"X\",\" \")","v":" "},{"$f":"IF(COUNTIF('Blatt 1'!$AD$7:$AE$305,\"Z58\")>0,\"X\",\" \")","v":" "},{"$f":"IF(COUNTIF('Blatt 1'!$AD$7:$AE$305,\"Z59\")>0,\"X\",\" \")","v":" "},{"$f":"AC17","v":"FUBZ"},null,5,{"$f":"IF(COUNTIF('Blatt 2'!$AD$7:$AE$305,\"Z50\")>0,\"X\",\" \")","v":" "},{"$f":"IF(COUNTIF('Blatt 2'!$AD$7:$AE$305,\"Z51\")>0,\"X\",\" \")","v":" "},{"$f":"IF(COUNTIF('Blatt 2'!$AD$7:$AE$305,\"Z52\")>0,\"X\",\" \")","v":" "},{"$f":"IF(COUNTIF('Blatt 2'!$AD$7:$AE$305,\"Z53\")>0,\"X\",\" \")","v":" "},{"$f":"IF(COUNTIF('Blatt 2'!$AD$7:$AE$305,\"Z54\")>0,\"X\",\" \")","v":" "},{"$f":"IF(COUNTIF('Blatt 2'!$AD$7:$AE$305,\"Z55\")>0,\"X\",\" \")","v":" "},{"$f":"IF(COUNTIF('Blatt 2'!$AD$7:$AE$305,\"Z56\")>0,\"X\",\" \")","v":" "},{"$f":"IF(COUNTIF('Blatt 2'!$AD$7:$AE$305,\"Z57\")>0,\"X\",\" \")","v":" "},{"$f":"IF(COUNTIF('Blatt 2'!$AD$7:$AE$305,\"Z58\")>0,\"X\",\" \")","v":" "},{"$f":"IF(COUNTIF('Blatt 2'!$AD$7:$AE$305,\"Z59\")>0,\"X\",\" \")","v":" "},{"$f":"AC17","v":"FUBZ"},null,null," - -","75Z21","z 06","z06"]
[6,{"$f":"IF(COUNTIF('Blatt 1'!$AD$7:$AE$305,\"Z60\")>0,\"X\",\" \")","v":" "},{"$f":"IF(COUNTIF('Blatt 1'!$AD$7:$AE$305,\"Z61\")>0,\"X\",\" \")","v":" "},{"$f":"IF(COUNTIF('Blatt 1'!$AD$7:$AE$305,\"Z62\")>0,\"X\",\" \")","v":" "},{"$f":"IF(COUNTIF('Blatt 1'!$AD$7:$AE$305,\"Z63\")>0,\"X\",\" \")","v":" "},{"$f":"IF(COUNTIF('Blatt 1'!$AD$7:$AE$305,\"Z64\")>0,\"X\",\" \")","v":" "},{"$f":"IF(COUNTIF('Blatt 1'!$AD$7:$AE$305,\"Z65\")>0,\"X\",\" \")","v":" "},{"$f":"IF(COUNTIF('Blatt 1'!$AD$7:$AE$305,\"Z66\")>0,\"X\",\" \")","v":" "},{"$f":"IF(COUNTIF('Blatt 1'!$AD$7:$AE$305,\"Z67\")>0,\"X\",\" \")","v":" "},{"$f":"IF(COUNTIF('Blatt 1'!$AD$7:$AE$305,\"Z68\")>0,\"X\",\" \")","v":" "},{"$f":"IF(COUNTIF('Blatt 1'!$AD$7:$AE$305,\"Z69\")>0,\"X\",\" \")","v":" "},{"$f":"IF(COUNTIF('Blatt 1'!$O$7:$P$305,L19)>0,\"X\",\" \")","v":" "},null,6,{"$f":"IF(COUNTIF('Blatt 2'!$AD$7:$AE$305,\"Z60\")>0,\"X\",\" \")","v":" "},{"$f":"IF(COUNTIF('Blatt 2'!$AD$7:$AE$305,\"Z61\")>0,\"X\",\" \")","v":" "},{"$f":"IF(COUNTIF('Blatt 2'!$AD$7:$AE$305,\"Z62\")>0,\"X\",\" \")","v":" "},{"$f":"IF(COUNTIF('Blatt 2'!$AD$7:$AE$305,\"Z63\")>0,\"X\",\" \")","v":" "},{"$f":"IF(COUNTIF('Blatt 2'!$AD$7:$AE$305,\"Z64\")>0,\"X\",\" \")","v":" "},{"$f":"IF(COUNTIF('Blatt 2'!$AD$7:$AE$305,\"Z65\")>0,\"X\",\" \")","v":" "},{"$f":"IF(COUNTIF('Blatt 2'!$AD$7:$AE$305,\"Z66\")>0,\"X\",\" \")","v":" "},{"$f":"IF(COUNTIF('Blatt 2'!$AD$7:$AE$305,\"Z67\")>0,\"X\",\" \")","v":" "},{"$f":"IF(COUNTIF('Blatt 2'!$AD$7:$AE$305,\"Z68\")>0,\"X\",\" \")","v":" "},{"$f":"IF(COUNTIF('Blatt 2'!$AD$7:$AE$305,\"Z69\")>0,\"X\",\" \")","v":" "},{"$f":"IF(COUNTIF('Blatt 2'!$O$7:$P$305,Y19)>0,\"X\",\" \")","v":" "},null,null," - -",null,"z 07","z07"]
[7,{"$f":"IF(COUNTIF('Blatt 1'!$AD$7:$AE$305,\"Z70\")>0,\"X\",\" \")","v":" "},{"$f":"IF(COUNTIF('Blatt 1'!$AD$7:$AE$305,\"Z71\")>0,\"X\",\" \")","v":" "},{"$f":"IF(COUNTIF('Blatt 1'!$AD$7:$AE$305,\"Z72\")>0,\"X\",\" \")","v":" "},{"$f":"IF(COUNTIF('Blatt 1'!$AD$7:$AE$305,\"Z73\")>0,\"X\",\" \")","v":" "},{"$f":"IF(COUNTIF('Blatt 1'!$AD$7:$AE$305,\"Z74\")>0,\"X\",\" \")","v":" "},{"$f":"IF(COUNTIF('Blatt 1'!$AD$7:$AE$305,\"Z75\")>0,\"X\",\" \")","v":" "},{"$f":"IF(COUNTIF('Blatt 1'!$AD$7:$AE$305,\"Z76\")>0,\"X\",\" \")","v":" "},{"$f":"IF(COUNTIF('Blatt 1'!$AD$7:$AE$305,\"Z77\")>0,\"X\",\" \")","v":" "},{"$f":"IF(COUNTIF('Blatt 1'!$AD$7:$AE$305,\"Z78\")>0,\"X\",\" \")","v":" "},{"$f":"IF(COUNTIF('Blatt 1'!$AD$7:$AE$305,\"Z79\")>0,\"X\",\" \")","v":" "},{"$f":"AC18","v":"VFDB75"},null,7,{"$f":"IF(COUNTIF('Blatt 2'!$AD$7:$AE$305,\"Z70\")>0,\"X\",\" \")","v":" "},{"$f":"IF(COUNTIF('Blatt 2'!$AD$7:$AE$305,\"Z71\")>0,\"X\",\" \")","v":" "},{"$f":"IF(COUNTIF('Blatt 2'!$AD$7:$AE$305,\"Z72\")>0,\"X\",\" \")","v":" "},{"$f":"IF(COUNTIF('Blatt 2'!$AD$7:$AE$305,\"Z73\")>0,\"X\",\" \")","v":" "},{"$f":"IF(COUNTIF('Blatt 2'!$AD$7:$AE$305,\"Z74\")>0,\"X\",\" \")","v":" "},{"$f":"IF(COUNTIF('Blatt 2'!$AD$7:$AE$305,\"Z75\")>0,\"X\",\" \")","v":" "},{"$f":"IF(COUNTIF('Blatt 2'!$AD$7:$AE$305,\"Z76\")>0,\"X\",\" \")","v":" "},{"$f":"IF(COUNTIF('Blatt 2'!$AD$7:$AE$305,\"Z77\")>0,\"X\",\" \")","v":" "},{"$f":"IF(COUNTIF('Blatt 2'!$AD$7:$AE$305,\"Z78\")>0,\"X\",\" \")","v":" "},{"$f":"IF(COUNTIF('Blatt 2'!$AD$7:$AE$305,\"Z79\")>0,\"X\",\" \")","v":" "},{"$f":"L21","v":"VFDB75"},null,null," - -",null,"z 08","z08"]
[8,{"$f":"IF(COUNTIF('Blatt 1'!$AD$7:$AE$305,\"Z80\")>0,\"X\",\" \")","v":" "},{"$f":"IF(COUNTIF('Blatt 1'!$AD$7:$AE$305,\"Z81\")>0,\"X\",\" \")","v":" "},{"$f":"IF(COUNTIF('Blatt 1'!$AD$7:$AE$305,\"Z82\")>0,\"X\",\" \")","v":" "},{"$f":"IF(COUNTIF('Blatt 1'!$AD$7:$AE$305,\"Z83\")>0,\"X\",\" \")","v":" "},{"$f":"IF(COUNTIF('Blatt 1'!$AD$7:$AE$305,\"Z84\")>0,\"X\",\" \")","v":" "},{"$f":"IF(COUNTIF('Blatt 1'!$AD$7:$AE$305,\"Z85\")>0,\"X\",\" \")","v":" "},{"$f":"IF(COUNTIF('Blatt 1'!$AD$7:$AE$305,\"Z86\")>0,\"X\",\" \")","v":" "},{"$f":"IF(COUNTIF('Blatt 1'!$AD$7:$AE$305,\"Z87\")>0,\"X\",\" \")","v":" "},{"$f":"IF(COUNTIF('Blatt 1'!$AD$7:$AE$305,\"Z88\")>0,\"X\",\" \")","v":" "},{"$f":"IF(COUNTIF('Blatt 1'!$AD$7:$AE$305,\"Z89\")>0,\"X\",\" \")","v":" "},{"$f":"IF(COUNTIF('Blatt 1'!$O$7:$P$305,L21)>0,\"X\",\" \")","v":" "},null,8,{"$f":"IF(COUNTIF('Blatt 2'!$AD$7:$AE$305,\"Z80\")>0,\"X\",\" \")","v":" "},{"$f":"IF(COUNTIF('Blatt 2'!$AD$7:$AE$305,\"Z81\")>0,\"X\",\" \")","v":" "},{"$f":"IF(COUNTIF('Blatt 2'!$AD$7:$AE$305,\"Z82\")>0,\"X\",\" \")","v":" "},{"$f":"IF(COUNTIF('Blatt 2'!$AD$7:$AE$305,\"Z83\")>0,\"X\",\" \")","v":" "},{"$f":"IF(COUNTIF('Blatt 2'!$AD$7:$AE$305,\"Z84\")>0,\"X\",\" \")","v":" "},{"$f":"IF(COUNTIF('Blatt 2'!$AD$7:$AE$305,\"Z85\")>0,\"X\",\" \")","v":" "},{"$f":"IF(COUNTIF('Blatt 2'!$AD$7:$AE$305,\"Z86\")>0,\"X\",\" \")","v":" "},{"$f":"IF(COUNTIF('Blatt 2'!$AD$7:$AE$305,\"Z87\")>0,\"X\",\" \")","v":" "},{"$f":"IF(COUNTIF('Blatt 2'!$AD$7:$AE$305,\"Z88\")>0,\"X\",\" \")","v":" "},{"$f":"IF(COUNTIF('Blatt 2'!$AD$7:$AE$305,\"Z89\")>0,\"X\",\" \")","v":" "},{"$f":"IF(COUNTIF('Blatt 2'!$O$7:$P$305,Y21)>0,\"X\",\" \")","v":" "},null,null,null,null,"z 09","z09"]
[9,{"$f":"IF(COUNTIF('Blatt 1'!$AD$7:$AE$305,\"Z90\")>0,\"X\",\" \")","v":" "},{"$f":"IF(COUNTIF('Blatt 1'!$AD$7:$AE$305,\"Z91\")>0,\"X\",\" \")","v":" "},{"$f":"IF(COUNTIF('Blatt 1'!$AD$7:$AE$305,\"Z92\")>0,\"X\",\" \")","v":" "},{"$f":"IF(COUNTIF('Blatt 1'!$AD$7:$AE$305,\"Z93\")>0,\"X\",\" \")","v":" "},{"$f":"IF(COUNTIF('Blatt 1'!$AD$7:$AE$305,\"Z94\")>0,\"X\",\" \")","v":" "},{"$f":"IF(COUNTIF('Blatt 1'!$AD$7:$AE$305,\"Z95\")>0,\"X\",\" \")","v":" "},{"$f":"IF(COUNTIF('Blatt 1'!$AD$7:$AE$305,\"Z96\")>0,\"X\",\" \")","v":" "},{"$f":"IF(COUNTIF('Blatt 1'!$AD$7:$AE$305,\"Z97\")>0,\"X\",\" \")","v":" "},{"$f":"IF(COUNTIF('Blatt 1'!$AD$7:$AE$305,\"Z98\")>0,\"X\",\" \")","v":" "},{"$f":"IF(COUNTIF('Blatt 1'!$AD$7:$AE$305,\"Z99\")>0,\"X\",\" \")","v":" "},{"$f":"AB15","v":"GDM"},null,9,{"$f":"IF(COUNTIF('Blatt 2'!$AD$7:$AE$305,\"Z90\")>0,\"X\",\" \")","v":" "},{"$f":"IF(COUNTIF('Blatt 2'!$AD$7:$AE$305,\"Z91\")>0,\"X\",\" \")","v":" "},{"$f":"IF(COUNTIF('Blatt 2'!$AD$7:$AE$305,\"Z92\")>0,\"X\",\" \")","v":" "},{"$f":"IF(COUNTIF('Blatt 2'!$AD$7:$AE$305,\"Z93\")>0,\"X\",\" \")","v":" "},{"$f":"IF(COUNTIF('Blatt 2'!$AD$7:$AE$305,\"Z94\")>0,\"X\",\" \")","v":" "},{"$f":"IF(COUNTIF('Blatt 2'!$AD$7:$AE$305,\"Z95\")>0,\"X\",\" \")","v":" "},{"$f":"IF(COUNTIF('Blatt 2'!$AD$7:$AE$305,\"Z96\")>0,\"X\",\" \")","v":" "},{"$f":"IF(COUNTIF('Blatt 2'!$AD$7:$AE$305,\"Z97\")>0,\"X\",\" \")","v":" "},{"$f":"IF(COUNTIF('Blatt 2'!$AD$7:$AE$305,\"Z98\")>0,\"X\",\" \")","v":" "},{"$f":"IF(COUNTIF('Blatt 2'!$AD$7:$AE$305,\"Z99\")>0,\"X\",\" \")","v":" "},{"$f":"L23","v":"GDM"},null,null,null,null,"z 10","z10"]
[null,{"$f":"AB17","v":"JSZ24"},null,{"$f":"AB16","v":"25ILLW"},null,{"$f":"AB18","v":"140WR"},null,{"$f":"AB19","v":" - -"},null,{"$f":"AC19","v":"75Z21"},null,{"$f":"IF(COUNTIF('Blatt 1'!$O$7:$P$305,L23)>0,\"X\",\" \")","v":" "},null,null,{"$f":"B24","v":"JSZ24"},null,{"$f":"AB16","v":"25ILLW"},null,{"$f":"F24","v":"140WR"},null,{"$f":"H24","v":" - -"},null,{"$f":"J24","v":"75Z21"},null,{"$f":"IF(COUNTIF('Blatt 2'!$O$7:$P$305,Y23)>0,\"X\",\" \")","v":" "},null,null,null,null,"z 11","z11"]
[null,{"$f":"IF(COUNTIF('Blatt 1'!$AD$7:$AE$305,B24)>0,\"X\",\" \")","v":" "},null,{"$f":"IF(COUNTIF('Blatt 1'!$AD$7:$AE$305,D24)>0,\"X\",\" \")","v":" "},null,{"$f":"IF(COUNTIF('Blatt 1'!$AD$7:$AE$305,F24)>0,\"X\",\" \")","v":" "},null,{"$f":"IF(COUNTIF('Blatt 1'!$AD$7:$AE$305,H24)>0,\"X\",\" \")","v":" "},null,{"$f":"IF(COUNTIF('Blatt 1'!$AD$7:$AE$305,J24)>0,\"X\",\" \")","v":" "},null,{"$f":"AB14","v":"WWFF"},null,null,{"$f":"IF(COUNTIF('Blatt 2'!$AD$7:$AE$305,O24)>0,\"X\",\" \")","v":" "},null,{"$f":"IF(COUNTIF('Blatt 2'!$AD$7:$AE$305,Q24)>0,\"X\",\" \")","v":" "},null,{"$f":"IF(COUNTIF('Blatt 2'!$AD$7:$AE$305,S24)>0,\"X\",\" \")","v":" "},null,{"$f":"IF(COUNTIF('Blatt 2'!$AD$7:$AE$305,U24)>0,\"X\",\" \")","v":" "},null,{"$f":"IF(COUNTIF('Blatt 2'!$AD$7:$AE$305,W24)>0,\"X\",\" \")","v":" "},null,{"$f":"L25","v":"WWFF"},null,null,null,null,"z 12","z12"]
[null,{"$f":"AB19","v":" - -"},null,null,null,null,null," ",null,null,null,{"$f":"IF(COUNTIF('Blatt 1'!$O$7:$P$305,L25)>0,\"X\",\" \")","v":" "},null,null,{"$f":"AB19","v":" - -"},null,null,null,null,null," ",null,null,null,{"$f":"IF(COUNTIF('Blatt 2'!$O$7:$P$305,Y25)>0,\"X\",\" \")","v":" "},null,null,null,null,"z 13","z13"]
[null,{"$f":"IF(COUNTIF('Blatt 1'!$AD$7:$AE$305,B26)>0,\"X\",\" \")","v":" "},null,{"$f":"IF(COUNTIF('Blatt 1'!$AD$7:$AE$305,D26)>0,\"X\",\" \")","v":" "},null,{"$f":"IF(COUNTIF('Blatt 1'!$AD$7:$AE$305,F26)>0,\"X\",\" \")","v":" "},null,{"$f":"IF(COUNTIF('Blatt 1'!$AD$7:$AE$305,H29)>0,\"X\",\" \")","v":" "},null,null,null,null,null,null,{"$f":"IF(COUNTIF('Blatt 2'!$AD$7:$AE$305,O26)>0,\"X\",\" \")","v":" "},null,{"$f":"IF(COUNTIF('Blatt 2'!$AD$7:$AE$305,Q26)>0,\"X\",\" \")","v":" "},null,{"$f":"IF(COUNTIF('Blatt 2'!$AD$7:$AE$305,S26)>0,\"X\",\" \")","v":" "},null,{"$f":"IF(COUNTIF('Blatt 2'!$AD$7:$AE$305,U29)>0,\"X\",\" \")","v":" "},null,null,null,null,null,null,null,null,"z 14","z14"]
[null,null,null,null,null,null,null,null,null,null,null,null,null,null,null,null,null,null,null,null,null,null," ",null,null,null,null,null,null,"z 15","z15"]
["Locator-Großfelder",null,null,null,null,null,null,null,null,null,null,null,null,null,null,null,null,null,null,null,null,null,null,null,"Nur für Teil 3 und 4",null,null,null,null,"z 16","z16"]
["Contest-Teil ",null,null,null,null,{"$f":"cont1","v":1},null,"Grossfelder :",null,null,null,0,0,null,null,null,null,null,null,null,null,null,null,null,null,null,null,null,null,"z 17","z17"]
[null,null,null,null,null,null,null,null,null,null,null,null,null,null,null,null,null,null,null,null,null,null,null,null,null,null,null,null,null,"z 18","z18"]
[null,null,null,null,null,null,null,null,null,null,null,null,null,null,null,null,null,null,null,null,null,null,null,null,null,null,null,null,null,"z 19","z19"]
[null,null,null,null,null,null,null,null,null,null,null,null,null,null,null,null,null,null,null,null,null,null,null,null,null,null,null,null,null,"z 20","z20"]
["Contest-Teil ",null,null,null,null,{"$f":"cont2","v":2},null,"Grossfelder :",null,null,null,0,0,null,null,null,null,null,null,null,null,null,null,null,null,null,null,null,null,"z 21","z21"]
[null,null,null,null,null,null,null,null,null,null,null,null,null,null,null,null,null,null,null,null,null,null,null,null,null,null,null,null,null,"z 22","z22"]
[null,null,null,null,null,null,null,null,null,null,null,null,null,null,null,null,null,null,null,null,null,null,null,null,null,null,null,null,null,"z 23","z23"]
[null,null,null,null,null,null,null,null,null,null,null,null,null,null,null,null,null,null,null,null,null,null,null,null,null,null,null,null,null,"z 24","z24"]
[null,null,null,null,null,null,null,null,null,null,null,null,null,null,null,null,null,null,null,null,null,null,null,null,null,null,null,null,null,"z 25","z25"]
[null,"Ich bestätige, dass die Lizenzbestimmungen und die Wettbewerbsregeln eingehalten wurden.",null,null,null,null,null,null,null,null,null,null,null,null,null,null,null,null,null,null,null,null,null,null,null,null,null,null,null,"z 26","z26"]
[null,"Unterschrift :",null,null,null,null," ",null,null,null,null,null,null,null,null,null,null,null,null,null,null,null,null,null,null,null,null,null,null,"z 27","z27"]
[null,null,null,null,null,null,null,null,null,null,null,null,null,null,null,null,null,null,null,null,null,null,null,null,null,null,null,null,null,"z 28","z28"]
[null,null,null,null,null,null,null,null,null,null,null,null,null,null,null,null,null,null,null,null,null,null,null,null,null,null,null,null,null,"z 29","z29"]
[null,null,null,null,null,null,null,null,null,null,null,null,null,null,null,null,null,null,null,null,null,null,null,null,null,null,null,null,null,"z 30","z30"]
[null,null,null,null,null,null,null,null,null,null,null,null,null,null,null,null,null,null,null,null,null,null,null,null,null,null,null,null,null,"z 31","z31"]
[null,null,null,null,null,null,null,null,null,null,null,null,null,null,null,null,null,null,null,null,null,null,null,null,null,null,null,null,null,"z 32","z32"]
[null,null,null,null,null,null,null,null,null,null,null,null,null,null,null,null,null,null,null,null,null,null,null,null,null,null,null,null,null,"z 33","z33"]
[null,null,null,null,null,null,null,null,null,null,null,null,null,null,null,null,null,null,null,null,null,null,null,null,null,null,null,null,null,"z 34","z34"]
[null,null,null,null,null,null,null,null,null,null,null,null,null,null,null,null,null,null,null,null,null,null,null,null,null,null,null,null,null,"z 35","z35"]
[null,null,null,null,null,null,null,null,null,null,null,null,null,null,null,null,null,null,null,null,null,null,null,null,null,null,null,null,null,"z 36","z36"]
[null,null,null,null,null,null,null,null,null,null,null,null,null,null,null,null,null,null,null,null,null,null,null,null,null,null,null,null,null,"z 37","z37"]
[null,null,null,null,null,null,null,null,null,null,null,null,null,null,null,null,null,null,null,null,null,null,null,null,null,null,null,null,null,"z 38","z38"]
[null,null,null,null,null,null,null,null,null,null,null,null,null,null,null,null,null,null,null,null,null,null,null,null,null,null,null,null,null,"z 39","z39"]
[null,null,null,null,null,null,null,null,null,null,null,null,null,null,null,null,null,null,null,null,null,null,null,null,null,null,null,null,null,"z 40","z40"]
[null,null,null,null,null,null,null,null,null,null,null,null,null,null,null,null,null,null,null,null,null,null,null,null,null,null,null,null,null,"z 41","z41"]
[null,null,null,null,null,null,null,null,null,null,null,null,null,null,null,null,null,null,null,null,null,null,null,null,null,null,null,null,null,"z 42","z42"]
[null,null,null,null,null,null,null,null,null,null,null,null,null,null,null,null,null,null,null,null,null,null,null,null,null,null,null,null,null,"z 43","z43"]
[null,null,null,null,null,null,null,null,null,null,null,null,null,null,null,null,null,null,null,null,null,null,null,null,null,null,null,null,null,"z 44","z44"]
[null,null,null,null,null,null,null,null,null,null,null,null,null,null,null,null,null,null,null,null,null,null,null,null,null,null,null,null,null,"z 45","z45"]
[null,null,null,null,null,null,null,null,null,null,null,null,null,null,null,null,null,null,null,null,null,null,null,null,null,null,null,null,null,"z 46","z46"]
[null,null,null,null,null,null,null,null,null,null,null,null,null,null,null,null,null,null,null,null,null,null,null,null,null,null,null,null,null,"z 47","z47"]
[null,null,null,null,null,null,null,null,null,null,null,null,null,null,null,null,null,null,null,null,null,null,null,null,null,null,null,null,null,"z 48","z48"]
[null,null,null,null,null,null,null,null,null,null,null,null,null,null,null,null,null,null,null,null,null,null,null,null,null,null,null,null,null,"z 49","z49"]
[null,null,null,null,null,null,null,null,null,null,null,null,null,null,null,null,null,null,null,null,null,null,null,null,null,null,null,null,null,"z 50","z50"]
[null,null,null,null,null,null,null,null,null,null,null,null,null,null,null,null,null,null,null,null,null,null,null,null,null,null,null,null,null,"z 51","z51"]
[null,null,null,null,null,null,null,null,null,null,null,null,null,null,null,null,null,null,null,null,null,null,null,null,null,null,null,null,null,"z 52","z52"]
[null,null,null,null,null,null,null,null,null,null,null,null,null,null,null,null,null,null,null,null,null,null,null,null,null,null,null,null,null,"z 53","z53"]
[null,null,null,null,null,null,null,null,null,null,null,null,null,null,null,null,null,null,null,null,null,null,null,null,null,null,null,null,null,"z 54","z54"]
[null,null,null,null,null,null,null,null,null,null,null,null,null,null,null,null,null,null,null,null,null,null,null,null,null,null,null,null,null,"z 55","z55"]
[null,null,null,null,null,null,null,null,null,null,null,null,null,null,null,null,null,null,null,null,null,null,null,null,null,null,null,null,null,"z 56","z56"]
[null,null,null,null,null,null,null,null,null,null,null,null,null,null,null,null,null,null,null,null,null,null,null,null,null,null,null,null,null,"z 57","z57"]
[null,null,null,null,null,null,null,null,null,null,null,null,null,null,null,null,null,null,null,null,null,null,null,null,null,null,null,null,null,"z 58","z58"]
[null,null,null,null,null,null,null,null,null,null,null,null,null,null,null,null,null,null,null,null,null,null,null,null,null,null,null,null,null,"z 59","z59"]
[null,null,null,null,null,null,null,null,null,null,null,null,null,null,null,null,null,null,null,null,null,null,null,null,null,null,null,null,null,"z 60","z60"]
[null,null,null,null,null,null,null,null,null,null,null,null,null,null,null,null,null,null,null,null,null,null,null,null,null,null,null,null,null,"z 61","z61"]
[null,null,null,null,null,null,null,null,null,null,null,null,null,null,null,null,null,null,null,null,null,null,null,null,null,null,null,null,null,"z 62","z62"]
[null,null,null,null,null,null,null,null,null,null,null,null,null,null,null,null,null,null,null,null,null,null,null,null,null,null,null,null,null,"z 63","z63"]
[null,null,null,null,null,null,null,null,null,null,null,null,null,null,null,null,null,null,null,null,null,null,null,null,null,null,null,null,null,"z 64","z64"]
[null,null,null,null,null,null,null,null,null,null,null,null,null,null,null,null,null,null,null,null,null,null,null,null,null,null,null,null,null,"z 65","z65"]
[null,null,null,null,null,null,null,null,null,null,null,null,null,null,null,null,null,null,null,null,null,null,null,null,null,null,null,null,null,"z 66","z66"]
[null,null,null,null,null,null,null,null,null,null,null,null,null,null,null,null,null,null,null,null,null,null,null,null,null,null,null,null,null,"z 67","z67"]
[null,null,null,null,null,null,null,null,null,null,null,null,null,null,null,null,null,null,null,null,null,null,null,null,null,null,null,null,null,"z 68","z68"]
[null,null,null,null,null,null,null,null,null,null,null,null,null,null,null,null,null,null,null,null,null,null,null,null,null,null,null,null,null,"z 69","z69"]
[null,null,null,null,null,null,null,null,null,null,null,null,null,null,null,null,null,null,null,null,null,null,null,null,null,null,null,null,null,"z 70","z70"]
[null,null,null,null,null,null,null,null,null,null,null,null,null,null,null,null,null,null,null,null,null,null,null,null,null,null,null,null,null,"z 71","z71"]
[null,null,null,null,null,null,null,null,null,null,null,null,null,null,null,null,null,null,null,null,null,null,null,null,null,null,null,null,null,"z 72","z72"]
[null,null,null,null,null,null,null,null,null,null,null,null,null,null,null,null,null,null,null,null,null,null,null,null,null,null,null,null,null,"z 73","z73"]
[null,null,null,null,null,null,null,null,null,null,null,null,null,null,null,null,null,null,null,null,null,null,null,null,null,null,null,null,null,"z 74","z74"]
[null,null,null,null,null,null,null,null,null,null,null,null,null,null,null,null,null,null,null,null,null,null,null,null,null,null,null,null,null,"z 75","z75"]
[null,null,null,null,null,null,null,null,null,null,null,null,null,null,null,null,null,null,null,null,null,null,null,null,null,null,null,null,null,"z 76","z76"]
[null,null,null,null,null,null,null,null,null,null,null,null,null,null,null,null,null,null,null,null,null,null,null,null,null,null,null,null,null,"z 77","z77"]
[null,null,null,null,null,null,null,null,null,null,null,null,null,null,null,null,null,null,null,null,null,null,null,null,null,null,null,null,null,"z 78","z78"]
[null,null,null,null,null,null,null,null,null,null,null,null,null,null,null,null,null,null,null,null,null,null,null,null,null,null,null,null,null,"z 79","z79"]
[null,null,null,null,null,null,null,null,null,null,null,null,null,null,null,null,null,null,null,null,null,null,null,null,null,null,null,null,null,"z 80","z80"]
[null,null,null,null,null,null,null,null,null,null,null,null,null,null,null,null,null,null,null,null,null,null,null,null,null,null,null,null,null,"z 81","z81"]
[null,null,null,null,null,null,null,null,null,null,null,null,null,null,null,null,null,null,null,null,null,null,null,null,null,null,null,null,null,"z 82","z82"]
[null,null,null,null,null,null,null,null,null,null,null,null,null,null,null,null,null,null,null,null,null,null,null,null,null,null,null,null,null,"z 83","z83"]
[null,null,null,null,null,null,null,null,null,null,null,null,null,null,null,null,null,null,null,null,null,null,null,null,null,null,null,null,null,"z 84","z84"]
[null,null,null,null,null,null,null,null,null,null,null,null,null,null,null,null,null,null,null,null,null,null,null,null,null,null,null,null,null,"z 85","z85"]
[null,null,null,null,null,null,null,null,null,null,null,null,null,null,null,null,null,null,null,null,null,null,null,null,null,null,null,null,null,"z 86","z86"]
[null,null,null,null,null,null,null,null,null,null,null,null,null,null,null,null,null,null,null,null,null,null,null,null,null,null,null,null,null,"z 87","z87"]
[null,null,null,null,null,null,null,null,null,null,null,null,null,null,null,null,null,null,null,null,null,null,null,null,null,null,null,null,null,"z 88","z88"]
[null,null,null,null,null,null,null,null,null,null,null,null,null,null,null,null,null,null,null,null,null,null,null,null,null,null,null,null,null,"z 89","z89"]
[null,null,null,null,null,null,null,null,null,null,null,null,null,null,null,null,null,null,null,null,null,null,null,null,null,null,null,null,null,"z 90","z90"]
[null,null,null,null,null,null,null,null,null,null,null,null,null,null,null,null,null,null,null,null,null,null,null,null,null,null,null,null,null,"z 91","z91"]
[null,null,null,null,null,null,null,null,null,null,null,null,null,null,null,null,null,null,null,null,null,null,null,null,null,null,null,null,null,"z 92","z92"]
[null,null,null,null,null,null,null,null,null,null,null,null,null,null,null,null,null,null,null,null,null,null,null,null,null,null,null,null,null,"z 93","z93"]
[null,null,null,null,null,null,null,null,null,null,null,null,null,null,null,null,null,null,null,null,null,null,null,null,null,null,null,null,null,"z 94","z94"]
[null,null,null,null,null,null,null,null,null,null,null,null,null,null,null,null,null,null,null,null,null,null,null,null,null,null,null,null,null,"Z 95","z95"]
[null,null,null,null,null,null,null,null,null,null,null,null,null,null,null,null,null,null,null,null,null,null,null,null,null,null,null,null,null,{"$f":"AB14","v":"WWFF"},{"$f":"AB17","v":"JSZ24"}]
[null,null,null,null,null,null,null,null,null,null,null,null,null,null,null,null,null,null,null,null,null,null,null,null,null,null,null,null,null,{"$f":"AB15","v":"GDM"},{"$f":"AB18","v":"140WR"}]
[null,null,null,null,null,null,null,null,null,null,null,null,null,null,null,null,null,null,null,null,null,null,null,null,null,null,null,null,null,{"$f":"AB16","v":"25ILLW"},{"$f":"AC17","v":"FUBZ"}]
[null,null,null,null,null,null,null,null,null,null,null,null,null,null,null,null,null,null,null,null,null,null,null,null,null,null,null,null,null,{"$f":"AC14","v":"VFDB"},{"$f":"AC15","v":"VFDBHQ"}]
[null,null,null,null,null,null,null,null,null,null,null,null,null,null,null,null,null,null,null,null,null,null,null,null,null,null,null,null,null,"YLZ",{"$f":"AC18","v":"VFDB75"}]
[null,null,null,null,null,null,null,null,null,null,null,null,null,null,null,null,null,null,null,null,null,null,null,null,null,null,null,null,null," - -"," - "]

{"sheet":"Blatt 1","index":2,"n_rows":305,"n_cols":34,"rows_kept":305,"cut":false,"hidden":false,"merged":[]}
[null,null,null,null,"VFDB-Contest Teil ",1,null,null,null,null,null,null,"Nach dem letzten Eintrag betätigen ->",null,null,null,null,null,null,null,null,null,null,null,null,null,null,null,null,{"$f":"cont1","v":1}]
[null,"          Call der Station  : ",null,null,{"$f":"call","v":" "},null,null,null,null,"Datum : ",{"$f":"date1","v":"2025-02-08"},null,null,null,null,null,null,null,null,null,null,null,null,null,null,null,null,null,null,null,"Datum : "]
[null,"          Wertungsgruppe : ",null,null,{"$f":"gruppe","v":"SWL"},null,null,null,null,"Band : ",{"$f":"band1","v":"80 m"},null,"Mode :",{"$f":"mode1","v":"SSB"},null,null,null,null,null,null,null,null,null,null,null,null,null,null,null,null,"Band : "]
[]
["Nr.","Date","UTC","CALL1","RST","DOK","LOC ","CALL2","RST","DOK","LOC","QSO","Multi","Bemerkung",null,null,"beide Spalten",null,null,null,"M1",null,"M2",null,"eig.DOK",null,"UTC","CALL1","CALL2","DOK","DOK"]
[null,null,null,null," "," ","Gr.Feld",null,null," ","Gr.Feld","Pkt","Pkt",null,null,null,null,null,"SDOK?","Pkte","Z=Ja","Anzahl","Z=Ja","Anzahl",null,null,null,null,null," "," "]
[1,{"$f":"K2","v":"2025-02-08"},null,null,null,null,null,null,null,null,null,{"$f":"IF(D7=\"\",\"\",IF(Q7+T7>5,10,Y7))","v":""},{"$f":"IF(L7=\"\",\"\",IF(V7=1,1,0)+IF(X7=1,1,0))","v":""},null,{"$f":"TEXT(F7,\"\")","v":""},{"$f":"TEXT(J7,\"\")","v":""},{"$f":"IF(R7>0,5,0)","v":0},{"$f":"COUNTIF(VFDBDOK,F7)+COUNTIF(VFDBDOK,J7)","v":0},0,{"$f":"IF((U7+W7)>0,5,1)","v":1},{"$f":"COUNTIF(ZDOK,O:O)","v":0},{"$f":"IF(U7=1,COUNTIF($O$7:$P7,O7),7)","v":7},{"$f":"COUNTIF(ZDOK,P7)","v":0},{"$f":"IF(W7=1,COUNTIF($O$7:$P7,P7),7)","v":7},{"$f":"IF(O7=dok,0,(IF(P7=dok,0,T7)))","v":1},null,{"$f":"IF(AG7=0,\"\",IF(AG7=5,AG7,CONCATENATE(LEFT(AG7,2),\":\",RIGHT(AG7,2))))","v":""},{"$f":"UPPER(D7)","v":""},{"$f":"UPPER(H7)","v":""},{"$f":"UPPER(SUBSTITUTE(O7,\" \",\"\",1))","v":""},{"$f":"UPPER(SUBSTITUTE(P7,\" \",\"\",1))","v":""},null,{"$f":"IF(AH7=\":\",IF(LEN(C7)=4,CONCATENATE(\"0\",LEFT(C7,1),RIGHT(C7,2)),C7),IF(LEN(C7)=3,CONCATENATE(\"0\",C7),C7))","v":0},{"$f":"IF(LEN(C7)=4,MID(C7,2,1),MID(C7,3,1))","v":""}]
[2,{"$f":"IF(D8=\"\",\"\",date1)","v":""},null,"",null,"",null,"",null,"",null,{"$f":"IF(D8=\"\",\"\",IF(Q8+T8>5,10,Y8))","v":""},"",null,"","",{"$f":"IF(R8>0,5,0)","v":0},{"$f":"COUNTIF(VFDBDOK,F8)+COUNTIF(VFDBDOK,J8)","v":0},0,{"$f":"IF((U8+W8)>0,5,1)","v":1},0,{"$f":"IF(U8=1,COUNTIF($O$7:$P8,O8),7)","v":7},{"$f":"COUNTIF(ZDOK,P8)","v":0},{"$f":"IF(W8=1,COUNTIF($O$7:$P8,P8),7)","v":7},{"$f":"IF(O8=dok,0,(IF(P8=dok,0,T8)))","v":1},null,{"$f":"IF(AG8=0,\"\",IF(AG8=5,AG8,CONCATENATE(LEFT(AG8,2),\":\",RIGHT(AG8,2))))","v":""},{"$f":"UPPER(D8)","v":""},{"$f":"UPPER(H8)","v":""},{"$f":"UPPER(SUBSTITUTE(O8,\" \",\"\",1))","v":""},{"$f":"UPPER(SUBSTITUTE(P8,\" \",\"\",1))","v":""},null,{"$f":"IF(AH8=\":\",IF(LEN(C8)=4,CONCATENATE(\"0\",LEFT(C8,1),RIGHT(C8,2)),C8),IF(LEN(C8)=3,CONCATENATE(\"0\",C8),C8))","v":0},{"$f":"IF(LEN(C8)=4,MID(C8,2,1),MID(C8,3,1))","v":""}]
[3,"",null,"",null,"",null,"",null,"",null,"","",null,"","",0,0,0,1,0,{"$f":"IF(U9=1,COUNTIF($O$7:$P9,O9),7)","v":7},{"$f":"COUNTIF(ZDOK,P9)","v":0},{"$f":"IF(W9=1,COUNTIF($O$7:$P9,P9),7)","v":7},1,null,"","","","","",null,0,""]
[4,"",null,"",null,"",null,"",null,"",null,"","",null,"","",0,0,0,1,0,{"$f":"IF(U10=1,COUNTIF($O$7:$P10,O10),7)","v":7},{"$f":"COUNTIF(ZDOK,P10)","v":0},{"$f":"IF(W10=1,COUNTIF($O$7:$P10,P10),7)","v":7},1,null,"","","","","",null,0,""]
[5,"",null,"",null,"",null,"",null,"",null,"","",null,"","",0,0,0,1,0,{"$f":"IF(U11=1,COUNTIF($O$7:$P11,O11),7)","v":7},{"$f":"COUNTIF(ZDOK,P11)","v":0},{"$f":"IF(W11=1,COUNTIF($O$7:$P11,P11),7)","v":7},1,null,"","","","","",null,0,""]
[6,"",null,"",null,"",null,"",null,"",null,"","",null,"","",0,0,0,1,0,{"$f":"IF(U12=1,COUNTIF($O$7:$P12,O12),7)","v":7},0,{"$f":"IF(W12=1,COUNTIF($O$7:$P12,P12),7)","v":7},1,null,"","","","","",null,{"$f":"IF(AH12=\":\",IF(LEN(C12)=4,CONCATENATE(\"0\",LEFT(C12,1),RIGHT(C12,2)),C12),IF(LEN(C12)=3,CONCATENATE(\"0\",C12),C12))","v":0},{"$f":"IF(LEN(C12)=4,MID(C12,2,1),MID(C12,3,1))","v":""}]
[7,"",null,"",null,"",null,"",null,"",null,"","",null,"","",0,0,0,1,0,{"$f":"IF(U13=1,COUNTIF($O$7:$P13,O13),7)","v":7},0,{"$f":"IF(W13=1,COUNTIF($O$7:$P13,P13),7)","v":7},1,null,"","","","","",null,0,""]
[8,"",null,"",null,"",null,"",null,"",null,"","",null,"","",0,0,0,1,0,{"$f":"IF(U14=1,COUNTIF($O$7:$P14,O14),7)","v":7},0,{"$f":"IF(W14=1,COUNTIF($O$7:$P14,P14),7)","v":7},1,null,"","","","","",null,0,""]
[9,"",null,"",null,"",null,"",null,"",null,"","",null,"","",0,0,0,1,0,{"$f":"IF(U15=1,COUNTIF($O$7:$P15,O15),7)","v":7},0,{"$f":"IF(W15=1,COUNTIF($O$7:$P15,P15),7)","v":7},1,null,"","","","","",null,0,""]
[10,"",null,"",null,"",null,"",null,"",null,"","",null,"","",0,0,0,1,0,{"$f":"IF(U16=1,COUNTIF($O$7:$P16,O16),7)","v":7},0,{"$f":"IF(W16=1,COUNTIF($O$7:$P16,P16),7)","v":7},1,null,"","","","","",null,0,""]
[11,"",null,"",null,"",null,"",null,"",null,"","",null,"","",0,0,0,1,0,{"$f":"IF(U17=1,COUNTIF($O$7:$P17,O17),7)","v":7},0,{"$f":"IF(W17=1,COUNTIF($O$7:$P17,P17),7)","v":7},1,null,"","","","","",null,0,""]
[12,"",null,"",null,"",null,"",null,"",null,"","",null,"","",0,0,0,1,0,{"$f":"IF(U18=1,COUNTIF($O$7:$P18,O18),7)","v":7},0,{"$f":"IF(W18=1,COUNTIF($O$7:$P18,P18),7)","v":7},1,null,"","","","","",null,0,""]
[13,"",null,"",null,"",null,"",null,"",null,"","",null,"","",0,0,0,1,0,{"$f":"IF(U19=1,COUNTIF($O$7:$P19,O19),7)","v":7},0,{"$f":"IF(W19=1,COUNTIF($O$7:$P19,P19),7)","v":7},1,null,"","","","","",null,0,""]
[14,"",null,"",null,"",null,"",null,"",null,"","",null,"","",0,0,0,1,0,{"$f":"IF(U20=1,COUNTIF($O$7:$P20,O20),7)","v":7},0,{"$f":"IF(W20=1,COUNTIF($O$7:$P20,P20),7)","v":7},1,null,"","","","","",null,0,""]
[15,"",null,"",null,"",null,"",null,"",null,"","",null,"","",0,0,0,1,0,{"$f":"IF(U21=1,COUNTIF($O$7:$P21,O21),7)","v":7},0,{"$f":"IF(W21=1,COUNTIF($O$7:$P21,P21),7)","v":7},1,null,"","","","","",null,0,""]
[16,"",null,"",null,"",null,"",null,"",null,"","",null,"","",0,0,0,1,0,{"$f":"IF(U22=1,COUNTIF($O$7:$P22,O22),7)","v":7},0,{"$f":"IF(W22=1,COUNTIF($O$7:$P22,P22),7)","v":7},1,null,"","","","","",null,0,""]
[17,"",null,"",null,"",null,"",null,"",null,"","",null,"","",0,0,0,1,0,{"$f":"IF(U23=1,COUNTIF($O$7:$P23,O23),7)","v":7},0,{"$f":"IF(W23=1,COUNTIF($O$7:$P23,P23),7)","v":7},1,null,"","","","","",null,0,""]
[18,"",null,"",null,"",null,"",null,"",null,"","",null,"","",0,0,0,1,0,{"$f":"IF(U24=1,COUNTIF($O$7:$P24,O24),7)","v":7},0,{"$f":"IF(W24=1,COUNTIF($O$7:$P24,P24),7)","v":7},1,null,"","","","","",null,0,""]
[19,"",null,"",null,"",null,"",null,"",null,"","",null,"","",0,0,0,1,0,{"$f":"IF(U25=1,COUNTIF($O$7:$P25,O25),7)","v":7},0,{"$f":"IF(W25=1,COUNTIF($O$7:$P25,P25),7)","v":7},1,null,"","","","","",null,0,""]
[20,"",null,"",null,"",null,"",null,"",null,"","",null,"","",0,0,0,1,0,{"$f":"IF(U26=1,COUNTIF($O$7:$P26,O26),7)","v":7},0,{"$f":"IF(W26=1,COUNTIF($O$7:$P26,P26),7)","v":7},1,null,"","","","","",null,0,""]
[21,"",null,"",null,"",null,"",null,"",null,"","",null,"","",0,0,0,1,0,{"$f":"IF(U27=1,COUNTIF($O$7:$P27,O27),7)","v":7},0,{"$f":"IF(W27=1,COUNTIF($O$7:$P27,P27),7)","v":7},1,null,"","","","","",null,0,""]
[22,"",null,"",null,"",null,"",null,"",null,"","",null,"","",0,0,0,1,0,{"$f":"IF(U28=1,COUNTIF($O$7:$P28,O28),7)","v":7},0,{"$f":"IF(W28=1,COUNTIF($O$7:$P28,P28),7)","v":7},1,null,"","","","","",null,0,""]
[23,"",null,"",null,"",null,"",null,"",null,"","",null,{"$f":"TEXT(F29,\"\")","v":""},{"$f":"TEXT(J29,\"\")","v":""},0,0,0,1,0,{"$f":"IF(U29=1,COUNTIF($O$7:$P29,O29),7)","v":7},0,{"$f":"IF(W29=1,COUNTIF($O$7:$P29,P29),7)","v":7},1,null,"","","","","",null,0,""]
[24,"",null,"",null,"",null,"",null,"",null,"","",null,"","",0,0,0,1,0,{"$f":"IF(U30=1,COUNTIF($O$7:$P30,O30),7)","v":7},0,{"$f":"IF(W30=1,COUNTIF($O$7:$P30,P30),7)","v":7},1,null,"","","","","",null,0,""]
[25,"",null,"",null,"",null,"",null,"",null,"","",null,"","",0,0,0,1,0,{"$f":"IF(U31=1,COUNTIF($O$7:$P31,O31),7)","v":7},0,{"$f":"IF(W31=1,COUNTIF($O$7:$P31,P31),7)","v":7},1,null,"","","","","",null,0,""]
[26,"",null,"",null,"",null,"",null,"",null,"","",null,"","",0,0,0,1,0,{"$f":"IF(U32=1,COUNTIF($O$7:$P32,O32),7)","v":7},0,{"$f":"IF(W32=1,COUNTIF($O$7:$P32,P32),7)","v":7},1,null,"","","","","",null,0,""]
[27,"",null,"",null,"",null,"",null,"",null,"","",null,"","",0,0,0,1,0,{"$f":"IF(U33=1,COUNTIF($O$7:$P33,O33),7)","v":7},0,{"$f":"IF(W33=1,COUNTIF($O$7:$P33,P33),7)","v":7},1,null,"","","","","",null,0,""]
[28,"",null,"",null,"",null,"",null,"",null,"","",null,"","",0,0,0,1,0,{"$f":"IF(U34=1,COUNTIF($O$7:$P34,O34),7)","v":7},0,{"$f":"IF(W34=1,COUNTIF($O$7:$P34,P34),7)","v":7},1,null,"","","","","",null,0,""]
[29,"",null,"",null,"",null,"",null,"",null,"","",null,"","",0,0,0,1,0,{"$f":"IF(U35=1,COUNTIF($O$7:$P35,O35),7)","v":7},0,{"$f":"IF(W35=1,COUNTIF($O$7:$P35,P35),7)","v":7},1,null,"","","","","",null,0,""]
[30,"",null,"",null,"",null,"",null,"",null,"","",null,"","",0,0,0,1,0,{"$f":"IF(U36=1,COUNTIF($O$7:$P36,O36),7)","v":7},0,{"$f":"IF(W36=1,COUNTIF($O$7:$P36,P36),7)","v":7},1,null,"","","","","",null,0,""]
[31,"",null,"",null,"",null,"",null,"",null,"","",null,"","",0,0,0,1,0,{"$f":"IF(U37=1,COUNTIF($O$7:$P37,O37),7)","v":7},0,{"$f":"IF(W37=1,COUNTIF($O$7:$P37,P37),7)","v":7},1,null,"","","","","",null,0,""]
[32,"",null,"",null,"",null,"",null,"",null,"","",null,"","",0,0,0,1,0,{"$f":"IF(U38=1,COUNTIF($O$7:$P38,O38),7)","v":7},0,{"$f":"IF(W38=1,COUNTIF($O$7:$P38,P38),7)","v":7},1,null,"","","","","",null,0,""]
[33,"",null,"",null,"",null,"",null,"",null,"",{"$f":"IF(L39=\"\",\"\",IF(V39=1,1,0)+IF(X39=1,1,0))","v":""},null,"","",0,0,0,1,0,{"$f":"IF(U39=1,COUNTIF($O$7:$P39,O39),7)","v":7},0,{"$f":"IF(W39=1,COUNTIF($O$7:$P39,P39),7)","v":7},1,null,"","","","","",null,0,""]
[34,"",null,"",null,"",null,"",null,"",null,"","",null,"","",0,0,0,1,0,{"$f":"IF(U40=1,COUNTIF($O$7:$P40,O40),7)","v":7},0,{"$f":"IF(W40=1,COUNTIF($O$7:$P40,P40),7)","v":7},1,null,"","","","","",null,0,""]
[35,"",null,"",null,"",null,"",null,"",null,"","",null,"","",0,0,0,1,0,{"$f":"IF(U41=1,COUNTIF($O$7:$P41,O41),7)","v":7},0,{"$f":"IF(W41=1,COUNTIF($O$7:$P41,P41),7)","v":7},1,null,"","","","","",null,0,""]
[36,"",null,"",null,"",null,"",null,"",null,"","",null,"","",0,0,0,1,0,{"$f":"IF(U42=1,COUNTIF($O$7:$P42,O42),7)","v":7},0,{"$f":"IF(W42=1,COUNTIF($O$7:$P42,P42),7)","v":7},1,null,"","","","","",null,0,""]
[37,"",null,"",null,"",null,"",null,"",null,"","",null,"","",0,0,0,1,0,{"$f":"IF(U43=1,COUNTIF($O$7:$P43,O43),7)","v":7},0,{"$f":"IF(W43=1,COUNTIF($O$7:$P43,P43),7)","v":7},1,null,"","","","","",null,0,""]
[38,"",null,"",null,"",null,"",null,"",null,"","",null,"","",0,0,0,1,0,{"$f":"IF(U44=1,COUNTIF($O$7:$P44,O44),7)","v":7},0,{"$f":"IF(W44=1,COUNTIF($O$7:$P44,P44),7)","v":7},1,null,"","","","","",null,0,""]
[39,"",null,"",null,"",null,"",null,"",null,"","",null,"","",0,0,0,1,0,{"$f":"IF(U45=1,COUNTIF($O$7:$P45,O45),7)","v":7},0,{"$f":"IF(W45=1,COUNTIF($O$7:$P45,P45),7)","v":7},1,null,"","","","","",null,0,""]
[40,"",null,"",null,"",null,"",null,"",null,"","",null,"","",0,0,0,1,0,{"$f":"IF(U46=1,COUNTIF($O$7:$P46,O46),7)","v":7},0,{"$f":"IF(W46=1,COUNTIF($O$7:$P46,P46),7)","v":7},1,null,"","","","","",null,0,""]
[41,"",null,"",null,"",null,"",null,"",null,"","",null,"","",0,0,0,1,0,{"$f":"IF(U47=1,COUNTIF($O$7:$P47,O47),7)","v":7},0,{"$f":"IF(W47=1,COUNTIF($O$7:$P47,P47),7)","v":7},1,null,"","","","","",null,0,""]
[42,"",null,"",null,"",null,"",null,"",null,"","",null,"","",0,0,0,1,0,{"$f":"IF(U48=1,COUNTIF($O$7:$P48,O48),7)","v":7},0,{"$f":"IF(W48=1,COUNTIF($O$7:$P48,P48),7)","v":7},1,null,"","","","","",null,0,""]
[43,"",null,"",null,"",null,"",null,"",null,"","",null,"","",0,0,0,1,0,{"$f":"IF(U49=1,COUNTIF($O$7:$P49,O49),7)","v":7},0,{"$f":"IF(W49=1,COUNTIF($O$7:$P49,P49),7)","v":7},1,null,"","","","","",null,0,""]
[44,"",null,"",null,"",null,"",null,"",null,"","",null,"","",0,0,0,1,0,{"$f":"IF(U50=1,COUNTIF($O$7:$P50,O50),7)","v":7},0,{"$f":"IF(W50=1,COUNTIF($O$7:$P50,P50),7)","v":7},1,null,"","","","","",null,0,""]
[45,"",null,"",null,"",null,"",null,"",null,"","",null,"","",0,0,0,1,0,{"$f":"IF(U51=1,COUNTIF($O$7:$P51,O51),7)","v":7},0,{"$f":"IF(W51=1,COUNTIF($O$7:$P51,P51),7)","v":7},1,null,"","","","","",null,0,""]
[46,"",null,"",null,"",null,"",null,"",null,"","",null,"","",0,0,0,1,0,{"$f":"IF(U52=1,COUNTIF($O$7:$P52,O52),7)","v":7},0,{"$f":"IF(W52=1,COUNTIF($O$7:$P52,P52),7)","v":7},1,null,"","","","","",null,0,""]
[47,"",null,"",null,"",null,"",null,"",null,"","",null,"","",0,0,0,1,0,{"$f":"IF(U53=1,COUNTIF($O$7:$P53,O53),7)","v":7},0,{"$f":"IF(W53=1,COUNTIF($O$7:$P53,P53),7)","v":7},1,null,"","","","","",null,0,""]
[48,"",null,"",null,"",null,"",null,"",null,"","",null,"","",0,0,0,1,0,{"$f":"IF(U54=1,COUNTIF($O$7:$P54,O54),7)","v":7},0,{"$f":"IF(W54=1,COUNTIF($O$7:$P54,P54),7)","v":7},1,null,"","","","","",null,0,""]
[49,"",null,"",null,"",null,"",null,"",null,"","",null,"","",0,0,0,1,0,{"$f":"IF(U55=1,COUNTIF($O$7:$P55,O55),7)","v":7},0,{"$f":"IF(W55=1,COUNTIF($O$7:$P55,P55),7)","v":7},1,null,"","","","","",null,0,""]
[50,"",null,"",null,"",null,"",null,"",null,"","",null,"","",0,0,0,1,0,{"$f":"IF(U56=1,COUNTIF($O$7:$P56,O56),7)","v":7},0,{"$f":"IF(W56=1,COUNTIF($O$7:$P56,P56),7)","v":7},1,null,"","","","","",null,0,""]
[51,"",null,"",null,"",null,"",null,"",null,"","",null,"","",0,0,0,1,0,{"$f":"IF(U57=1,COUNTIF($O$7:$P57,O57),7)","v":7},0,{"$f":"IF(W57=1,COUNTIF($O$7:$P57,P57),7)","v":7},1,null,"","","","","",null,0,""]
[52,"",null,"",null,"",null,"",null,"",null,"","",null,"","",0,0,0,1,0,{"$f":"IF(U58=1,COUNTIF($O$7:$P58,O58),7)","v":7},0,{"$f":"IF(W58=1,COUNTIF($O$7:$P58,P58),7)","v":7},1,null,"","","","","",null,0,""]
[53,"",null,"",null,"",null,"",null,"",null,"","",null,"","",0,0,0,1,0,{"$f":"IF(U59=1,COUNTIF($O$7:$P59,O59),7)","v":7},0,{"$f":"IF(W59=1,COUNTIF($O$7:$P59,P59),7)","v":7},1,null,"","","","","",null,0,""]
[54,"",null,"",null,"",null,"",null,"",null,"","",null,"","",0,0,0,1,0,{"$f":"IF(U60=1,COUNTIF($O$7:$P60,O60),7)","v":7},0,{"$f":"IF(W60=1,COUNTIF($O$7:$P60,P60),7)","v":7},1,null,"","","","","",null,0,""]
[55,"",null,"",null,"",null,"",null,"",null,"","",null,"","",0,0,0,1,0,{"$f":"IF(U61=1,COUNTIF($O$7:$P61,O61),7)","v":7},0,{"$f":"IF(W61=1,COUNTIF($O$7:$P61,P61),7)","v":7},1,null,"","","","","",null,0,""]
[56,"",null,"",null,"",null,"",null,"",null,"","",null,"","",0,0,0,1,0,{"$f":"IF(U62=1,COUNTIF($O$7:$P62,O62),7)","v":7},0,{"$f":"IF(W62=1,COUNTIF($O$7:$P62,P62),7)","v":7},1,null,"","","","","",null,0,""]
[57,"",null,"",null,"",null,"",null,"",null,"","",null,"","",0,0,0,1,0,{"$f":"IF(U63=1,COUNTIF($O$7:$P63,O63),7)","v":7},0,{"$f":"IF(W63=1,COUNTIF($O$7:$P63,P63),7)","v":7},1,null,"","","","","",null,0,""]
[58,"",null,"",null,"",null,"",null,"",null,"","",null,"","",0,0,0,1,0,{"$f":"IF(U64=1,COUNTIF($O$7:$P64,O64),7)","v":7},0,{"$f":"IF(W64=1,COUNTIF($O$7:$P64,P64),7)","v":7},1,null,"","","","","",null,0,""]
[59,"",null,"",null,"",null,"",null,"",null,"","",null,"","",0,0,0,1,0,{"$f":"IF(U65=1,COUNTIF($O$7:$P65,O65),7)","v":7},0,{"$f":"IF(W65=1,COUNTIF($O$7:$P65,P65),7)","v":7},1,null,"","","","","",null,0,""]
[60,"",null,"",null,"",null,"",null,"",null,"","",null,"","",0,0,0,1,0,{"$f":"IF(U66=1,COUNTIF($O$7:$P66,O66),7)","v":7},0,{"$f":"IF(W66=1,COUNTIF($O$7:$P66,P66),7)","v":7},1,null,"","","","","",null,0,""]
[61,"",null,"",null,"",null,"",null,"",null,"","",null,"","",0,0,0,1,0,{"$f":"IF(U67=1,COUNTIF($O$7:$P67,O67),7)","v":7},0,{"$f":"IF(W67=1,COUNTIF($O$7:$P67,P67),7)","v":7},1,null,"","","","","",null,0,""]
[62,"",null,"",null,"",null,"",null,"",null,"","",null,"","",0,0,0,1,0,{"$f":"IF(U68=1,COUNTIF($O$7:$P68,O68),7)","v":7},0,{"$f":"IF(W68=1,COUNTIF($O$7:$P68,P68),7)","v":7},1,null,"","","","","",null,0,""]
[63,"",null,"",null,"",null,"",null,"",null,"","",null,"","",0,0,0,1,0,{"$f":"IF(U69=1,COUNTIF($O$7:$P69,O69),7)","v":7},0,{"$f":"IF(W69=1,COUNTIF($O$7:$P69,P69),7)","v":7},1,null,"","","","","",null,0,""]
[64,"",null,"",null,"",null,"",null,"",null,"","",null,"","",0,0,0,1,0,{"$f":"IF(U70=1,COUNTIF($O$7:$P70,O70),7)","v":7},0,{"$f":"IF(W70=1,COUNTIF($O$7:$P70,P70),7)","v":7},1,null,"","","","","",null,0,""]
[65,"",null,"",null,"",null,"",null,"",null,"",{"$f":"IF(L71=\"\",\"\",IF(V71=1,1,0)+IF(X71=1,1,0))","v":""},null,"","",0,0,0,1,{"$f":"COUNTIF(ZDOK,O:O)","v":0},{"$f":"IF(U71=1,COUNTIF($O$7:$P71,O71),7)","v":7},0,{"$f":"IF(W71=1,COUNTIF($O$7:$P71,P71),7)","v":7},1,null,"","","","","",null,0,""]
[66,{"$f":"IF(D72=\"\",\"\",date1)","v":""},null,"",null,"",null,"",null,"",null,{"$f":"IF(D72=\"\",\"\",IF(Q72+T72>5,10,Y72))","v":""},"",null,"","",{"$f":"IF(R72>0,5,0)","v":0},{"$f":"COUNTIF(VFDBDOK,F72)+COUNTIF(VFDBDOK,J72)","v":0},0,{"$f":"IF((U72+W72)>0,5,1)","v":1},0,{"$f":"IF(U72=1,COUNTIF($O$7:$P72,O72),7)","v":7},{"$f":"COUNTIF(ZDOK,P72)","v":0},{"$f":"IF(W72=1,COUNTIF($O$7:$P72,P72),7)","v":7},{"$f":"IF(O72=dok,0,(IF(P72=dok,0,T72)))","v":1},null,{"$f":"IF(AG72=0,\"\",IF(AG72=5,AG72,CONCATENATE(LEFT(AG72,2),\":\",RIGHT(AG72,2))))","v":""},{"$f":"UPPER(D72)","v":""},{"$f":"UPPER(H72)","v":""},{"$f":"UPPER(SUBSTITUTE(O72,\" \",\"\",1))","v":""},{"$f":"UPPER(SUBSTITUTE(P72,\" \",\"\",1))","v":""},null,0,""]
[67,"",null,"",null,"",null,"",null,"",null,"","",null,"","",0,0,0,1,0,{"$f":"IF(U73=1,COUNTIF($O$7:$P73,O73),7)","v":7},0,{"$f":"IF(W73=1,COUNTIF($O$7:$P73,P73),7)","v":7},1,null,"","","","","",null,0,""]
[68,"",null,"",null,"",null,"",null,"",null,"","",null,"","",0,0,0,1,0,{"$f":"IF(U74=1,COUNTIF($O$7:$P74,O74),7)","v":7},0,{"$f":"IF(W74=1,COUNTIF($O$7:$P74,P74),7)","v":7},1,null,"","","","","",null,0,""]
[69,"",null,"",null,"",null,"",null,"",null,"","",null,"","",0,0,0,1,0,{"$f":"IF(U75=1,COUNTIF($O$7:$P75,O75),7)","v":7},0,{"$f":"IF(W75=1,COUNTIF($O$7:$P75,P75),7)","v":7},1,null,"","","","","",null,0,""]
[70,"",null,"",null,"",null,"",null,"",null,"","",null,"","",0,0,0,1,0,{"$f":"IF(U76=1,COUNTIF($O$7:$P76,O76),7)","v":7},0,{"$f":"IF(W76=1,COUNTIF($O$7:$P76,P76),7)","v":7},1,null,"","","","","",null,{"$f":"IF(AH76=\":\",IF(LEN(C76)=4,CONCATENATE(\"0\",LEFT(C76,1),RIGHT(C76,2)),C76),IF(LEN(C76)=3,CONCATENATE(\"0\",C76),C76))","v":0},{"$f":"IF(LEN(C76)=4,MID(C76,2,1),MID(C76,3,1))","v":""}]
[71,"",null,"",null,"",null,"",null,"",null,"","",null,"","",0,0,0,1,0,{"$f":"IF(U77=1,COUNTIF($O$7:$P77,O77),7)","v":7},0,{"$f":"IF(W77=1,COUNTIF($O$7:$P77,P77),7)","v":7},1,null,"","","","","",null,0,""]
[72,"",null,"",null,"",null,"",null,"",null,"","",null,"","",0,0,0,1,0,{"$f":"IF(U78=1,COUNTIF($O$7:$P78,O78),7)","v":7},0,{"$f":"IF(W78=1,COUNTIF($O$7:$P78,P78),7)","v":7},1,null,"","","","","",null,0,""]
[73,"",null,"",null,"",null,"",null,"",null,"","",null,"","",0,0,0,1,0,{"$f":"IF(U79=1,COUNTIF($O$7:$P79,O79),7)","v":7},0,{"$f":"IF(W79=1,COUNTIF($O$7:$P79,P79),7)","v":7},1,null,"","","","","",null,0,""]
[74,"",null,"",null,"",null,"",null,"",null,"","",null,"","",0,0,0,1,0,{"$f":"IF(U80=1,COUNTIF($O$7:$P80,O80),7)","v":7},0,{"$f":"IF(W80=1,COUNTIF($O$7:$P80,P80),7)","v":7},1,null,"","","","","",null,0,""]
[75,"",null,"",null,"",null,"",null,"",null,"","",null,"","",0,0,0,1,0,{"$f":"IF(U81=1,COUNTIF($O$7:$P81,O81),7)","v":7},0,{"$f":"IF(W81=1,COUNTIF($O$7:$P81,P81),7)","v":7},1,null,"","","","","",null,0,""]
[76,"",null,"",null,"",null,"",null,"",null,"","",null,"","",0,0,0,1,0,{"$f":"IF(U82=1,COUNTIF($O$7:$P82,O82),7)","v":7},0,{"$f":"IF(W82=1,COUNTIF($O$7:$P82,P82),7)","v":7},1,null,"","","","","",null,0,""]
[77,"",null,"",null,"",null,"",null,"",null,"","",null,"","",0,0,0,1,0,{"$f":"IF(U83=1,COUNTIF($O$7:$P83,O83),7)","v":7},0,{"$f":"IF(W83=1,COUNTIF($O$7:$P83,P83),7)","v":7},1,null,"","","","","",null,0,""]
[78,"",null,"",null,"",null,"",null,"",null,"","",null,"","",0,0,0,1,0,{"$f":"IF(U84=1,COUNTIF($O$7:$P84,O84),7)","v":7},0,{"$f":"IF(W84=1,COUNTIF($O$7:$P84,P84),7)","v":7},1,null,"","","","","",null,0,""]
[79,"",null,"",null,"",null,"",null,"",null,"","",null,"","",0,0,0,1,0,{"$f":"IF(U85=1,COUNTIF($O$7:$P85,O85),7)","v":7},0,{"$f":"IF(W85=1,COUNTIF($O$7:$P85,P85),7)","v":7},1,null,"","","","","",null,0,""]
[80,"",null,"",null,"",null,"",null,"",null,"","",null,"","",0,0,0,1,0,{"$f":"IF(U86=1,COUNTIF($O$7:$P86,O86),7)","v":7},0,{"$f":"IF(W86=1,COUNTIF($O$7:$P86,P86),7)","v":7},1,null,"","","","","",null,0,""]
[81,"",null,"",null,"",null,"",null,"",null,"","",null,"","",0,0,0,1,0,{"$f":"IF(U87=1,COUNTIF($O$7:$P87,O87),7)","v":7},0,{"$f":"IF(W87=1,COUNTIF($O$7:$P87,P87),7)","v":7},1,null,"","","","","",null,0,""]
[82,"",null,"",null,"",null,"",null,"",null,"","",null,"","",0,0,0,1,0,{"$f":"IF(U88=1,COUNTIF($O$7:$P88,O88),7)","v":7},0,{"$f":"IF(W88=1,COUNTIF($O$7:$P88,P88),7)","v":7},1,null,"","","","","",null,0,""]
[83,"",null,"",null,"",null,"",null,"",null,"","",null,"","",0,0,0,1,0,{"$f":"IF(U89=1,COUNTIF($O$7:$P89,O89),7)","v":7},0,{"$f":"IF(W89=1,COUNTIF($O$7:$P89,P89),7)","v":7},1,null,"","","","","",null,0,""]
[84,"",null,"",null,"",null,"",null,"",null,"","",null,"","",0,0,0,1,0,{"$f":"IF(U90=1,COUNTIF($O$7:$P90,O90),7)","v":7},0,{"$f":"IF(W90=1,COUNTIF($O$7:$P90,P90),7)","v":7},1,null,"","","","","",null,0,""]
[85,"",null,"",null,"",null,"",null,"",null,"","",null,"","",0,0,0,1,0,{"$f":"IF(U91=1,COUNTIF($O$7:$P91,O91),7)","v":7},0,{"$f":"IF(W91=1,COUNTIF($O$7:$P91,P91),7)","v":7},1,null,"","","","","",null,0,""]
[86,"",null,"",null,"",null,"",null,"",null,"","",null,"","",0,0,0,1,0,{"$f":"IF(U92=1,COUNTIF($O$7:$P92,O92),7)","v":7},0,{"$f":"IF(W92=1,COUNTIF($O$7:$P92,P92),7)","v":7},1,null,"","","","","",null,0,""]
[87,"",null,"",null,"",null,"",null,"",null,"","",null,{"$f":"TEXT(F93,\"\")","v":""},{"$f":"TEXT(J93,\"\")","v":""},0,0,0,1,0,{"$f":"IF(U93=1,COUNTIF($O$7:$P93,O93),7)","v":7},0,{"$f":"IF(W93=1,COUNTIF($O$7:$P93,P93),7)","v":7},1,null,"","","","","",null,0,""]
[88,"",null,"",null,"",null,"",null,"",null,"","",null,"","",0,0,0,1,0,{"$f":"IF(U94=1,COUNTIF($O$7:$P94,O94),7)","v":7},0,{"$f":"IF(W94=1,COUNTIF($O$7:$P94,P94),7)","v":7},1,null,"","","","","",null,0,""]
[89,"",null,"",null,"",null,"",null,"",null,"","",null,"","",0,0,0,1,0,{"$f":"IF(U95=1,COUNTIF($O$7:$P95,O95),7)","v":7},0,{"$f":"IF(W95=1,COUNTIF($O$7:$P95,P95),7)","v":7},1,null,"","","","","",null,0,""]
[90,"",null,"",null,"",null,"",null,"",null,"","",null,"","",0,0,0,1,0,{"$f":"IF(U96=1,COUNTIF($O$7:$P96,O96),7)","v":7},0,{"$f":"IF(W96=1,COUNTIF($O$7:$P96,P96),7)","v":7},1,null,"","","","","",null,0,""]
[91,"",null,"",null,"",null,"",null,"",null,"","",null,"","",0,0,0,1,0,{"$f":"IF(U97=1,COUNTIF($O$7:$P97,O97),7)","v":7},0,{"$f":"IF(W97=1,COUNTIF($O$7:$P97,P97),7)","v":7},1,null,"","","","","",null,0,""]
[92,"",null,"",null,"",null,"",null,"",null,"","",null,"","",0,0,0,1,0,{"$f":"IF(U98=1,COUNTIF($O$7:$P98,O98),7)","v":7},0,{"$f":"IF(W98=1,COUNTIF($O$7:$P98,P98),7)","v":7},1,null,"","","","","",null,0,""]
[93,"",null,"",null,"",null,"",null,"",null,"","",null,"","",0,0,0,1,0,{"$f":"IF(U99=1,COUNTIF($O$7:$P99,O99),7)","v":7},0,{"$f":"IF(W99=1,COUNTIF($O$7:$P99,P99),7)","v":7},1,null,"","","","","",null,0,""]
[94,"",null,"",null,"",null,"",null,"",null,"","",null,"","",0,0,0,1,0,{"$f":"IF(U100=1,COUNTIF($O$7:$P100,O100),7)","v":7},0,{"$f":"IF(W100=1,COUNTIF($O$7:$P100,P100),7)","v":7},1,null,"","","","","",null,0,""]
[95,"",null,"",null,"",null,"",null,"",null,"","",null,"","",0,0,0,1,0,{"$f":"IF(U101=1,COUNTIF($O$7:$P101,O101),7)","v":7},0,{"$f":"IF(W101=1,COUNTIF($O$7:$P101,P101),7)","v":7},1,null,"","","","","",null,0,""]
[96,"",null,"",null,"",null,"",null,"",null,"","",null,"","",0,0,0,1,0,{"$f":"IF(U102=1,COUNTIF($O$7:$P102,O102),7)","v":7},0,{"$f":"IF(W102=1,COUNTIF($O$7:$P102,P102),7)","v":7},1,null,"","","","","",null,0,""]
[97,"",null,"",null,"",null,"",null,"",null,"",{"$f":"IF(L103=\"\",\"\",IF(V103=1,1,0)+IF(X103=1,1,0))","v":""},null,"","",0,0,0,1,0,{"$f":"IF(U103=1,COUNTIF($O$7:$P103,O103),7)","v":7},0,{"$f":"IF(W103=1,COUNTIF($O$7:$P103,P103),7)","v":7},1,null,"","","","","",null,0,""]
[98,"",null,"",null,"",null,"",null,"",null,"","",null,"","",0,0,0,1,0,{"$f":"IF(U104=1,COUNTIF($O$7:$P104,O104),7)","v":7},0,{"$f":"IF(W104=1,COUNTIF($O$7:$P104,P104),7)","v":7},1,null,"","","","","",null,0,""]
[99,"",null,"",null,"",null,"",null,"",null,"","",null,"","",0,0,0,1,0,{"$f":"IF(U105=1,COUNTIF($O$7:$P105,O105),7)","v":7},0,{"$f":"IF(W105=1,COUNTIF($O$7:$P105,P105),7)","v":7},1,null,"","","","","",null,0,""]
[100,"",null,"",null,"",null,"",null,"",null,"","",null,"","",0,0,0,1,0,{"$f":"IF(U106=1,COUNTIF($O$7:$P106,O106),7)","v":7},0,{"$f":"IF(W106=1,COUNTIF($O$7:$P106,P106),7)","v":7},1,null,"","","","","",null,0,""]
[101,"",null,"",null,"",null,"",null,"",null,"","",null,"","",0,0,0,1,0,{"$f":"IF(U107=1,COUNTIF($O$7:$P107,O107),7)","v":7},0,{"$f":"IF(W107=1,COUNTIF($O$7:$P107,P107),7)","v":7},1,null,"","","","","",null,0,""]
[102,"",null,"",null,"",null,"",null,"",null,"","",null,"","",0,0,0,1,0,{"$f":"IF(U108=1,COUNTIF($O$7:$P108,O108),7)","v":7},0,{"$f":"IF(W108=1,COUNTIF($O$7:$P108,P108),7)","v":7},1,null,"","","","","",null,0,""]
[103,"",null,"",null,"",null,"",null,"",null,"","",null,"","",0,0,0,1,0,{"$f":"IF(U109=1,COUNTIF($O$7:$P109,O109),7)","v":7},0,{"$f":"IF(W109=1,COUNTIF($O$7:$P109,P109),7)","v":7},1,null,"","","","","",null,0,""]
[104,"",null,"",null,"",null,"",null,"",null,"","",null,"","",0,0,0,1,0,{"$f":"IF(U110=1,COUNTIF($O$7:$P110,O110),7)","v":7},0,{"$f":"IF(W110=1,COUNTIF($O$7:$P110,P110),7)","v":7},1,null,"","","","","",null,0,""]
[105,"",null,"",null,"",null,"",null,"",null,"","",null,"","",0,0,0,1,0,{"$f":"IF(U111=1,COUNTIF($O$7:$P111,O111),7)","v":7},0,{"$f":"IF(W111=1,COUNTIF($O$7:$P111,P111),7)","v":7},1,null,"","","","","",null,0,""]
[106,"",null,"",null,"",null,"",null,"",null,"","",null,"","",0,0,0,1,0,{"$f":"IF(U112=1,COUNTIF($O$7:$P112,O112),7)","v":7},0,{"$f":"IF(W112=1,COUNTIF($O$7:$P112,P112),7)","v":7},1,null,"","","","","",null,0,""]
[107,"",null,"",null,"",null,"",null,"",null,"","",null,"","",0,0,0,1,0,{"$f":"IF(U113=1,COUNTIF($O$7:$P113,O113),7)","v":7},0,{"$f":"IF(W113=1,COUNTIF($O$7:$P113,P113),7)","v":7},1,null,"","","","","",null,0,""]
[108,"",null,"",null,"",null,"",null,"",null,"","",null,"","",0,0,0,1,0,{"$f":"IF(U114=1,COUNTIF($O$7:$P114,O114),7)","v":7},0,{"$f":"IF(W114=1,COUNTIF($O$7:$P114,P114),7)","v":7},1,null,"","","","","",null,0,""]
[109,"",null,"",null,"",null,"",null,"",null,"","",null,"","",0,0,0,1,0,{"$f":"IF(U115=1,COUNTIF($O$7:$P115,O115),7)","v":7},0,{"$f":"IF(W115=1,COUNTIF($O$7:$P115,P115),7)","v":7},1,null,"","","","","",null,0,""]
[110,"",null,"",null,"",null,"",null,"",null,"","",null,"","",0,0,0,1,0,{"$f":"IF(U116=1,COUNTIF($O$7:$P116,O116),7)","v":7},0,{"$f":"IF(W116=1,COUNTIF($O$7:$P116,P116),7)","v":7},1,null,"","","","","",null,0,""]
[111,"",null,"",null,"",null,"",null,"",null,"","",null,"","",0,0,0,1,0,{"$f":"IF(U117=1,COUNTIF($O$7:$P117,O117),7)","v":7},0,{"$f":"IF(W117=1,COUNTIF($O$7:$P117,P117),7)","v":7},1,null,"","","","","",null,0,""]
[112,"",null,"",null,"",null,"",null,"",null,"","",null,"","",0,0,0,1,0,{"$f":"IF(U118=1,COUNTIF($O$7:$P118,O118),7)","v":7},0,{"$f":"IF(W118=1,COUNTIF($O$7:$P118,P118),7)","v":7},1,null,"","","","","",null,0,""]
[113,"",null,"",null,"",null,"",null,"",null,"","",null,"","",0,0,0,1,0,{"$f":"IF(U119=1,COUNTIF($O$7:$P119,O119),7)","v":7},0,{"$f":"IF(W119=1,COUNTIF($O$7:$P119,P119),7)","v":7},1,null,"","","","","",null,0,""]
[114,"",null,"",null,"",null,"",null,"",null,"","",null,"","",0,0,0,1,0,{"$f":"IF(U120=1,COUNTIF($O$7:$P120,O120),7)","v":7},0,{"$f":"IF(W120=1,COUNTIF($O$7:$P120,P120),7)","v":7},1,null,"","","","","",null,0,""]
[115,"",null,"",null,"",null,"",null,"",null,"","",null,"","",0,0,0,1,0,{"$f":"IF(U121=1,COUNTIF($O$7:$P121,O121),7)","v":7},0,{"$f":"IF(W121=1,COUNTIF($O$7:$P121,P121),7)","v":7},1,null,"","","","","",null,0,""]
[116,"",null,"",null,"",null,"",null,"",null,"","",null,"","",0,0,0,1,0,{"$f":"IF(U122=1,COUNTIF($O$7:$P122,O122),7)","v":7},0,{"$f":"IF(W122=1,COUNTIF($O$7:$P122,P122),7)","v":7},1,null,"","","","","",null,0,""]
[117,"",null,"",null,"",null,"",null,"",null,"","",null,"","",0,0,0,1,0,{"$f":"IF(U123=1,COUNTIF($O$7:$P123,O123),7)","v":7},0,{"$f":"IF(W123=1,COUNTIF($O$7:$P123,P123),7)","v":7},1,null,"","","","","",null,0,""]
[118,"",null,"",null,"",null,"",null,"",null,"","",null,"","",0,0,0,1,0,{"$f":"IF(U124=1,COUNTIF($O$7:$P124,O124),7)","v":7},0,{"$f":"IF(W124=1,COUNTIF($O$7:$P124,P124),7)","v":7},1,null,"","","","","",null,0,""]
[119,"",null,"",null,"",null,"",null,"",null,"","",null,"","",0,0,0,1,0,{"$f":"IF(U125=1,COUNTIF($O$7:$P125,O125),7)","v":7},0,{"$f":"IF(W125=1,COUNTIF($O$7:$P125,P125),7)","v":7},1,null,"","","","","",null,0,""]
[120,"",null,"",null,"",null,"",null,"",null,"","",null,"","",0,0,0,1,0,{"$f":"IF(U126=1,COUNTIF($O$7:$P126,O126),7)","v":7},0,{"$f":"IF(W126=1,COUNTIF($O$7:$P126,P126),7)","v":7},1,null,"","","","","",null,0,""]
[121,"",null,"",null,"",null,"",null,"",null,"","",null,"","",0,0,0,1,0,{"$f":"IF(U127=1,COUNTIF($O$7:$P127,O127),7)","v":7},0,{"$f":"IF(W127=1,COUNTIF($O$7:$P127,P127),7)","v":7},1,null,"","","","","",null,0,""]
[122,"",null,"",null,"",null,"",null,"",null,"","",null,"","",0,0,0,1,0,{"$f":"IF(U128=1,COUNTIF($O$7:$P128,O128),7)","v":7},0,{"$f":"IF(W128=1,COUNTIF($O$7:$P128,P128),7)","v":7},1,null,"","","","","",null,0,""]
[123,"",null,"",null,"",null,"",null,"",null,"","",null,"","",0,0,0,1,0,{"$f":"IF(U129=1,COUNTIF($O$7:$P129,O129),7)","v":7},0,{"$f":"IF(W129=1,COUNTIF($O$7:$P129,P129),7)","v":7},1,null,"","","","","",null,0,""]
[124,"",null,"",null,"",null,"",null,"",null,"","",null,"","",0,0,0,1,0,{"$f":"IF(U130=1,COUNTIF($O$7:$P130,O130),7)","v":7},0,{"$f":"IF(W130=1,COUNTIF($O$7:$P130,P130),7)","v":7},1,null,"","","","","",null,0,""]
[125,"",null,"",null,"",null,"",null,"",null,"","",null,"","",0,0,0,1,0,{"$f":"IF(U131=1,COUNTIF($O$7:$P131,O131),7)","v":7},0,{"$f":"IF(W131=1,COUNTIF($O$7:$P131,P131),7)","v":7},1,null,"","","","","",null,0,""]
[126,"",null,"",null,"",null,"",null,"",null,"","",null,"","",0,0,0,1,0,{"$f":"IF(U132=1,COUNTIF($O$7:$P132,O132),7)","v":7},0,{"$f":"IF(W132=1,COUNTIF($O$7:$P132,P132),7)","v":7},1,null,"","","","","",null,0,""]
[127,"",null,"",null,"",null,"",null,"",null,"","",null,"","",0,0,0,1,0,{"$f":"IF(U133=1,COUNTIF($O$7:$P133,O133),7)","v":7},0,{"$f":"IF(W133=1,COUNTIF($O$7:$P133,P133),7)","v":7},1,null,"","","","","",null,0,""]
[128,"",null,"",null,"",null,"",null,"",null,"","",null,"","",0,0,0,1,0,{"$f":"IF(U134=1,COUNTIF($O$7:$P134,O134),7)","v":7},0,{"$f":"IF(W134=1,COUNTIF($O$7:$P134,P134),7)","v":7},1,null,"","","","","",null,0,""]
[129,"",null,"",null,"",null,"",null,"",null,"",{"$f":"IF(L135=\"\",\"\",IF(V135=1,1,0)+IF(X135=1,1,0))","v":""},null,"","",0,0,0,1,{"$f":"COUNTIF(ZDOK,O:O)","v":0},{"$f":"IF(U135=1,COUNTIF($O$7:$P135,O135),7)","v":7},0,{"$f":"IF(W135=1,COUNTIF($O$7:$P135,P135),7)","v":7},1,null,"","","","","",null,0,""]
[130,{"$f":"IF(D136=\"\",\"\",date1)","v":""},null,"",null,"",null,"",null,"",null,{"$f":"IF(D136=\"\",\"\",IF(Q136+T136>5,10,Y136))","v":""},"",null,"","",{"$f":"IF(R136>0,5,0)","v":0},{"$f":"COUNTIF(VFDBDOK,F136)+COUNTIF(VFDBDOK,J136)","v":0},0,{"$f":"IF((U136+W136)>0,5,1)","v":1},0,{"$f":"IF(U136=1,COUNTIF($O$7:$P136,O136),7)","v":7},{"$f":"COUNTIF(ZDOK,P136)","v":0},{"$f":"IF(W136=1,COUNTIF($O$7:$P136,P136),7)","v":7},{"$f":"IF(O136=dok,0,(IF(P136=dok,0,T136)))","v":1},null,{"$f":"IF(AG136=0,\"\",IF(AG136=5,AG136,CONCATENATE(LEFT(AG136,2),\":\",RIGHT(AG136,2))))","v":""},{"$f":"UPPER(D136)","v":""},{"$f":"UPPER(H136)","v":""},{"$f":"UPPER(SUBSTITUTE(O136,\" \",\"\",1))","v":""},{"$f":"UPPER(SUBSTITUTE(P136,\" \",\"\",1))","v":""},null,0,""]
[131,"",null,"",null,"",null,"",null,"",null,"","",null,"","",0,0,0,1,0,{"$f":"IF(U137=1,COUNTIF($O$7:$P137,O137),7)","v":7},0,{"$f":"IF(W137=1,COUNTIF($O$7:$P137,P137),7)","v":7},1,null,"","","","","",null,0,""]
[132,"",null,"",null,"",null,"",null,"",null,"","",null,"","",0,0,0,1,0,{"$f":"IF(U138=1,COUNTIF($O$7:$P138,O138),7)","v":7},0,{"$f":"IF(W138=1,COUNTIF($O$7:$P138,P138),7)","v":7},1,null,"","","","","",null,0,""]
[133,"",null,"",null,"",null,"",null,"",null,"","",null,"","",0,0,0,1,0,{"$f":"IF(U139=1,COUNTIF($O$7:$P139,O139),7)","v":7},0,{"$f":"IF(W139=1,COUNTIF($O$7:$P139,P139),7)","v":7},1,null,"","","","","",null,0,""]
[134,"",null,"",null,"",null,"",null,"",null,"","",null,"","",0,0,0,1,0,{"$f":"IF(U140=1,COUNTIF($O$7:$P140,O140),7)","v":7},0,{"$f":"IF(W140=1,COUNTIF($O$7:$P140,P140),7)","v":7},1,null,"","","","","",null,{"$f":"IF(AH140=\":\",IF(LEN(C140)=4,CONCATENATE(\"0\",LEFT(C140,1),RIGHT(C140,2)),C140),IF(LEN(C140)=3,CONCATENATE(\"0\",C140),C140))","v":0},{"$f":"IF(LEN(C140)=4,MID(C140,2,1),MID(C140,3,1))","v":""}]
[135,"",null,"",null,"",null,"",null,"",null,"","",null,"","",0,0,0,1,0,{"$f":"IF(U141=1,COUNTIF($O$7:$P141,O141),7)","v":7},0,{"$f":"IF(W141=1,COUNTIF($O$7:$P141,P141),7)","v":7},1,null,"","","","","",null,0,""]
[136,"",null,"",null,"",null,"",null,"",null,"","",null,"","",0,0,0,1,0,{"$f":"IF(U142=1,COUNTIF($O$7:$P142,O142),7)","v":7},0,{"$f":"IF(W142=1,COUNTIF($O$7:$P142,P142),7)","v":7},1,null,"","","","","",null,0,""]
[137,"",null,"",null,"",null,"",null,"",null,"","",null,"","",0,0,0,1,0,{"$f":"IF(U143=1,COUNTIF($O$7:$P143,O143),7)","v":7},0,{"$f":"IF(W143=1,COUNTIF($O$7:$P143,P143),7)","v":7},1,null,"","","","","",null,0,""]
[138,"",null,"",null,"",null,"",null,"",null,"","",null,"","",0,0,0,1,0,{"$f":"IF(U144=1,COUNTIF($O$7:$P144,O144),7)","v":7},0,{"$f":"IF(W144=1,COUNTIF($O$7:$P144,P144),7)","v":7},1,null,"","","","","",null,0,""]
[139,"",null,"",null,"",null,"",null,"",null,"","",null,"","",0,0,0,1,0,{"$f":"IF(U145=1,COUNTIF($O$7:$P145,O145),7)","v":7},0,{"$f":"IF(W145=1,COUNTIF($O$7:$P145,P145),7)","v":7},1,null,"","","","","",null,0,""]
[140,"",null,"",null,"",null,"",null,"",null,"","",null,"","",0,0,0,1,0,{"$f":"IF(U146=1,COUNTIF($O$7:$P146,O146),7)","v":7},0,{"$f":"IF(W146=1,COUNTIF($O$7:$P146,P146),7)","v":7},1,null,"","","","","",null,0,""]
[141,"",null,"",null,"",null,"",null,"",null,"","",null,"","",0,0,0,1,0,{"$f":"IF(U147=1,COUNTIF($O$7:$P147,O147),7)","v":7},0,{"$f":"IF(W147=1,COUNTIF($O$7:$P147,P147),7)","v":7},1,null,"","","","","",null,0,""]
[142,"",null,"",null,"",null,"",null,"",null,"","",null,"","",0,0,0,1,0,{"$f":"IF(U148=1,COUNTIF($O$7:$P148,O148),7)","v":7},0,{"$f":"IF(W148=1,COUNTIF($O$7:$P148,P148),7)","v":7},1,null,"","","","","",null,0,""]
[143,"",null,"",null,"",null,"",null,"",null,"","",null,"","",0,0,0,1,0,{"$f":"IF(U149=1,COUNTIF($O$7:$P149,O149),7)","v":7},0,{"$f":"IF(W149=1,COUNTIF($O$7:$P149,P149),7)","v":7},1,null,"","","","","",null,0,""]
[144,"",null,"",null,"",null,"",null,"",null,"","",null,"","",0,0,0,1,0,{"$f":"IF(U150=1,COUNTIF($O$7:$P150,O150),7)","v":7},0,{"$f":"IF(W150=1,COUNTIF($O$7:$P150,P150),7)","v":7},1,null,"","","","","",null,0,""]
[145,"",null,"",null,"",null,"",null,"",null,"","",null,"","",0,0,0,1,0,{"$f":"IF(U151=1,COUNTIF($O$7:$P151,O151),7)","v":7},0,{"$f":"IF(W151=1,COUNTIF($O$7:$P151,P151),7)","v":7},1,null,"","","","","",null,0,""]
[146,"",null,"",null,"",null,"",null,"",null,"","",null,"","",0,0,0,1,0,{"$f":"IF(U152=1,COUNTIF($O$7:$P152,O152),7)","v":7},0,{"$f":"IF(W152=1,COUNTIF($O$7:$P152,P152),7)","v":7},1,null,"","","","","",null,0,""]
[147,"",null,"",null,"",null,"",null,"",null,"","",null,"","",0,0,0,1,0,{"$f":"IF(U153=1,COUNTIF($O$7:$P153,O153),7)","v":7},0,{"$f":"IF(W153=1,COUNTIF($O$7:$P153,P153),7)","v":7},1,null,"","","","","",null,0,""]
[148,"",null,"",null,"",null,"",null,"",null,"","",null,"","",0,0,0,1,0,{"$f":"IF(U154=1,COUNTIF($O$7:$P154,O154),7)","v":7},0,{"$f":"IF(W154=1,COUNTIF($O$7:$P154,P154),7)","v":7},1,null,"","","","","",null,0,""]
[149,"",null,"",null,"",null,"",null,"",null,"","",null,"","",0,0,0,1,0,{"$f":"IF(U155=1,COUNTIF($O$7:$P155,O155),7)","v":7},0,{"$f":"IF(W155=1,COUNTIF($O$7:$P155,P155),7)","v":7},1,null,"","","","","",null,0,""]
[150,"",null,"",null,"",null,"",null,"",null,"","",null,"","",0,0,0,1,0,{"$f":"IF(U156=1,COUNTIF($O$7:$P156,O156),7)","v":7},0,{"$f":"IF(W156=1,COUNTIF($O$7:$P156,P156),7)","v":7},1,null,"","","","","",null,0,""]
[151,"",null,"",null,"",null,"",null,"",null,"","",null,{"$f":"TEXT(F157,\"\")","v":""},{"$f":"TEXT(J157,\"\")","v":""},0,0,0,1,0,{"$f":"IF(U157=1,COUNTIF($O$7:$P157,O157),7)","v":7},0,{"$f":"IF(W157=1,COUNTIF($O$7:$P157,P157),7)","v":7},1,null,"","","","","",null,0,""]
[152,{"$f":"IF(D158=\"\",\"\",date1)","v":""},null,"",null,"",null,"",null,"",null,{"$f":"IF(D158=\"\",\"\",IF(Q158+T158>5,10,Y158))","v":""},{"$f":"IF(L158=\"\",\"\",IF(V158=1,1,0)+IF(X158=1,1,0))","v":""},null,{"$f":"TEXT(F158,\"\")","v":""},{"$f":"TEXT(J158,\"\")","v":""},{"$f":"IF(R158>0,5,0)","v":0},{"$f":"COUNTIF(VFDBDOK,F158)+COUNTIF(VFDBDOK,J158)","v":0},1,{"$f":"IF((U158+W158)>0,5,1)","v":1},0,{"$f":"IF(U158=1,COUNTIF($O$7:$P158,O158),7)","v":7},{"$f":"COUNTIF(ZDOK,P158)","v":0},{"$f":"IF(W158=1,COUNTIF($O$7:$P158,P158),7)","v":7},{"$f":"IF(O158=dok,0,(IF(P158=dok,0,T158)))","v":1},null,"",{"$f":"UPPER(D158)","v":""},{"$f":"UPPER(H158)","v":""},{"$f":"UPPER(SUBSTITUTE(O158,\" \",\"\",1))","v":""},{"$f":"UPPER(SUBSTITUTE(P158,\" \",\"\",1))","v":""},null,0,""]
[153,"",null,"",null,"",null,"",null,"",null,"","",null,"","",0,0,2,1,0,{"$f":"IF(U159=1,COUNTIF($O$7:$P159,O159),7)","v":7},0,{"$f":"IF(W159=1,COUNTIF($O$7:$P159,P159),7)","v":7},1,null,"","","","","",null,0,""]
[154,"",null,"",null,"",null,"",null,"",null,"","",null,"","",0,0,3,1,0,{"$f":"IF(U160=1,COUNTIF($O$7:$P160,O160),7)","v":7},0,{"$f":"IF(W160=1,COUNTIF($O$7:$P160,P160),7)","v":7},1,null,"","","","","",null,0,""]
[155,"",null,"",null,"",null,"",null,"",null,"","",null,"","",0,0,4,1,0,{"$f":"IF(U161=1,COUNTIF($O$7:$P161,O161),7)","v":7},0,{"$f":"IF(W161=1,COUNTIF($O$7:$P161,P161),7)","v":7},1,null,"","","","","",null,0,""]
[156,"",null,"",null,"",null,"",null,"",null,"","",null,"","",0,0,5,1,0,{"$f":"IF(U162=1,COUNTIF($O$7:$P162,O162),7)","v":7},0,{"$f":"IF(W162=1,COUNTIF($O$7:$P162,P162),7)","v":7},1,null,"","","","","",null,0,""]
[157,"",null,"",null,"",null,"",null,"",null,"","",null,"","",0,0,6,1,0,{"$f":"IF(U163=1,COUNTIF($O$7:$P163,O163),7)","v":7},0,{"$f":"IF(W163=1,COUNTIF($O$7:$P163,P163),7)","v":7},1,null,"","","","","",null,0,""]
[158,"",null,"",null,"",null,"",null,"",null,"","",null,"","",0,0,7,1,0,{"$f":"IF(U164=1,COUNTIF($O$7:$P164,O164),7)","v":7},0,{"$f":"IF(W164=1,COUNTIF($O$7:$P164,P164),7)","v":7},1,null,"","","","","",null,0,""]
[159,"",null,"",null,"",null,"",null,"",null,"","",null,"","",0,0,8,1,0,{"$f":"IF(U165=1,COUNTIF($O$7:$P165,O165),7)","v":7},0,{"$f":"IF(W165=1,COUNTIF($O$7:$P165,P165),7)","v":7},1,null,"","","","","",null,0,""]
[160,"",null,"",null,"",null,"",null,"",null,"","",null,"","",0,0,9,1,0,{"$f":"IF(U166=1,COUNTIF($O$7:$P166,O166),7)","v":7},0,{"$f":"IF(W166=1,COUNTIF($O$7:$P166,P166),7)","v":7},1,null,"","","","","",null,0,""]
[161,"",null,"",null,"",null,"",null,"",null,"","",null,"","",0,0,10,1,0,{"$f":"IF(U167=1,COUNTIF($O$7:$P167,O167),7)","v":7},0,{"$f":"IF(W167=1,COUNTIF($O$7:$P167,P167),7)","v":7},1,null,"","","","","",null,0,""]
[162,"",null,"",null,"",null,"",null,"",null,"","",null,"","",0,0,11,1,0,{"$f":"IF(U168=1,COUNTIF($O$7:$P168,O168),7)","v":7},0,{"$f":"IF(W168=1,COUNTIF($O$7:$P168,P168),7)","v":7},1,null,"","","","","",null,0,""]
[163,"",null,"",null,"",null,"",null,"",null,"","",null,"","",0,0,12,1,0,{"$f":"IF(U169=1,COUNTIF($O$7:$P169,O169),7)","v":7},0,{"$f":"IF(W169=1,COUNTIF($O$7:$P169,P169),7)","v":7},1,null,"","","","","",null,0,""]
[164,"",null,"",null,"",null,"",null,"",null,"","",null,"","",0,0,13,1,0,{"$f":"IF(U170=1,COUNTIF($O$7:$P170,O170),7)","v":7},0,{"$f":"IF(W170=1,COUNTIF($O$7:$P170,P170),7)","v":7},1,null,"","","","","",null,0,""]
[165,"",null,"",null,"",null,"",null,"",null,"","",null,"","",0,0,14,1,0,{"$f":"IF(U171=1,COUNTIF($O$7:$P171,O171),7)","v":7},0,{"$f":"IF(W171=1,COUNTIF($O$7:$P171,P171),7)","v":7},1,null,"","","","","",null,0,""]
[166,"",null,"",null,"",null,"",null,"",null,"","",null,"","",0,0,15,1,0,{"$f":"IF(U172=1,COUNTIF($O$7:$P172,O172),7)","v":7},0,{"$f":"IF(W172=1,COUNTIF($O$7:$P172,P172),7)","v":7},1,null,"","","","","",null,0,""]
[167,"",null,"",null,"",null,"",null,"",null,"","",null,"","",0,0,16,1,0,{"$f":"IF(U173=1,COUNTIF($O$7:$P173,O173),7)","v":7},0,{"$f":"IF(W173=1,COUNTIF($O$7:$P173,P173),7)","v":7},1,null,"","","","","",null,0,""]
[168,"",null,"",null,"",null,"",null,"",null,"","",null,"","",0,0,17,1,0,{"$f":"IF(U174=1,COUNTIF($O$7:$P174,O174),7)","v":7},0,{"$f":"IF(W174=1,COUNTIF($O$7:$P174,P174),7)","v":7},1,null,"","","","","",null,0,""]
[169,"",null,"",null,"",null,"",null,"",null,"","",null,"","",0,0,18,1,0,{"$f":"IF(U175=1,COUNTIF($O$7:$P175,O175),7)","v":7},0,{"$f":"IF(W175=1,COUNTIF($O$7:$P175,P175),7)","v":7},1,null,"","","","","",null,0,""]
[170,"",null,"",null,"",null,"",null,"",null,"","",null,"","",0,0,19,1,0,{"$f":"IF(U176=1,COUNTIF($O$7:$P176,O176),7)","v":7},0,{"$f":"IF(W176=1,COUNTIF($O$7:$P176,P176),7)","v":7},1,null,"","","","","",null,0,""]
[171,"",null,"",null,"",null,"",null,"",null,"","",null,"","",0,0,20,1,0,{"$f":"IF(U177=1,COUNTIF($O$7:$P177,O177),7)","v":7},0,{"$f":"IF(W177=1,COUNTIF($O$7:$P177,P177),7)","v":7},1,null,"","","","","",null,0,""]
[172,"",null,"",null,"",null,"",null,"",null,"","",null,"","",0,0,21,1,0,{"$f":"IF(U178=1,COUNTIF($O$7:$P178,O178),7)","v":7},0,{"$f":"IF(W178=1,COUNTIF($O$7:$P178,P178),7)","v":7},1,null,"","","","","",null,0,""]
[173,"",null,"",null,"",null,"",null,"",null,"","",null,"","",0,0,22,1,0,{"$f":"IF(U179=1,COUNTIF($O$7:$P179,O179),7)","v":7},0,{"$f":"IF(W179=1,COUNTIF($O$7:$P179,P179),7)","v":7},1,null,"","","","","",null,0,""]
[174,"",null,"",null,"",null,"",null,"",null,"","",null,"","",0,0,23,1,0,{"$f":"IF(U180=1,COUNTIF($O$7:$P180,O180),7)","v":7},0,{"$f":"IF(W180=1,COUNTIF($O$7:$P180,P180),7)","v":7},1,null,"","","","","",null,0,""]
[175,"",null,"",null,"",null,"",null,"",null,"","",null,"","",0,0,24,1,0,{"$f":"IF(U181=1,COUNTIF($O$7:$P181,O181),7)","v":7},0,{"$f":"IF(W181=1,COUNTIF($O$7:$P181,P181),7)","v":7},1,null,"","","","","",null,0,""]
[176,"",null,"",null,"",null,"",null,"",null,"","",null,"","",0,0,25,1,0,{"$f":"IF(U182=1,COUNTIF($O$7:$P182,O182),7)","v":7},0,{"$f":"IF(W182=1,COUNTIF($O$7:$P182,P182),7)","v":7},1,null,"","","","","",null,0,""]
[177,"",null,"",null,"",null,"",null,"",null,"","",null,"","",0,0,26,1,0,{"$f":"IF(U183=1,COUNTIF($O$7:$P183,O183),7)","v":7},0,{"$f":"IF(W183=1,COUNTIF($O$7:$P183,P183),7)","v":7},1,null,"","","","","",null,0,""]
[178,"",null,"",null,"",null,"",null,"",null,"","",null,"","",0,0,27,1,0,{"$f":"IF(U184=1,COUNTIF($O$7:$P184,O184),7)","v":7},0,{"$f":"IF(W184=1,COUNTIF($O$7:$P184,P184),7)","v":7},1,null,"","","","","",null,0,""]
[179,"",null,"",null,"",null,"",null,"",null,"","",null,"","",0,0,28,1,0,{"$f":"IF(U185=1,COUNTIF($O$7:$P185,O185),7)","v":7},0,{"$f":"IF(W185=1,COUNTIF($O$7:$P185,P185),7)","v":7},1,null,"","","","","",null,0,""]
[180,"",null,"",null,"",null,"",null,"",null,"","",null,"","",0,0,29,1,0,{"$f":"IF(U186=1,COUNTIF($O$7:$P186,O186),7)","v":7},0,{"$f":"IF(W186=1,COUNTIF($O$7:$P186,P186),7)","v":7},1,null,"","","","","",null,0,""]
[181,"",null,"",null,"",null,"",null,"",null,"","",null,"","",0,0,30,1,0,{"$f":"IF(U187=1,COUNTIF($O$7:$P187,O187),7)","v":7},0,{"$f":"IF(W187=1,COUNTIF($O$7:$P187,P187),7)","v":7},1,null,"","","","","",null,0,""]
[182,"",null,"",null,"",null,"",null,"",null,"","",null,"","",0,0,31,1,0,{"$f":"IF(U188=1,COUNTIF($O$7:$P188,O188),7)","v":7},0,{"$f":"IF(W188=1,COUNTIF($O$7:$P188,P188),7)","v":7},1,null,"","","","","",null,0,""]
[183,"",null,"",null,"",null,"",null,"",null,"","",null,"","",0,0,32,1,0,{"$f":"IF(U189=1,COUNTIF($O$7:$P189,O189),7)","v":7},0,{"$f":"IF(W189=1,COUNTIF($O$7:$P189,P189),7)","v":7},1,null,"","","","","",null,0,""]
[184,"",null,"",null,"",null,"",null,"",null,"","",null,"","",0,0,33,1,0,{"$f":"IF(U190=1,COUNTIF($O$7:$P190,O190),7)","v":7},0,{"$f":"IF(W190=1,COUNTIF($O$7:$P190,P190),7)","v":7},1,null,"","","","","",null,0,""]
[185,"",null,"",null,"",null,"",null,"",null,"","",null,"","",0,0,34,1,0,{"$f":"IF(U191=1,COUNTIF($O$7:$P191,O191),7)","v":7},0,{"$f":"IF(W191=1,COUNTIF($O$7:$P191,P191),7)","v":7},1,null,"","","","","",null,0,""]
[186,"",null,"",null,"",null,"",null,"",null,"","",null,"","",0,0,35,1,0,{"$f":"IF(U192=1,COUNTIF($O$7:$P192,O192),7)","v":7},0,{"$f":"IF(W192=1,COUNTIF($O$7:$P192,P192),7)","v":7},1,null,"","","","","",null,0,""]
[187,"",null,"",null,"",null,"",null,"",null,"","",null,"","",0,0,36,1,0,{"$f":"IF(U193=1,COUNTIF($O$7:$P193,O193),7)","v":7},0,{"$f":"IF(W193=1,COUNTIF($O$7:$P193,P193),7)","v":7},1,null,"","","","","",null,0,""]
[188,"",null,"",null,"",null,"",null,"",null,"","",null,"","",0,0,37,1,0,{"$f":"IF(U194=1,COUNTIF($O$7:$P194,O194),7)","v":7},0,{"$f":"IF(W194=1,COUNTIF($O$7:$P194,P194),7)","v":7},1,null,"","","","","",null,0,""]
[189,"",null,"",null,"",null,"",null,"",null,"","",null,"","",0,0,38,1,0,{"$f":"IF(U195=1,COUNTIF($O$7:$P195,O195),7)","v":7},0,{"$f":"IF(W195=1,COUNTIF($O$7:$P195,P195),7)","v":7},1,null,"","","","","",null,0,""]
[190,"",null,"",null,"",null,"",null,"",null,"","",null,"","",0,0,39,1,0,{"$f":"IF(U196=1,COUNTIF($O$7:$P196,O196),7)","v":7},0,{"$f":"IF(W196=1,COUNTIF($O$7:$P196,P196),7)","v":7},1,null,"","","","","",null,0,""]
[191,"",null,"",null,"",null,"",null,"",null,"","",null,"","",0,0,40,1,0,{"$f":"IF(U197=1,COUNTIF($O$7:$P197,O197),7)","v":7},0,{"$f":"IF(W197=1,COUNTIF($O$7:$P197,P197),7)","v":7},1,null,"","","","","",null,0,""]
[192,"",null,"",null,"",null,"",null,"",null,"","",null,"","",0,0,41,1,0,{"$f":"IF(U198=1,COUNTIF($O$7:$P198,O198),7)","v":7},0,{"$f":"IF(W198=1,COUNTIF($O$7:$P198,P198),7)","v":7},1,null,"","","","","",null,0,""]
[193,"",null,"",null,"",null,"",null,"",null,"","",null,"","",0,0,42,1,{"$f":"COUNTIF(ZDOK,O:O)","v":0},{"$f":"IF(U199=1,COUNTIF($O$7:$P199,O199),7)","v":7},0,{"$f":"IF(W199=1,COUNTIF($O$7:$P199,P199),7)","v":7},1,null,"","","","","",null,0,""]
[194,"",null,"",null,"",null,"",null,"",null,"","",null,"","",0,0,43,1,0,{"$f":"IF(U200=1,COUNTIF($O$7:$P200,O200),7)","v":7},0,{"$f":"IF(W200=1,COUNTIF($O$7:$P200,P200),7)","v":7},1,null,{"$f":"IF(AG200=0,\"\",IF(AG200=5,AG200,CONCATENATE(LEFT(AG200,2),\":\",RIGHT(AG200,2))))","v":""},"","","","",null,0,""]
[195,"",null,"",null,"",null,"",null,"",null,"","",null,"","",0,0,44,1,0,{"$f":"IF(U201=1,COUNTIF($O$7:$P201,O201),7)","v":7},0,{"$f":"IF(W201=1,COUNTIF($O$7:$P201,P201),7)","v":7},1,null,"","","","","",null,0,""]
[196,"",null,"",null,"",null,"",null,"",null,"","",null,"","",0,0,45,1,0,{"$f":"IF(U202=1,COUNTIF($O$7:$P202,O202),7)","v":7},0,{"$f":"IF(W202=1,COUNTIF($O$7:$P202,P202),7)","v":7},1,null,"","","","","",null,0,""]
[197,"",null,"",null,"",null,"",null,"",null,"","",null,"","",0,0,46,1,0,{"$f":"IF(U203=1,COUNTIF($O$7:$P203,O203),7)","v":7},0,{"$f":"IF(W203=1,COUNTIF($O$7:$P203,P203),7)","v":7},1,null,"","","","","",null,0,""]
[198,"",null,"",null,"",null,"",null,"",null,"","",null,"","",0,0,47,1,0,{"$f":"IF(U204=1,COUNTIF($O$7:$P204,O204),7)","v":7},0,{"$f":"IF(W204=1,COUNTIF($O$7:$P204,P204),7)","v":7},1,null,"","","","","",null,{"$f":"IF(AH204=\":\",IF(LEN(C204)=4,CONCATENATE(\"0\",LEFT(C204,1),RIGHT(C204,2)),C204),IF(LEN(C204)=3,CONCATENATE(\"0\",C204),C204))","v":0},{"$f":"IF(LEN(C204)=4,MID(C204,2,1),MID(C204,3,1))","v":""}]
[199,"",null,"",null,"",null,"",null,"",null,"","",null,"","",0,0,48,1,0,{"$f":"IF(U205=1,COUNTIF($O$7:$P205,O205),7)","v":7},0,{"$f":"IF(W205=1,COUNTIF($O$7:$P205,P205),7)","v":7},1,null,"","","","","",null,0,""]
[200,"",null,"",null,"",null,"",null,"",null,"","",null,"","",0,0,49,1,0,{"$f":"IF(U206=1,COUNTIF($O$7:$P206,O206),7)","v":7},0,{"$f":"IF(W206=1,COUNTIF($O$7:$P206,P206),7)","v":7},1,null,"","","","","",null,0,""]
[201,"",null,"",null,"",null,"",null,"",null,"","",null,"","",0,0,50,1,0,{"$f":"IF(U207=1,COUNTIF($O$7:$P207,O207),7)","v":7},0,{"$f":"IF(W207=1,COUNTIF($O$7:$P207,P207),7)","v":7},1,null,"","","","","",null,0,""]
[202,"",null,"",null,"",null,"",null,"",null,"","",null,"","",0,0,51,1,0,{"$f":"IF(U208=1,COUNTIF($O$7:$P208,O208),7)","v":7},0,{"$f":"IF(W208=1,COUNTIF($O$7:$P208,P208),7)","v":7},1,null,"","","","","",null,0,""]
[203,"",null,"",null,"",null,"",null,"",null,"","",null,"","",0,0,52,1,0,{"$f":"IF(U209=1,COUNTIF($O$7:$P209,O209),7)","v":7},0,{"$f":"IF(W209=1,COUNTIF($O$7:$P209,P209),7)","v":7},1,null,"","","","","",null,0,""]
[204,"",null,"",null,"",null,"",null,"",null,"","",null,"","",0,0,53,1,0,{"$f":"IF(U210=1,COUNTIF($O$7:$P210,O210),7)","v":7},0,{"$f":"IF(W210=1,COUNTIF($O$7:$P210,P210),7)","v":7},1,null,"","","","","",null,0,""]
[205,"",null,"",null,"",null,"",null,"",null,"","",null,"","",0,0,54,1,0,{"$f":"IF(U211=1,COUNTIF($O$7:$P211,O211),7)","v":7},0,{"$f":"IF(W211=1,COUNTIF($O$7:$P211,P211),7)","v":7},1,null,"","","","","",null,0,""]
[206,"",null,"",null,"",null,"",null,"",null,"","",null,"","",0,0,55,1,0,{"$f":"IF(U212=1,COUNTIF($O$7:$P212,O212),7)","v":7},0,{"$f":"IF(W212=1,COUNTIF($O$7:$P212,P212),7)","v":7},1,null,"","","","","",null,0,""]
[207,"",null,"",null,"",null,"",null,"",null,"","",null,"","",0,0,56,1,0,{"$f":"IF(U213=1,COUNTIF($O$7:$P213,O213),7)","v":7},0,{"$f":"IF(W213=1,COUNTIF($O$7:$P213,P213),7)","v":7},1,null,"","","","","",null,0,""]
[208,"",null,"",null,"",null,"",null,"",null,"","",null,"","",0,0,57,1,0,{"$f":"IF(U214=1,COUNTIF($O$7:$P214,O214),7)","v":7},0,{"$f":"IF(W214=1,COUNTIF($O$7:$P214,P214),7)","v":7},1,null,"","","","","",null,0,""]
[209,"",null,"",null,"",null,"",null,"",null,"","",null,"","",0,0,58,1,0,{"$f":"IF(U215=1,COUNTIF($O$7:$P215,O215),7)","v":7},0,{"$f":"IF(W215=1,COUNTIF($O$7:$P215,P215),7)","v":7},1,null,"","","","","",null,0,""]
[210,"",null,"",null,"",null,"",null,"",null,"","",null,"","",0,0,59,1,0,{"$f":"IF(U216=1,COUNTIF($O$7:$P216,O216),7)","v":7},0,{"$f":"IF(W216=1,COUNTIF($O$7:$P216,P216),7)","v":7},1,null,"","","","","",null,0,""]
[211,"",null,"",null,"",null,"",null,"",null,"","",null,"","",0,0,60,1,0,{"$f":"IF(U217=1,COUNTIF($O$7:$P217,O217),7)","v":7},0,{"$f":"IF(W217=1,COUNTIF($O$7:$P217,P217),7)","v":7},1,null,"","","","","",null,0,""]
[212,"",null,"",null,"",null,"",null,"",null,"","",null,"","",0,0,61,1,0,{"$f":"IF(U218=1,COUNTIF($O$7:$P218,O218),7)","v":7},0,{"$f":"IF(W218=1,COUNTIF($O$7:$P218,P218),7)","v":7},1,null,"","","","","",null,0,""]
[213,"",null,"",null,"",null,"",null,"",null,"","",null,"","",0,0,62,1,0,{"$f":"IF(U219=1,COUNTIF($O$7:$P219,O219),7)","v":7},0,{"$f":"IF(W219=1,COUNTIF($O$7:$P219,P219),7)","v":7},1,null,"","","","","",null,0,""]
[214,"",null,"",null,"",null,"",null,"",null,"","",null,"","",0,0,63,1,0,{"$f":"IF(U220=1,COUNTIF($O$7:$P220,O220),7)","v":7},0,{"$f":"IF(W220=1,COUNTIF($O$7:$P220,P220),7)","v":7},1,null,"","","","","",null,0,""]
[215,"",null,"",null,"",null,"",null,"",null,"","",null,"","",0,0,64,1,0,{"$f":"IF(U221=1,COUNTIF($O$7:$P221,O221),7)","v":7},0,{"$f":"IF(W221=1,COUNTIF($O$7:$P221,P221),7)","v":7},1,null,"","","","","",null,0,""]
[216,{"$f":"IF(D222=\"\",\"\",date1)","v":""},null,"",null,"",null,"",null,"",null,{"$f":"IF(D222=\"\",\"\",IF(Q222+T222>5,10,Y222))","v":""},{"$f":"IF(L222=\"\",\"\",IF(V222=1,1,0)+IF(X222=1,1,0))","v":""},null,{"$f":"TEXT(F222,\"\")","v":""},{"$f":"TEXT(J222,\"\")","v":""},{"$f":"IF(R222>0,5,0)","v":0},{"$f":"COUNTIF(VFDBDOK,F222)+COUNTIF(VFDBDOK,J222)","v":0},65,{"$f":"IF((U222+W222)>0,5,1)","v":1},0,{"$f":"IF(U222=1,COUNTIF($O$7:$P222,O222),7)","v":7},{"$f":"COUNTIF(ZDOK,P222)","v":0},{"$f":"IF(W222=1,COUNTIF($O$7:$P222,P222),7)","v":7},{"$f":"IF(O222=dok,0,(IF(P222=dok,0,T222)))","v":1},null,"",{"$f":"UPPER(D222)","v":""},{"$f":"UPPER(H222)","v":""},{"$f":"UPPER(SUBSTITUTE(O222,\" \",\"\",1))","v":""},{"$f":"UPPER(SUBSTITUTE(P222,\" \",\"\",1))","v":""},null,0,""]
[217,"",null,"",null,"",null,"",null,"",null,"","",null,"","",0,0,66,1,0,{"$f":"IF(U223=1,COUNTIF($O$7:$P223,O223),7)","v":7},0,{"$f":"IF(W223=1,COUNTIF($O$7:$P223,P223),7)","v":7},1,null,"","","","","",null,0,""]
[218,"",null,"",null,"",null,"",null,"",null,"","",null,"","",0,0,67,1,0,{"$f":"IF(U224=1,COUNTIF($O$7:$P224,O224),7)","v":7},0,{"$f":"IF(W224=1,COUNTIF($O$7:$P224,P224),7)","v":7},1,null,"","","","","",null,0,""]
[219,"",null,"",null,"",null,"",null,"",null,"","",null,"","",0,0,68,1,0,{"$f":"IF(U225=1,COUNTIF($O$7:$P225,O225),7)","v":7},0,{"$f":"IF(W225=1,COUNTIF($O$7:$P225,P225),7)","v":7},1,null,"","","","","",null,0,""]
[220,"",null,"",null,"",null,"",null,"",null,"","",null,"","",0,0,69,1,0,{"$f":"IF(U226=1,COUNTIF($O$7:$P226,O226),7)","v":7},0,{"$f":"IF(W226=1,COUNTIF($O$7:$P226,P226),7)","v":7},1,null,"","","","","",null,0,""]
[221,"",null,"",null,"",null,"",null,"",null,"","",null,"","",0,0,70,1,0,{"$f":"IF(U227=1,COUNTIF($O$7:$P227,O227),7)","v":7},0,{"$f":"IF(W227=1,COUNTIF($O$7:$P227,P227),7)","v":7},1,null,"","","","","",null,0,""]
[222,"",null,"",null,"",null,"",null,"",null,"","",null,"","",0,0,71,1,0,{"$f":"IF(U228=1,COUNTIF($O$7:$P228,O228),7)","v":7},0,{"$f":"IF(W228=1,COUNTIF($O$7:$P228,P228),7)","v":7},1,null,"","","","","",null,0,""]
[223,"",null,"",null,"",null,"",null,"",null,"","",null,"","",0,0,72,1,0,{"$f":"IF(U229=1,COUNTIF($O$7:$P229,O229),7)","v":7},0,{"$f":"IF(W229=1,COUNTIF($O$7:$P229,P229),7)","v":7},1,null,"","","","","",null,0,""]
[224,"",null,"",null,"",null,"",null,"",null,"","",null,"","",0,0,73,1,0,{"$f":"IF(U230=1,COUNTIF($O$7:$P230,O230),7)","v":7},0,{"$f":"IF(W230=1,COUNTIF($O$7:$P230,P230),7)","v":7},1,null,"","","","","",null,0,""]
[225,"",null,"",null,"",null,"",null,"",null,"","",null,"","",0,0,74,1,0,{"$f":"IF(U231=1,COUNTIF($O$7:$P231,O231),7)","v":7},0,{"$f":"IF(W231=1,COUNTIF($O$7:$P231,P231),7)","v":7},1,null,"","","","","",null,0,""]
[226,"",null,"",null,"",null,"",null,"",null,"","",null,"","",0,0,75,1,0,{"$f":"IF(U232=1,COUNTIF($O$7:$P232,O232),7)","v":7},0,{"$f":"IF(W232=1,COUNTIF($O$7:$P232,P232),7)","v":7},1,null,"","","","","",null,0,""]
[227,"",null,"",null,"",null,"",null,"",null,"","",null,"","",0,0,76,1,0,{"$f":"IF(U233=1,COUNTIF($O$7:$P233,O233),7)","v":7},0,{"$f":"IF(W233=1,COUNTIF($O$7:$P233,P233),7)","v":7},1,null,"","","","","",null,0,""]
[228,"",null,"",null,"",null,"",null,"",null,"","",null,"","",0,0,77,1,0,{"$f":"IF(U234=1,COUNTIF($O$7:$P234,O234),7)","v":7},0,{"$f":"IF(W234=1,COUNTIF($O$7:$P234,P234),7)","v":7},1,null,"","","","","",null,0,""]
[229,"",null,"",null,"",null,"",null,"",null,"","",null,"","",0,0,78,1,0,{"$f":"IF(U235=1,COUNTIF($O$7:$P235,O235),7)","v":7},0,{"$f":"IF(W235=1,COUNTIF($O$7:$P235,P235),7)","v":7},1,null,"","","","","",null,0,""]
[230,"",null,"",null,"",null,"",null,"",null,"","",null,"","",0,0,79,1,0,{"$f":"IF(U236=1,COUNTIF($O$7:$P236,O236),7)","v":7},0,{"$f":"IF(W236=1,COUNTIF($O$7:$P236,P236),7)","v":7},1,null,"","","","","",null,0,""]
[231,"",null,"",null,"",null,"",null,"",null,"","",null,"","",0,0,80,1,0,{"$f":"IF(U237=1,COUNTIF($O$7:$P237,O237),7)","v":7},0,{"$f":"IF(W237=1,COUNTIF($O$7:$P237,P237),7)","v":7},1,null,"","","","","",null,0,""]
[232,"",null,"",null,"",null,"",null,"",null,"","",null,"","",0,0,81,1,0,{"$f":"IF(U238=1,COUNTIF($O$7:$P238,O238),7)","v":7},0,{"$f":"IF(W238=1,COUNTIF($O$7:$P238,P238),7)","v":7},1,null,"","","","","",null,0,""]
[233,"",null,"",null,"",null,"",null,"",null,"","",null,"","",0,0,82,1,0,{"$f":"IF(U239=1,COUNTIF($O$7:$P239,O239),7)","v":7},0,{"$f":"IF(W239=1,COUNTIF($O$7:$P239,P239),7)","v":7},1,null,"","","","","",null,0,""]
[234,"",null,"",null,"",null,"",null,"",null,"","",null,"","",0,0,83,1,0,{"$f":"IF(U240=1,COUNTIF($O$7:$P240,O240),7)","v":7},0,{"$f":"IF(W240=1,COUNTIF($O$7:$P240,P240),7)","v":7},1,null,"","","","","",null,0,""]
[235,"",null,"",null,"",null,"",null,"",null,"","",null,"","",0,0,84,1,0,{"$f":"IF(U241=1,COUNTIF($O$7:$P241,O241),7)","v":7},0,{"$f":"IF(W241=1,COUNTIF($O$7:$P241,P241),7)","v":7},1,null,"","","","","",null,0,""]
[236,"",null,"",null,"",null,"",null,"",null,"","",null,"","",0,0,85,1,0,{"$f":"IF(U242=1,COUNTIF($O$7:$P242,O242),7)","v":7},0,{"$f":"IF(W242=1,COUNTIF($O$7:$P242,P242),7)","v":7},1,null,"","","","","",null,0,""]
[237,"",null,"",null,"",null,"",null,"",null,"","",null,"","",0,0,86,1,0,{"$f":"IF(U243=1,COUNTIF($O$7:$P243,O243),7)","v":7},0,{"$f":"IF(W243=1,COUNTIF($O$7:$P243,P243),7)","v":7},1,null,"","","","","",null,0,""]
[238,"",null,"",null,"",null,"",null,"",null,"","",null,"","",0,0,87,1,0,{"$f":"IF(U244=1,COUNTIF($O$7:$P244,O244),7)","v":7},0,{"$f":"IF(W244=1,COUNTIF($O$7:$P244,P244),7)","v":7},1,null,"","","","","",null,0,""]
[239,"",null,"",null,"",null,"",null,"",null,"","",null,"","",0,0,88,1,0,{"$f":"IF(U245=1,COUNTIF($O$7:$P245,O245),7)","v":7},0,{"$f":"IF(W245=1,COUNTIF($O$7:$P245,P245),7)","v":7},1,null,"","","","","",null,0,""]
[240,"",null,"",null,"",null,"",null,"",null,"","",null,"","",0,0,89,1,0,{"$f":"IF(U246=1,COUNTIF($O$7:$P246,O246),7)","v":7},0,{"$f":"IF(W246=1,COUNTIF($O$7:$P246,P246),7)","v":7},1,null,"","","","","",null,0,""]
[241,"",null,"",null,"",null,"",null,"",null,"","",null,"","",0,0,90,1,0,{"$f":"IF(U247=1,COUNTIF($O$7:$P247,O247),7)","v":7},0,{"$f":"IF(W247=1,COUNTIF($O$7:$P247,P247),7)","v":7},1,null,"","","","","",null,0,""]
[242,"",null,"",null,"",null,"",null,"",null,"","",null,"","",0,0,91,1,0,{"$f":"IF(U248=1,COUNTIF($O$7:$P248,O248),7)","v":7},0,{"$f":"IF(W248=1,COUNTIF($O$7:$P248,P248),7)","v":7},1,null,"","","","","",null,0,""]
[243,"",null,"",null,"",null,"",null,"",null,"","",null,"","",0,0,92,1,0,{"$f":"IF(U249=1,COUNTIF($O$7:$P249,O249),7)","v":7},0,{"$f":"IF(W249=1,COUNTIF($O$7:$P249,P249),7)","v":7},1,null,"","","","","",null,0,""]
[244,"",null,"",null,"",null,"",null,"",null,"","",null,"","",0,0,93,1,0,{"$f":"IF(U250=1,COUNTIF($O$7:$P250,O250),7)","v":7},0,{"$f":"IF(W250=1,COUNTIF($O$7:$P250,P250),7)","v":7},1,null,"","","","","",null,0,""]
[245,"",null,"",null,"",null,"",null,"",null,"","",null,"","",0,0,94,1,0,{"$f":"IF(U251=1,COUNTIF($O$7:$P251,O251),7)","v":7},0,{"$f":"IF(W251=1,COUNTIF($O$7:$P251,P251),7)","v":7},1,null,"","","","","",null,0,""]
[246,"",null,"",null,"",null,"",null,"",null,"","",null,"","",0,0,95,1,0,{"$f":"IF(U252=1,COUNTIF($O$7:$P252,O252),7)","v":7},0,{"$f":"IF(W252=1,COUNTIF($O$7:$P252,P252),7)","v":7},1,null,"","","","","",null,0,""]
[247,"",null,"",null,"",null,"",null,"",null,"","",null,"","",0,0,96,1,0,{"$f":"IF(U253=1,COUNTIF($O$7:$P253,O253),7)","v":7},0,{"$f":"IF(W253=1,COUNTIF($O$7:$P253,P253),7)","v":7},1,null,"","","","","",null,0,""]
[248,"",null,"",null,"",null,"",null,"",null,"","",null,"","",0,0,97,1,0,{"$f":"IF(U254=1,COUNTIF($O$7:$P254,O254),7)","v":7},0,{"$f":"IF(W254=1,COUNTIF($O$7:$P254,P254),7)","v":7},1,null,"","","","","",null,0,""]
[249,"",null,"",null,"",null,"",null,"",null,"","",null,"","",0,0,98,1,0,{"$f":"IF(U255=1,COUNTIF($O$7:$P255,O255),7)","v":7},0,{"$f":"IF(W255=1,COUNTIF($O$7:$P255,P255),7)","v":7},1,null,"","","","","",null,0,""]
[250,"",null,"",null,"",null,"",null,"",null,"","",null,"","",0,0,99,1,0,{"$f":"IF(U256=1,COUNTIF($O$7:$P256,O256),7)","v":7},0,{"$f":"IF(W256=1,COUNTIF($O$7:$P256,P256),7)","v":7},1,null,"","","","","",null,0,""]
[251,"",null,"",null,"",null,"",null,"",null,"","",null,"","",0,0,100,1,0,{"$f":"IF(U257=1,COUNTIF($O$7:$P257,O257),7)","v":7},0,{"$f":"IF(W257=1,COUNTIF($O$7:$P257,P257),7)","v":7},1,null,"","","","","",null,0,""]
[252,"",null,"",null,"",null,"",null,"",null,"","",null,"","",0,0,101,1,0,{"$f":"IF(U258=1,COUNTIF($O$7:$P258,O258),7)","v":7},0,{"$f":"IF(W258=1,COUNTIF($O$7:$P258,P258),7)","v":7},1,null,"","","","","",null,0,""]
[253,"",null,"",null,"",null,"",null,"",null,"","",null,"","",0,0,102,1,0,{"$f":"IF(U259=1,COUNTIF($O$7:$P259,O259),7)","v":7},0,{"$f":"IF(W259=1,COUNTIF($O$7:$P259,P259),7)","v":7},1,null,"","","","","",null,0,""]
[254,"",null,"",null,"",null,"",null,"",null,"","",null,"","",0,0,103,1,0,{"$f":"IF(U260=1,COUNTIF($O$7:$P260,O260),7)","v":7},0,{"$f":"IF(W260=1,COUNTIF($O$7:$P260,P260),7)","v":7},1,null,"","","","","",null,0,""]
[255,"",null,"",null,"",null,"",null,"",null,"","",null,"","",0,0,104,1,0,{"$f":"IF(U261=1,COUNTIF($O$7:$P261,O261),7)","v":7},0,{"$f":"IF(W261=1,COUNTIF($O$7:$P261,P261),7)","v":7},1,null,"","","","","",null,0,""]
[256,"",null,"",null,"",null,"",null,"",null,"","",null,"","",0,0,105,1,0,{"$f":"IF(U262=1,COUNTIF($O$7:$P262,O262),7)","v":7},0,{"$f":"IF(W262=1,COUNTIF($O$7:$P262,P262),7)","v":7},1,null,"","","","","",null,0,""]
[257,"",null,"",null,"",null,"",null,"",null,"","",null,"","",0,0,106,1,{"$f":"COUNTIF(ZDOK,O:O)","v":0},{"$f":"IF(U263=1,COUNTIF($O$7:$P263,O263),7)","v":7},0,{"$f":"IF(W263=1,COUNTIF($O$7:$P263,P263),7)","v":7},1,null,"","","","","",null,0,""]
[258,"",null,"",null,"",null,"",null,"",null,"","",null,"","",0,0,107,1,0,{"$f":"IF(U264=1,COUNTIF($O$7:$P264,O264),7)","v":7},0,{"$f":"IF(W264=1,COUNTIF($O$7:$P264,P264),7)","v":7},1,null,{"$f":"IF(AG264=0,\"\",IF(AG264=5,AG264,CONCATENATE(LEFT(AG264,2),\":\",RIGHT(AG264,2))))","v":""},"","","","",null,0,""]
[259,"",null,"",null,"",null,"",null,"",null,"","",null,"","",0,0,108,1,0,{"$f":"IF(U265=1,COUNTIF($O$7:$P265,O265),7)","v":7},0,{"$f":"IF(W265=1,COUNTIF($O$7:$P265,P265),7)","v":7},1,null,"","","","","",null,0,""]
[260,"",null,"",null,"",null,"",null,"",null,"","",null,"","",0,0,109,1,0,{"$f":"IF(U266=1,COUNTIF($O$7:$P266,O266),7)","v":7},0,{"$f":"IF(W266=1,COUNTIF($O$7:$P266,P266),7)","v":7},1,null,"","","","","",null,0,""]
[261,"",null,"",null,"",null,"",null,"",null,"","",null,"","",0,0,110,1,0,{"$f":"IF(U267=1,COUNTIF($O$7:$P267,O267),7)","v":7},0,{"$f":"IF(W267=1,COUNTIF($O$7:$P267,P267),7)","v":7},1,null,"","","","","",null,0,""]
[262,"",null,"",null,"",null,"",null,"",null,"","",null,"","",0,0,111,1,0,{"$f":"IF(U268=1,COUNTIF($O$7:$P268,O268),7)","v":7},0,{"$f":"IF(W268=1,COUNTIF($O$7:$P268,P268),7)","v":7},1,null,"","","","","",null,{"$f":"IF(AH268=\":\",IF(LEN(C268)=4,CONCATENATE(\"0\",LEFT(C268,1),RIGHT(C268,2)),C268),IF(LEN(C268)=3,CONCATENATE(\"0\",C268),C268))","v":0},{"$f":"IF(LEN(C268)=4,MID(C268,2,1),MID(C268,3,1))","v":""}]
[263,"",null,"",null,"",null,"",null,"",null,"","",null,"","",0,0,112,1,0,{"$f":"IF(U269=1,COUNTIF($O$7:$P269,O269),7)","v":7},0,{"$f":"IF(W269=1,COUNTIF($O$7:$P269,P269),7)","v":7},1,null,"","","","","",null,0,""]
[264,"",null,"",null,"",null,"",null,"",null,"","",null,"","",0,0,113,1,0,{"$f":"IF(U270=1,COUNTIF($O$7:$P270,O270),7)","v":7},0,{"$f":"IF(W270=1,COUNTIF($O$7:$P270,P270),7)","v":7},1,null,"","","","","",null,0,""]
[265,"",null,"",null,"",null,"",null,"",null,"","",null,"","",0,0,114,1,0,{"$f":"IF(U271=1,COUNTIF($O$7:$P271,O271),7)","v":7},0,{"$f":"IF(W271=1,COUNTIF($O$7:$P271,P271),7)","v":7},1,null,"","","","","",null,0,""]
[266,"",null,"",null,"",null,"",null,"",null,"","",null,"","",0,0,115,1,0,{"$f":"IF(U272=1,COUNTIF($O$7:$P272,O272),7)","v":7},0,{"$f":"IF(W272=1,COUNTIF($O$7:$P272,P272),7)","v":7},1,null,"","","","","",null,0,""]
[267,"",null,"",null,"",null,"",null,"",null,"","",null,"","",0,0,116,1,0,{"$f":"IF(U273=1,COUNTIF($O$7:$P273,O273),7)","v":7},0,{"$f":"IF(W273=1,COUNTIF($O$7:$P273,P273),7)","v":7},1,null,"","","","","",null,0,""]
[268,"",null,"",null,"",null,"",null,"",null,"","",null,"","",0,0,117,1,0,{"$f":"IF(U274=1,COUNTIF($O$7:$P274,O274),7)","v":7},0,{"$f":"IF(W274=1,COUNTIF($O$7:$P274,P274),7)","v":7},1,null,"","","","","",null,0,""]
[269,"",null,"",null,"",null,"",null,"",null,"","",null,"","",0,0,118,1,0,{"$f":"IF(U275=1,COUNTIF($O$7:$P275,O275),7)","v":7},0,{"$f":"IF(W275=1,COUNTIF($O$7:$P275,P275),7)","v":7},1,null,"","","","","",null,0,""]
[270,"",null,"",null,"",null,"",null,"",null,"","",null,"","",0,0,119,1,0,{"$f":"IF(U276=1,COUNTIF($O$7:$P276,O276),7)","v":7},0,{"$f":"IF(W276=1,COUNTIF($O$7:$P276,P276),7)","v":7},1,null,"","","","","",null,0,""]
[271,"",null,"",null,"",null,"",null,"",null,"","",null,"","",0,0,120,1,0,{"$f":"IF(U277=1,COUNTIF($O$7:$P277,O277),7)","v":7},0,{"$f":"IF(W277=1,COUNTIF($O$7:$P277,P277),7)","v":7},1,null,"","","","","",null,0,""]
[272,"",null,"",null,"",null,"",null,"",null,"","",null,"","",0,0,121,1,0,{"$f":"IF(U278=1,COUNTIF($O$7:$P278,O278),7)","v":7},0,{"$f":"IF(W278=1,COUNTIF($O$7:$P278,P278),7)","v":7},1,null,"","","","","",null,0,""]
[273,"",null,"",null,"",null,"",null,"",null,"","",null,"","",0,0,122,1,0,{"$f":"IF(U279=1,COUNTIF($O$7:$P279,O279),7)","v":7},0,{"$f":"IF(W279=1,COUNTIF($O$7:$P279,P279),7)","v":7},1,null,"","","","","",null,0,""]
[274,"",null,"",null,"",null,"",null,"",null,"","",null,"","",0,0,123,1,0,{"$f":"IF(U280=1,COUNTIF($O$7:$P280,O280),7)","v":7},0,{"$f":"IF(W280=1,COUNTIF($O$7:$P280,P280),7)","v":7},1,null,"","","","","",null,0,""]
[275,"",null,"",null,"",null,"",null,"",null,"","",null,"","",0,0,124,1,0,{"$f":"IF(U281=1,COUNTIF($O$7:$P281,O281),7)","v":7},0,{"$f":"IF(W281=1,COUNTIF($O$7:$P281,P281),7)","v":7},1,null,"","","","","",null,0,""]
[276,"",null,"",null,"",null,"",null,"",null,"","",null,"","",0,0,125,1,0,{"$f":"IF(U282=1,COUNTIF($O$7:$P282,O282),7)","v":7},0,{"$f":"IF(W282=1,COUNTIF($O$7:$P282,P282),7)","v":7},1,null,"","","","","",null,0,""]
[277,"",null,"",null,"",null,"",null,"",null,"","",null,"","",0,0,126,1,0,{"$f":"IF(U283=1,COUNTIF($O$7:$P283,O283),7)","v":7},0,{"$f":"IF(W283=1,COUNTIF($O$7:$P283,P283),7)","v":7},1,null,"","","","","",null,0,""]
[278,"",null,null,null,null,null,null,null,null,null,"","",null,"","",0,0,127,1,0,{"$f":"IF(U284=1,COUNTIF($O$7:$P284,O284),7)","v":7},0,{"$f":"IF(W284=1,COUNTIF($O$7:$P284,P284),7)","v":7},1,null,"","","","","",null,0,""]
[279,"",null,"",null,"",null,"",null,"",null,"","",null,"","",0,0,128,1,0,{"$f":"IF(U285=1,COUNTIF($O$7:$P285,O285),7)","v":7},0,{"$f":"IF(W285=1,COUNTIF($O$7:$P285,P285),7)","v":7},1,null,"","","","","",null,0,""]
[280,{"$f":"IF(D286=\"\",\"\",date1)","v":""},null,"",null,"",null,"",null,"",null,{"$f":"IF(D286=\"\",\"\",IF(Q286+T286>5,10,Y286))","v":""},{"$f":"IF(L286=\"\",\"\",IF(V286=1,1,0)+IF(X286=1,1,0))","v":""},null,{"$f":"TEXT(F286,\"\")","v":""},{"$f":"TEXT(J286,\"\")","v":""},{"$f":"IF(R286>0,5,0)","v":0},{"$f":"COUNTIF(VFDBDOK,F286)+COUNTIF(VFDBDOK,J286)","v":0},129,{"$f":"IF((U286+W286)>0,5,1)","v":1},0,{"$f":"IF(U286=1,COUNTIF($O$7:$P286,O286),7)","v":7},{"$f":"COUNTIF(ZDOK,P286)","v":0},{"$f":"IF(W286=1,COUNTIF($O$7:$P286,P286),7)","v":7},{"$f":"IF(O286=dok,0,(IF(P286=dok,0,T286)))","v":1},null,"",{"$f":"UPPER(D286)","v":""},{"$f":"UPPER(H286)","v":""},{"$f":"UPPER(SUBSTITUTE(O286,\" \",\"\",1))","v":""},{"$f":"UPPER(SUBSTITUTE(P286,\" \",\"\",1))","v":""},null,0,""]
[281,"",null,"",null,"",null,"",null,"",null,"","",null,"","",0,0,130,1,0,{"$f":"IF(U287=1,COUNTIF($O$7:$P287,O287),7)","v":7},0,{"$f":"IF(W287=1,COUNTIF($O$7:$P287,P287),7)","v":7},1,null,"","","","","",null,0,""]
[282,"",null,"",null,"",null,"",null,"",null,"","",null,"","",0,0,131,1,0,{"$f":"IF(U288=1,COUNTIF($O$7:$P288,O288),7)","v":7},0,{"$f":"IF(W288=1,COUNTIF($O$7:$P288,P288),7)","v":7},1,null,"","","","","",null,0,""]
[283,"",null,"",null,"",null,"",null,"",null,"","",null,"","",0,0,132,1,0,{"$f":"IF(U289=1,COUNTIF($O$7:$P289,O289),7)","v":7},0,{"$f":"IF(W289=1,COUNTIF($O$7:$P289,P289),7)","v":7},1,null,"","","","","",null,0,""]
[284,"",null,"",null,"",null,"",null,"",null,"","",null,"","",0,0,133,1,0,{"$f":"IF(U290=1,COUNTIF($O$7:$P290,O290),7)","v":7},0,{"$f":"IF(W290=1,COUNTIF($O$7:$P290,P290),7)","v":7},1,null,"","","","","",null,0,""]
[285,"",null,"",null,"",null,"",null,"",null,"","",null,"","",0,0,134,1,0,{"$f":"IF(U291=1,COUNTIF($O$7:$P291,O291),7)","v":7},0,{"$f":"IF(W291=1,COUNTIF($O$7:$P291,P291),7)","v":7},1,null,"","","","","",null,0,""]
[286,"",null,"",null,"",null,"",null,"",null,"","",null,"","",0,0,135,1,0,{"$f":"IF(U292=1,COUNTIF($O$7:$P292,O292),7)","v":7},0,{"$f":"IF(W292=1,COUNTIF($O$7:$P292,P292),7)","v":7},1,null,"","","","","",null,0,""]
[287,"",null,"",null,"",null,"",null,"",null,"","",null,"","",0,0,136,1,0,{"$f":"IF(U293=1,COUNTIF($O$7:$P293,O293),7)","v":7},0,{"$f":"IF(W293=1,COUNTIF($O$7:$P293,P293),7)","v":7},1,null,"","","","","",null,0,""]
[288,"",null,"",null,"",null,"",null,"",null,"","",null,"","",0,0,137,1,0,{"$f":"IF(U294=1,COUNTIF($O$7:$P294,O294),7)","v":7},0,{"$f":"IF(W294=1,COUNTIF($O$7:$P294,P294),7)","v":7},1,null,"","","","","",null,0,""]
[289,"",null,"",null,"",null,"",null,"",null,"","",null,"","",0,0,138,1,0,{"$f":"IF(U295=1,COUNTIF($O$7:$P295,O295),7)","v":7},0,{"$f":"IF(W295=1,COUNTIF($O$7:$P295,P295),7)","v":7},1,null,"","","","","",null,0,""]
[290,"",null,"",null,"",null,"",null,"",null,"","",null,"","",0,0,139,1,0,{"$f":"IF(U296=1,COUNTIF($O$7:$P296,O296),7)","v":7},0,{"$f":"IF(W296=1,COUNTIF($O$7:$P296,P296),7)","v":7},1,null,"","","","","",null,0,""]
[291,"",null,"",null,"",null,"",null,"",null,"","",null,"","",0,0,140,1,0,{"$f":"IF(U297=1,COUNTIF($O$7:$P297,O297),7)","v":7},0,{"$f":"IF(W297=1,COUNTIF($O$7:$P297,P297),7)","v":7},1,null,"","","","","",null,0,""]
[292,"",null,"",null,"",null,"",null,"",null,"","",null,"","",0,0,141,1,0,{"$f":"IF(U298=1,COUNTIF($O$7:$P298,O298),7)","v":7},0,{"$f":"IF(W298=1,COUNTIF($O$7:$P298,P298),7)","v":7},1,null,"","","","","",null,0,""]
[293,"",null,"",null,"",null,"",null,"",null,"","",null,"","",0,0,142,1,0,{"$f":"IF(U299=1,COUNTIF($O$7:$P299,O299),7)","v":7},0,{"$f":"IF(W299=1,COUNTIF($O$7:$P299,P299),7)","v":7},1,null,"","","","","",null,0,""]
[294,"",null,"",null,"",null,"",null,"",null,"","",null,"","",0,0,143,1,0,{"$f":"IF(U300=1,COUNTIF($O$7:$P300,O300),7)","v":7},0,{"$f":"IF(W300=1,COUNTIF($O$7:$P300,P300),7)","v":7},1,null,"","","","","",null,0,""]
[295,{"$f":"IF(D301=\"\",\"\",date1)","v":""},null,"",null,"",null,"",null,"",null,{"$f":"IF(D301=\"\",\"\",IF(Q301+T301>5,10,Y301))","v":""},{"$f":"IF(L301=\"\",\"\",IF(V301=1,1,0)+IF(X301=1,1,0))","v":""},null,{"$f":"TEXT(F301,\"\")","v":""},{"$f":"TEXT(J301,\"\")","v":""},{"$f":"IF(R301>0,5,0)","v":0},{"$f":"COUNTIF(VFDBDOK,F301)+COUNTIF(VFDBDOK,J301)","v":0},144,{"$f":"IF((U301+W301)>0,5,1)","v":1},0,{"$f":"IF(U301=1,COUNTIF($O$7:$P301,O301),7)","v":7},{"$f":"COUNTIF(ZDOK,P301)","v":0},{"$f":"IF(W301=1,COUNTIF($O$7:$P301,P301),7)","v":7},{"$f":"IF(O301=dok,0,(IF(P301=dok,0,T301)))","v":1},null,"",{"$f":"UPPER(D301)","v":""},{"$f":"UPPER(H301)","v":""},{"$f":"UPPER(SUBSTITUTE(O301,\" \",\"\",1))","v":""},"",null,0,""]
[296,{"$f":"IF(D302=\"\",\"\",date1)","v":""},null,"",null,"",null,"",null,"",null,{"$f":"IF(D302=\"\",\"\",IF(Q302+T302>5,10,Y302))","v":""},{"$f":"IF(L302=\"\",\"\",IF(V302=1,1,0)+IF(X302=1,1,0))","v":""},null,{"$f":"TEXT(F302,\"\")","v":""},{"$f":"TEXT(J302,\"\")","v":""},{"$f":"IF(R302>0,5,0)","v":0},{"$f":"COUNTIF(VFDBDOK,F302)+COUNTIF(VFDBDOK,J302)","v":0},145,{"$f":"IF((U302+W302)>0,5,1)","v":1},0,{"$f":"IF(U302=1,COUNTIF($O$7:$P302,O302),7)","v":7},{"$f":"COUNTIF(ZDOK,P302)","v":0},{"$f":"IF(W302=1,COUNTIF($O$7:$P302,P302),7)","v":7},{"$f":"IF(O302=dok,0,(IF(P302=dok,0,T302)))","v":1},null,"",{"$f":"UPPER(D302)","v":""},{"$f":"UPPER(H302)","v":""},"","",null,0,""]
[297,{"$f":"IF(D303=\"\",\"\",date1)","v":""},null,"",null,"",null,"",null,"",null,{"$f":"IF(D303=\"\",\"\",IF(Q303+T303>5,10,Y303))","v":""},{"$f":"IF(L303=\"\",\"\",IF(V303=1,1,0)+IF(X303=1,1,0))","v":""},null,{"$f":"TEXT(F303,\"\")","v":""},{"$f":"TEXT(J303,\"\")","v":""},{"$f":"IF(R303>0,5,0)","v":0},{"$f":"COUNTIF(VFDBDOK,F303)+COUNTIF(VFDBDOK,J303)","v":0},146,{"$f":"IF((U303+W303)>0,5,1)","v":1},0,{"$f":"IF(U303=1,COUNTIF($O$7:$P303,O303),7)","v":7},{"$f":"COUNTIF(ZDOK,P303)","v":0},{"$f":"IF(W303=1,COUNTIF($O$7:$P303,P303),7)","v":7},{"$f":"IF(O303=dok,0,(IF(P303=dok,0,T303)))","v":1},null,"",{"$f":"UPPER(D303)","v":""},{"$f":"UPPER(H303)","v":""},"","",null,0,""]
[298,{"$f":"IF(D304=\"\",\"\",date1)","v":""},null,"",null,"",null,"",null,"",null,{"$f":"IF(D304=\"\",\"\",IF(Q304+T304>5,10,Y304))","v":""},{"$f":"IF(L304=\"\",\"\",IF(V304=1,1,0)+IF(X304=1,1,0))","v":""},null,{"$f":"TEXT(F304,\"\")","v":""},{"$f":"TEXT(J304,\"\")","v":""},{"$f":"IF(R304>0,5,0)","v":0},{"$f":"COUNTIF(VFDBDOK,F304)+COUNTIF(VFDBDOK,J304)","v":0},147,{"$f":"IF((U304+W304)>0,5,1)","v":1},0,{"$f":"IF(U304=1,COUNTIF($O$7:$P304,O304),7)","v":7},{"$f":"COUNTIF(ZDOK,P304)","v":0},{"$f":"IF(W304=1,COUNTIF($O$7:$P304,P304),7)","v":7},{"$f":"IF(O304=dok,0,(IF(P304=dok,0,T304)))","v":1},null,"",{"$f":"UPPER(D304)","v":""},{"$f":"UPPER(H304)","v":""},"","",null,0,""]
[299,{"$f":"IF(D305=\"\",\"\",date1)","v":""},null,"",null,"",null,"",null,"",null,{"$f":"IF(D305=\"\",\"\",IF(Q305+T305>5,10,Y305))","v":""},{"$f":"IF(L305=\"\",\"\",IF(V305=1,1,0)+IF(X305=1,1,0))","v":""},null,{"$f":"TEXT(F305,\"\")","v":""},{"$f":"TEXT(J305,\"\")","v":""},{"$f":"IF(R305>0,5,0)","v":0},{"$f":"COUNTIF(VFDBDOK,F305)+COUNTIF(VFDBDOK,J305)","v":0},148,{"$f":"IF((U305+W305)>0,5,1)","v":1},0,{"$f":"IF(U305=1,COUNTIF($O$7:$P305,O305),7)","v":7},{"$f":"COUNTIF(ZDOK,P305)","v":0},{"$f":"IF(W305=1,COUNTIF($O$7:$P305,P305),7)","v":7},{"$f":"IF(O305=dok,0,(IF(P305=dok,0,T305)))","v":1},null,"",{"$f":"UPPER(D305)","v":""},{"$f":"UPPER(H305)","v":""},"","",null,0,""]

{"sheet":"Blatt 2","index":3,"n_rows":305,"n_cols":34,"rows_kept":305,"cut":false,"hidden":false,"merged":[]}
[null,null,null,null,"VFDB-Contest Teil ",2,null,null,null,null,null,null,"Nach dem letzten Eintrag betätigen ->",null,null,null,null,null,null,null,null,null,null,null,null,null,null,null,null,{"$f":"cont2","v":2}]
[null,"          Call der Station  : ",null,null,{"$f":"call","v":" "},null,null,null,null,"Datum : ",{"$f":"date1","v":"2025-02-08"},null,null,null,null,null,null,null,null,null,null,null,null,null,null,null,null,null,null,null,"Datum : "]
[null,"          Wertungsgruppe : ",null,null,{"$f":"gruppe","v":"SWL"},null,null,null,null,"Band : ",{"$f":"band2","v":"40 m"},"Mode :",null,{"$f":"mode2","v":"SSB"},null,null,null,null,null,null,null,null,null,null,null,null,null,null,null,null,"Band : "]
[]
["Nr.","Date","UTC","CALL1","RST","DOK","LOC ","CALL2","RST","DOK","LOC","QSO","Multi","Bemerkung",null,null,null,null,null,null,"M1",null,"M2",null,"eig.dok",null,"UTC","CALL1","CALL2","DOK","DOK"]
[null,null,null,null," "," ","Gr.Feld",null,null," ","Gr.Feld","Pkt","Pkt",null,null,null,null,"SDOK?"," ",null,"Z=Ja","Anzahl","Z=Ja","Anzahl",null,null,null,null,null," "," "]
[1,{"$f":"K2","v":"2025-02-08"},null,null,null,"",null,"",null,"",null,{"$f":"IF(D7=\"\",\"\",IF(Q7+T7>5,10,Y7))","v":""},{"$f":"IF(L7=\"\",\"\",IF(V7=1,1,0)+IF(X7=1,1,0))","v":""},null,{"$f":"TEXT(F7,\"\")","v":""},{"$f":"TEXT(J7,\"\")","v":""},{"$f":"IF(R7>0,5,0)","v":0},{"$f":"COUNTIF(VFDBDOK,F7)+COUNTIF(VFDBDOK,J7)","v":0},0,{"$f":"IF((U7+W7)>0,5,1)","v":1},{"$f":"COUNTIF(ZDOK,O:O)","v":0},{"$f":"IF(U7=1,COUNTIF($O$7:$P7,O7),7)","v":7},{"$f":"COUNTIF(ZDOK,P7)","v":0},{"$f":"IF(W7=1,COUNTIF($O$7:$P7,P7),7)","v":7},{"$f":"IF(O7=dok,0,(IF(P7=dok,0,T7)))","v":1},null,{"$f":"IF(AG7=0,\"\",IF(AG7=5,AG7,CONCATENATE(LEFT(AG7,2),\":\",RIGHT(AG7,2))))","v":""},{"$f":"UPPER(D7)","v":""},{"$f":"UPPER(H7)","v":""},{"$f":"UPPER(SUBSTITUTE(O7,\" \",\"\",1))","v":""},{"$f":"UPPER(SUBSTITUTE(P7,\" \",\"\",1))","v":""},null,{"$f":"IF(AH7=\":\",IF(LEN(C7)=4,CONCATENATE(\"0\",LEFT(C7,1),RIGHT(C7,2)),C7),IF(LEN(C7)=3,CONCATENATE(\"0\",C7),C7))","v":0},{"$f":"IF(LEN(C7)=4,MID(C7,2,1),MID(C7,3,1))","v":""}]
[2,{"$f":"IF(D8=\"\",\"\",date1)","v":""},null,null,null,"",null,"",null,"",null,{"$f":"IF(D8=\"\",\"\",IF(Q8+T8>5,10,Y8))","v":""},"",null,{"$f":"TEXT(F8,\"\")","v":""},{"$f":"TEXT(J8,\"\")","v":""},{"$f":"IF(R8>0,5,0)","v":0},{"$f":"COUNTIF(VFDBDOK,F8)+COUNTIF(VFDBDOK,J8)","v":0},0,{"$f":"IF((U8+W8)>0,5,1)","v":1},0,{"$f":"IF(U8=1,COUNTIF($O$7:$P8,O8),7)","v":7},{"$f":"COUNTIF(ZDOK,P8)","v":0},{"$f":"IF(W8=1,COUNTIF($O$7:$P8,P8),7)","v":7},{"$f":"IF(O8=dok,0,(IF(P8=dok,0,T8)))","v":1},null,{"$f":"IF(AG8=0,\"\",IF(AG8=5,AG8,CONCATENATE(LEFT(AG8,2),\":\",RIGHT(AG8,2))))","v":""},{"$f":"UPPER(D8)","v":""},{"$f":"UPPER(H8)","v":""},{"$f":"UPPER(SUBSTITUTE(O8,\" \",\"\",1))","v":""},{"$f":"UPPER(SUBSTITUTE(P8,\" \",\"\",1))","v":""},null,{"$f":"IF(AH8=\":\",IF(LEN(C8)=4,CONCATENATE(\"0\",LEFT(C8,1),RIGHT(C8,2)),C8),IF(LEN(C8)=3,CONCATENATE(\"0\",C8),C8))","v":0},{"$f":"IF(LEN(C8)=4,MID(C8,2,1),MID(C8,3,1))","v":""}]
[3,"",null,null,null,"",null,"",null,"",null,"","",null,"","",0,0,0,{"$f":"IF((U9+W9)>0,5,1)","v":1},0,{"$f":"IF(U9=1,COUNTIF($O$7:$P9,O9),7)","v":7},0,{"$f":"IF(W9=1,COUNTIF($O$7:$P9,P9),7)","v":7},1,null,"","","","","",null,0,""]
[4,"",null,null,null,"",null,"",null,"",null,"","",null,"","",0,0,0,1,0,{"$f":"IF(U10=1,COUNTIF($O$7:$P10,O10),7)","v":7},0,{"$f":"IF(W10=1,COUNTIF($O$7:$P10,P10),7)","v":7},1,null,"","","","","",null,0,""]
[5,"",null,null,null,"",null,"",null,"",null,"","",null,"","",0,0,0,1,0,{"$f":"IF(U11=1,COUNTIF($O$7:$P11,O11),7)","v":7},0,{"$f":"IF(W11=1,COUNTIF($O$7:$P11,P11),7)","v":7},1,null,"","","","","",null,0,""]
[6,"",null,null,null,"",null,"",null,"",null,"","",null,"","",0,0,0,1,0,{"$f":"IF(U12=1,COUNTIF($O$7:$P12,O12),7)","v":7},0,{"$f":"IF(W12=1,COUNTIF($O$7:$P12,P12),7)","v":7},1,null,"","","","","",null,0,""]
[7,"",null,null,null,"",null,"",null,"",null,"","",null,"","",0,0,0,1,0,{"$f":"IF(U13=1,COUNTIF($O$7:$P13,O13),7)","v":7},0,{"$f":"IF(W13=1,COUNTIF($O$7:$P13,P13),7)","v":7},1,null,"","","","","",null,0,""]
[8,"",null,null,null,"",null,"",null,"",null,"","",null,"","",0,0,0,1,0,{"$f":"IF(U14=1,COUNTIF($O$7:$P14,O14),7)","v":7},0,{"$f":"IF(W14=1,COUNTIF($O$7:$P14,P14),7)","v":7},1,null,"","","","","",null,0,""]
[9,"",null,null,null,"",null,"",null,"",null,"","",null,"","",0,0,0,1,0,{"$f":"IF(U15=1,COUNTIF($O$7:$P15,O15),7)","v":7},0,{"$f":"IF(W15=1,COUNTIF($O$7:$P15,P15),7)","v":7},1,null,"","","","","",null,0,""]
[10,"",null,null,null,"",null,"",null,"",null,"","",null,"","",0,0,0,1,0,{"$f":"IF(U16=1,COUNTIF($O$7:$P16,O16),7)","v":7},0,{"$f":"IF(W16=1,COUNTIF($O$7:$P16,P16),7)","v":7},1,null,"","","","","",null,0,""]
[11,"",null,null,null,"",null,"",null,"",null,"","",null,"","",0,0,0,1,0,{"$f":"IF(U17=1,COUNTIF($O$7:$P17,O17),7)","v":7},0,{"$f":"IF(W17=1,COUNTIF($O$7:$P17,P17),7)","v":7},1,null,"","","","","",null,0,""]
[12,"",null,null,null,"",null,"",null,"",null,"","",null,"","",0,0,0,1,0,{"$f":"IF(U18=1,COUNTIF($O$7:$P18,O18),7)","v":7},0,{"$f":"IF(W18=1,COUNTIF($O$7:$P18,P18),7)","v":7},1,null,"","","","","",null,0,""]
[13,"",null,null,null,"",null,"",null,"",null,"","",null,"","",0,0,0,1,0,{"$f":"IF(U19=1,COUNTIF($O$7:$P19,O19),7)","v":7},0,{"$f":"IF(W19=1,COUNTIF($O$7:$P19,P19),7)","v":7},1,null,"","","","","",null,0,""]
[14,"",null,null,null,"",null,"",null,"",null,"","",null,"","",0,0,0,1,0,{"$f":"IF(U20=1,COUNTIF($O$7:$P20,O20),7)","v":7},0,{"$f":"IF(W20=1,COUNTIF($O$7:$P20,P20),7)","v":7},1,null,"","","","","",null,0,""]
[15,"",null,null,null,"",null,"",null,"",null,"","",null,"","",0,0,0,1,0,{"$f":"IF(U21=1,COUNTIF($O$7:$P21,O21),7)","v":7},0,{"$f":"IF(W21=1,COUNTIF($O$7:$P21,P21),7)","v":7},1,null,"","","","","",null,0,""]
[16,"",null,null,null,"",null,"",null,"",null,"","",null,"","",0,0,0,1,0,{"$f":"IF(U22=1,COUNTIF($O$7:$P22,O22),7)","v":7},0,{"$f":"IF(W22=1,COUNTIF($O$7:$P22,P22),7)","v":7},1,null,"","","","","",null,0,""]
[17,"",null,null,null,"",null,"",null,"",null,"","",null,"","",0,0,0,1,0,{"$f":"IF(U23=1,COUNTIF($O$7:$P23,O23),7)","v":7},0,{"$f":"IF(W23=1,COUNTIF($O$7:$P23,P23),7)","v":7},1,null,"","","","","",null,0,""]
[18,"",null,null,null,"",null,"",null,"",null,"","",null,"","",0,0,0,1,0,{"$f":"IF(U24=1,COUNTIF($O$7:$P24,O24),7)","v":7},0,{"$f":"IF(W24=1,COUNTIF($O$7:$P24,P24),7)","v":7},1,null,"","","","","",null,0,""]
[19,"",null,null,null,"",null,"",null,"",null,"","",null,"","",0,0,0,1,0,{"$f":"IF(U25=1,COUNTIF($O$7:$P25,O25),7)","v":7},0,{"$f":"IF(W25=1,COUNTIF($O$7:$P25,P25),7)","v":7},1,null,"","","","","",null,0,""]
[20,"",null,null,null,"",null,"",null,"",null,"","",null,"","",0,0,0,1,0,{"$f":"IF(U26=1,COUNTIF($O$7:$P26,O26),7)","v":7},0,{"$f":"IF(W26=1,COUNTIF($O$7:$P26,P26),7)","v":7},1,null,"","","","","",null,0,""]
[21,"",null,null,null,"",null,"",null,"",null,"","",null,"","",0,0,0,1,0,{"$f":"IF(U27=1,COUNTIF($O$7:$P27,O27),7)","v":7},0,{"$f":"IF(W27=1,COUNTIF($O$7:$P27,P27),7)","v":7},1,null,"","","","","",null,0,""]
[22,"",null,null,null,"",null,"",null,"",null,"","",null,"","",0,0,0,1,0,{"$f":"IF(U28=1,COUNTIF($O$7:$P28,O28),7)","v":7},0,{"$f":"IF(W28=1,COUNTIF($O$7:$P28,P28),7)","v":7},1,null,"","","","","",null,0,""]
[23,"",null,null,null,"",null,"",null,"",null,"","",null,"","",0,0,0,1,0,{"$f":"IF(U29=1,COUNTIF($O$7:$P29,O29),7)","v":7},0,{"$f":"IF(W29=1,COUNTIF($O$7:$P29,P29),7)","v":7},1,null,"","","","","",null,0,""]
[24,"",null,null,null,"",null,"",null,"",null,"","",null,"","",0,0,0,1,0,{"$f":"IF(U30=1,COUNTIF($O$7:$P30,O30),7)","v":7},0,{"$f":"IF(W30=1,COUNTIF($O$7:$P30,P30),7)","v":7},1,null,"","","","","",null,0,""]
[25,"",null,null,null,"",null,"",null,"",null,"","",null,"","",0,0,0,1,0,{"$f":"IF(U31=1,COUNTIF($O$7:$P31,O31),7)","v":7},0,{"$f":"IF(W31=1,COUNTIF($O$7:$P31,P31),7)","v":7},1,null,"","","","","",null,0,""]
[26,"",null,null,null,"",null,"",null,"",null,"","",null,"","",0,0,0,1,0,{"$f":"IF(U32=1,COUNTIF($O$7:$P32,O32),7)","v":7},0,{"$f":"IF(W32=1,COUNTIF($O$7:$P32,P32),7)","v":7},1,null,"","","","","",null,0,""]
[27,"",null,null,null,"",null,"",null,"",null,"","",null,"","",0,0,0,1,0,{"$f":"IF(U33=1,COUNTIF($O$7:$P33,O33),7)","v":7},0,{"$f":"IF(W33=1,COUNTIF($O$7:$P33,P33),7)","v":7},1,null,"","","","","",null,0,""]
[28,"",null,null,null,"",null,"",null,"",null,"","",null,"","",0,0,0,1,0,{"$f":"IF(U34=1,COUNTIF($O$7:$P34,O34),7)","v":7},0,{"$f":"IF(W34=1,COUNTIF($O$7:$P34,P34),7)","v":7},1,null,"","","","","",null,0,""]
[29,"",null,null,null,"",null,"",null,"",null,"","",null,"","",0,0,0,1,0,{"$f":"IF(U35=1,COUNTIF($O$7:$P35,O35),7)","v":7},0,{"$f":"IF(W35=1,COUNTIF($O$7:$P35,P35),7)","v":7},1,null,"","","","","",null,0,""]
[30,"",null,null,null,"",null,"",null,"",null,"","",null,"","",0,0,0,1,0,{"$f":"IF(U36=1,COUNTIF($O$7:$P36,O36),7)","v":7},0,{"$f":"IF(W36=1,COUNTIF($O$7:$P36,P36),7)","v":7},1,null,"","","","","",null,0,""]
[31,"",null,null,null,"",null,"",null,"",null,"","",null,"","",0,0,0,1,0,{"$f":"IF(U37=1,COUNTIF($O$7:$P37,O37),7)","v":7},0,{"$f":"IF(W37=1,COUNTIF($O$7:$P37,P37),7)","v":7},1,null,"","","","","",null,0,""]
[32,"",null,null,null,"",null,"",null,"",null,"","",null,"","",0,0,0,1,0,{"$f":"IF(U38=1,COUNTIF($O$7:$P38,O38),7)","v":7},0,{"$f":"IF(W38=1,COUNTIF($O$7:$P38,P38),7)","v":7},1,null,"","","","","",null,0,""]
[33,"",null,null,null,"",null,"",null,"",null,"",{"$f":"IF(L39=\"\",\"\",IF(V39=1,1,0)+IF(X39=1,1,0))","v":""},null,"","",0,0,0,1,0,{"$f":"IF(U39=1,COUNTIF($O$7:$P39,O39),7)","v":7},0,{"$f":"IF(W39=1,COUNTIF($O$7:$P39,P39),7)","v":7},1,null,"","","","","",null,0,""]
[34,"",null,null,null,"",null,"",null,"",null,"","",null,"","",0,0,0,1,0,{"$f":"IF(U40=1,COUNTIF($O$7:$P40,O40),7)","v":7},0,{"$f":"IF(W40=1,COUNTIF($O$7:$P40,P40),7)","v":7},1,null,"","","","","",null,0,""]
[35,"",null,null,null,"",null,"",null,"",null,"","",null,"","",0,0,0,1,0,{"$f":"IF(U41=1,COUNTIF($O$7:$P41,O41),7)","v":7},0,{"$f":"IF(W41=1,COUNTIF($O$7:$P41,P41),7)","v":7},1,null,"","","","","",null,0,""]
[36,"",null,null,null,"",null,"",null,"",null,"","",null,"","",0,0,0,1,0,{"$f":"IF(U42=1,COUNTIF($O$7:$P42,O42),7)","v":7},0,{"$f":"IF(W42=1,COUNTIF($O$7:$P42,P42),7)","v":7},1,null,"","","","","",null,0,""]
[37,"",null,null,null,"",null,"",null,"",null,"","",null,"","",0,0,0,1,0,{"$f":"IF(U43=1,COUNTIF($O$7:$P43,O43),7)","v":7},0,{"$f":"IF(W43=1,COUNTIF($O$7:$P43,P43),7)","v":7},1,null,"","","","","",null,0,""]
[38,"",null,null,null,"",null,"",null,"",null,"","",null,"","",0,0,0,1,0,{"$f":"IF(U44=1,COUNTIF($O$7:$P44,O44),7)","v":7},0,{"$f":"IF(W44=1,COUNTIF($O$7:$P44,P44),7)","v":7},1,null,"","","","","",null,0,""]
[39,"",null,null,null,"",null,"",null,"",null,"","",null,"","",0,0,0,1,0,{"$f":"IF(U45=1,COUNTIF($O$7:$P45,O45),7)","v":7},0,{"$f":"IF(W45=1,COUNTIF($O$7:$P45,P45),7)","v":7},1,null,"","","","","",null,0,""]
[40,"",null,null,null,"",null,"",null,"",null,"","",null,"","",0,0,0,1,0,{"$f":"IF(U46=1,COUNTIF($O$7:$P46,O46),7)","v":7},0,{"$f":"IF(W46=1,COUNTIF($O$7:$P46,P46),7)","v":7},1,null,"","","","","",null,0,""]
[41,"",null,null,null,"",null,"",null,"",null,"","",null,"","",0,0,0,1,0,{"$f":"IF(U47=1,COUNTIF($O$7:$P47,O47),7)","v":7},0,{"$f":"IF(W47=1,COUNTIF($O$7:$P47,P47),7)","v":7},1,null,"","","","","",null,0,""]
[42,"",null,null,null,"",null,"",null,"",null,"","",null,"","",0,0,0,1,0,{"$f":"IF(U48=1,COUNTIF($O$7:$P48,O48),7)","v":7},0,{"$f":"IF(W48=1,COUNTIF($O$7:$P48,P48),7)","v":7},1,null,"","","","","",null,0,""]
[43,"",null,null,null,"",null,"",null,"",null,"","",null,"","",0,0,0,1,0,{"$f":"IF(U49=1,COUNTIF($O$7:$P49,O49),7)","v":7},0,{"$f":"IF(W49=1,COUNTIF($O$7:$P49,P49),7)","v":7},1,null,"","","","","",null,0,""]
[44,"",null,null,null,"",null,"",null,"",null,"","",null,"","",0,0,0,1,0,{"$f":"IF(U50=1,COUNTIF($O$7:$P50,O50),7)","v":7},0,{"$f":"IF(W50=1,COUNTIF($O$7:$P50,P50),7)","v":7},1,null,"","","","","",null,0,""]
[45,"",null,null,null,"",null,"",null,"",null,"","",null,"","",0,0,0,1,0,{"$f":"IF(U51=1,COUNTIF($O$7:$P51,O51),7)","v":7},0,{"$f":"IF(W51=1,COUNTIF($O$7:$P51,P51),7)","v":7},1,null,"","","","","",null,0,""]
[46,"",null,null,null,"",null,"",null,"",null,"","",null,"","",0,0,0,1,0,{"$f":"IF(U52=1,COUNTIF($O$7:$P52,O52),7)","v":7},0,{"$f":"IF(W52=1,COUNTIF($O$7:$P52,P52),7)","v":7},1,null,"","","","","",null,0,""]
[47,"",null,null,null,"",null,"",null,"",null,"","",null,"","",0,0,0,1,0,{"$f":"IF(U53=1,COUNTIF($O$7:$P53,O53),7)","v":7},0,{"$f":"IF(W53=1,COUNTIF($O$7:$P53,P53),7)","v":7},1,null,"","","","","",null,0,""]
[48,"",null,null,null,"",null,"",null,"",null,"","",null,"","",0,0,0,1,0,{"$f":"IF(U54=1,COUNTIF($O$7:$P54,O54),7)","v":7},0,{"$f":"IF(W54=1,COUNTIF($O$7:$P54,P54),7)","v":7},1,null,"","","","","",null,0,""]
[49,"",null,null,null,"",null,"",null,"",null,"","",null,"","",0,0,0,1,0,{"$f":"IF(U55=1,COUNTIF($O$7:$P55,O55),7)","v":7},0,{"$f":"IF(W55=1,COUNTIF($O$7:$P55,P55),7)","v":7},1,null,"","","","","",null,0,""]
[50,"",null,null,null,"",null,"",null,"",null,"","",null,"","",0,0,0,1,0,{"$f":"IF(U56=1,COUNTIF($O$7:$P56,O56),7)","v":7},0,{"$f":"IF(W56=1,COUNTIF($O$7:$P56,P56),7)","v":7},1,null,"","","","","",null,0,""]
[51,"",null,null,null,"",null,"",null,"",null,"","",null,"","",0,0,0,1,0,{"$f":"IF(U57=1,COUNTIF($O$7:$P57,O57),7)","v":7},0,{"$f":"IF(W57=1,COUNTIF($O$7:$P57,P57),7)","v":7},1,null,"","","","","",null,0,""]
[52,"",null,null,null,"",null,"",null,"",null,"","",null,"","",0,0,0,1,0,{"$f":"IF(U58=1,COUNTIF($O$7:$P58,O58),7)","v":7},0,{"$f":"IF(W58=1,COUNTIF($O$7:$P58,P58),7)","v":7},1,null,"","","","","",null,0,""]
[53,"",null,null,null,"",null,"",null,"",null,"","",null,"","",0,0,0,1,0,{"$f":"IF(U59=1,COUNTIF($O$7:$P59,O59),7)","v":7},0,{"$f":"IF(W59=1,COUNTIF($O$7:$P59,P59),7)","v":7},1,null,"","","","","",null,0,""]
[54,"",null,null,null,"",null,"",null,"",null,"","",null,"","",0,0,0,1,0,{"$f":"IF(U60=1,COUNTIF($O$7:$P60,O60),7)","v":7},0,{"$f":"IF(W60=1,COUNTIF($O$7:$P60,P60),7)","v":7},1,null,"","","","","",null,0,""]
[55,"",null,null,null,"",null,"",null,"",null,"","",null,"","",0,0,0,1,0,{"$f":"IF(U61=1,COUNTIF($O$7:$P61,O61),7)","v":7},0,{"$f":"IF(W61=1,COUNTIF($O$7:$P61,P61),7)","v":7},1,null,"","","","","",null,0,""]
[56,"",null,null,null,"",null,"",null,"",null,"","",null,"","",0,0,0,1,0,{"$f":"IF(U62=1,COUNTIF($O$7:$P62,O62),7)","v":7},0,{"$f":"IF(W62=1,COUNTIF($O$7:$P62,P62),7)","v":7},1,null,"","","","","",null,0,""]
[57,"",null,null,null,"",null,"",null,"",null,"","",null,"","",0,0,0,1,0,{"$f":"IF(U63=1,COUNTIF($O$7:$P63,O63),7)","v":7},0,{"$f":"IF(W63=1,COUNTIF($O$7:$P63,P63),7)","v":7},1,null,"","","","","",null,0,""]
[58,"",null,null,null,"",null,"",null,"",null,"","",null,"","",0,0,0,1,0,{"$f":"IF(U64=1,COUNTIF($O$7:$P64,O64),7)","v":7},0,{"$f":"IF(W64=1,COUNTIF($O$7:$P64,P64),7)","v":7},1,null,"","","","","",null,0,""]
[59,"",null,null,null,"",null,"",null,"",null,"","",null,"","",0,0,0,1,0,{"$f":"IF(U65=1,COUNTIF($O$7:$P65,O65),7)","v":7},0,{"$f":"IF(W65=1,COUNTIF($O$7:$P65,P65),7)","v":7},1,null,"","","","","",null,0,""]
[60,"",null,null,null,"",null,"",null,"",null,"","",null,"","",0,0,0,1,0,{"$f":"IF(U66=1,COUNTIF($O$7:$P66,O66),7)","v":7},0,{"$f":"IF(W66=1,COUNTIF($O$7:$P66,P66),7)","v":7},1,null,"","","","","",null,0,""]
[61,"",null,null,null,"",null,"",null,"",null,"","",null,"","",0,0,0,1,0,{"$f":"IF(U67=1,COUNTIF($O$7:$P67,O67),7)","v":7},0,{"$f":"IF(W67=1,COUNTIF($O$7:$P67,P67),7)","v":7},1,null,"","","","","",null,0,""]
[62,"",null,null,null,"",null,"",null,"",null,"","",null,"","",0,0,0,1,0,{"$f":"IF(U68=1,COUNTIF($O$7:$P68,O68),7)","v":7},0,{"$f":"IF(W68=1,COUNTIF($O$7:$P68,P68),7)","v":7},1,null,"","","","","",null,0,""]
[63,"",null,null,null,"",null,"",null,"",null,"","",null,"","",0,0,0,1,0,{"$f":"IF(U69=1,COUNTIF($O$7:$P69,O69),7)","v":7},0,{"$f":"IF(W69=1,COUNTIF($O$7:$P69,P69),7)","v":7},1,null,"","","","","",null,0,""]
[64,"",null,null,null,"",null,"",null,"",null,"","",null,"","",0,0,0,1,0,{"$f":"IF(U70=1,COUNTIF($O$7:$P70,O70),7)","v":7},0,{"$f":"IF(W70=1,COUNTIF($O$7:$P70,P70),7)","v":7},1,null,"","","","","",null,0,""]
[65,"",null,null,null,"",null,"",null,"",null,"",{"$f":"IF(L71=\"\",\"\",IF(V71=1,1,0)+IF(X71=1,1,0))","v":""},null,"","",0,0,0,1,{"$f":"COUNTIF(ZDOK,O:O)","v":0},{"$f":"IF(U71=1,COUNTIF($O$7:$P71,O71),7)","v":7},0,{"$f":"IF(W71=1,COUNTIF($O$7:$P71,P71),7)","v":7},1,null,"","","","","",null,0,""]
[66,{"$f":"IF(D72=\"\",\"\",date1)","v":""},null,null,null,"",null,"",null,"",null,{"$f":"IF(D72=\"\",\"\",IF(Q72+T72>5,10,Y72))","v":""},"",null,{"$f":"TEXT(F72,\"\")","v":""},{"$f":"TEXT(J72,\"\")","v":""},{"$f":"IF(R72>0,5,0)","v":0},{"$f":"COUNTIF(VFDBDOK,F72)+COUNTIF(VFDBDOK,J72)","v":0},0,1,0,{"$f":"IF(U72=1,COUNTIF($O$7:$P72,O72),7)","v":7},{"$f":"COUNTIF(ZDOK,P72)","v":0},{"$f":"IF(W72=1,COUNTIF($O$7:$P72,P72),7)","v":7},{"$f":"IF(O72=dok,0,(IF(P72=dok,0,T72)))","v":1},null,{"$f":"IF(AG72=0,\"\",IF(AG72=5,AG72,CONCATENATE(LEFT(AG72,2),\":\",RIGHT(AG72,2))))","v":""},{"$f":"UPPER(D72)","v":""},{"$f":"UPPER(H72)","v":""},{"$f":"UPPER(SUBSTITUTE(O72,\" \",\"\",1))","v":""},{"$f":"UPPER(SUBSTITUTE(P72,\" \",\"\",1))","v":""},null,{"$f":"IF(AH72=\":\",IF(LEN(C72)=4,CONCATENATE(\"0\",LEFT(C72,1),RIGHT(C72,2)),C72),IF(LEN(C72)=3,CONCATENATE(\"0\",C72),C72))","v":0},{"$f":"IF(LEN(C72)=4,MID(C72,2,1),MID(C72,3,1))","v":""}]
[67,"",null,null,null,"",null,"",null,"",null,"","",null,"","",0,0,0,{"$f":"IF((U73+W73)>0,5,1)","v":1},0,{"$f":"IF(U73=1,COUNTIF($O$7:$P73,O73),7)","v":7},0,{"$f":"IF(W73=1,COUNTIF($O$7:$P73,P73),7)","v":7},1,null,"","","","","",null,0,""]
[68,"",null,null,null,"",null,"",null,"",null,"","",null,"","",0,0,0,1,0,{"$f":"IF(U74=1,COUNTIF($O$7:$P74,O74),7)","v":7},0,{"$f":"IF(W74=1,COUNTIF($O$7:$P74,P74),7)","v":7},1,null,"","","","","",null,0,""]
[69,"",null,null,null,"",null,"",null,"",null,"","",null,"","",0,0,0,1,0,{"$f":"IF(U75=1,COUNTIF($O$7:$P75,O75),7)","v":7},0,{"$f":"IF(W75=1,COUNTIF($O$7:$P75,P75),7)","v":7},1,null,"","","","","",null,0,""]
[70,"",null,null,null,"",null,"",null,"",null,"","",null,"","",0,0,0,1,0,{"$f":"IF(U76=1,COUNTIF($O$7:$P76,O76),7)","v":7},0,{"$f":"IF(W76=1,COUNTIF($O$7:$P76,P76),7)","v":7},1,null,"","","","","",null,0,""]
[71,"",null,null,null,"",null,"",null,"",null,"","",null,"","",0,0,0,1,0,{"$f":"IF(U77=1,COUNTIF($O$7:$P77,O77),7)","v":7},0,{"$f":"IF(W77=1,COUNTIF($O$7:$P77,P77),7)","v":7},1,null,"","","","","",null,0,""]
[72,"",null,null,null,"",null,"",null,"",null,"","",null,"","",0,0,0,1,0,{"$f":"IF(U78=1,COUNTIF($O$7:$P78,O78),7)","v":7},0,{"$f":"IF(W78=1,COUNTIF($O$7:$P78,P78),7)","v":7},1,null,"","","","","",null,0,""]
[73,"",null,null,null,"",null,"",null,"",null,"","",null,"","",0,0,0,1,0,{"$f":"IF(U79=1,COUNTIF($O$7:$P79,O79),7)","v":7},0,{"$f":"IF(W79=1,COUNTIF($O$7:$P79,P79),7)","v":7},1,null,"","","","","",null,0,""]
[74,"",null,null,null,"",null,"",null,"",null,"","",null,"","",0,0,0,1,0,{"$f":"IF(U80=1,COUNTIF($O$7:$P80,O80),7)","v":7},0,{"$f":"IF(W80=1,COUNTIF($O$7:$P80,P80),7)","v":7},1,null,"","","","","",null,0,""]
[75,"",null,null,null,"",null,"",null,"",null,"","",null,"","",0,0,0,1,0,{"$f":"IF(U81=1,COUNTIF($O$7:$P81,O81),7)","v":7},0,{"$f":"IF(W81=1,COUNTIF($O$7:$P81,P81),7)","v":7},1,null,"","","","","",null,0,""]
[76,"",null,null,null,"",null,"",null,"",null,"","",null,"","",0,0,0,1,0,{"$f":"IF(U82=1,COUNTIF($O$7:$P82,O82),7)","v":7},0,{"$f":"IF(W82=1,COUNTIF($O$7:$P82,P82),7)","v":7},1,null,"","","","","",null,0,""]
[77,"",null,null,null,"",null,"",null,"",null,"","",null,"","",0,0,0,1,0,{"$f":"IF(U83=1,COUNTIF($O$7:$P83,O83),7)","v":7},0,{"$f":"IF(W83=1,COUNTIF($O$7:$P83,P83),7)","v":7},1,null,"","","","","",null,0,""]
[78,"",null,null,null,"",null,"",null,"",null,"","",null,"","",0,0,0,1,0,{"$f":"IF(U84=1,COUNTIF($O$7:$P84,O84),7)","v":7},0,{"$f":"IF(W84=1,COUNTIF($O$7:$P84,P84),7)","v":7},1,null,"","","","","",null,0,""]
[79,"",null,null,null,"",null,"",null,"",null,"","",null,"","",0,0,0,1,0,{"$f":"IF(U85=1,COUNTIF($O$7:$P85,O85),7)","v":7},0,{"$f":"IF(W85=1,COUNTIF($O$7:$P85,P85),7)","v":7},1,null,"","","","","",null,0,""]
[80,"",null,null,null,"",null,"",null,"",null,"","",null,"","",0,0,0,1,0,{"$f":"IF(U86=1,COUNTIF($O$7:$P86,O86),7)","v":7},0,{"$f":"IF(W86=1,COUNTIF($O$7:$P86,P86),7)","v":7},1,null,"","","","","",null,0,""]
[81,"",null,null,null,"",null,"",null,"",null,"","",null,"","",0,0,0,1,0,{"$f":"IF(U87=1,COUNTIF($O$7:$P87,O87),7)","v":7},0,{"$f":"IF(W87=1,COUNTIF($O$7:$P87,P87),7)","v":7},1,null,"","","","","",null,0,""]
[82,"",null,null,null,"",null,"",null,"",null,"","",null,"","",0,0,0,1,0,{"$f":"IF(U88=1,COUNTIF($O$7:$P88,O88),7)","v":7},0,{"$f":"IF(W88=1,COUNTIF($O$7:$P88,P88),7)","v":7},1,null,"","","","","",null,0,""]
[83,"",null,null,null,"",null,"",null,"",null,"","",null,"","",0,0,0,1,0,{"$f":"IF(U89=1,COUNTIF($O$7:$P89,O89),7)","v":7},0,{"$f":"IF(W89=1,COUNTIF($O$7:$P89,P89),7)","v":7},1,null,"","","","","",null,0,""]
[84,"",null,null,null,"",null,"",null,"",null,"","",null,"","",0,0,0,1,0,{"$f":"IF(U90=1,COUNTIF($O$7:$P90,O90),7)","v":7},0,{"$f":"IF(W90=1,COUNTIF($O$7:$P90,P90),7)","v":7},1,null,"","","","","",null,0,""]
[85,"",null,null,null,"",null,"",null,"",null,"","",null,"","",0,0,0,1,0,{"$f":"IF(U91=1,COUNTIF($O$7:$P91,O91),7)","v":7},0,{"$f":"IF(W91=1,COUNTIF($O$7:$P91,P91),7)","v":7},1,null,"","","","","",null,0,""]
[86,"",null,null,null,"",null,"",null,"",null,"","",null,"","",0,0,0,1,0,{"$f":"IF(U92=1,COUNTIF($O$7:$P92,O92),7)","v":7},0,{"$f":"IF(W92=1,COUNTIF($O$7:$P92,P92),7)","v":7},1,null,"","","","","",null,0,""]
[87,"",null,null,null,"",null,"",null,"",null,"","",null,"","",0,0,0,1,0,{"$f":"IF(U93=1,COUNTIF($O$7:$P93,O93),7)","v":7},0,{"$f":"IF(W93=1,COUNTIF($O$7:$P93,P93),7)","v":7},1,null,"","","","","",null,0,""]
[88,"",null,null,null,"",null,"",null,"",null,"","",null,"","",0,0,0,1,0,{"$f":"IF(U94=1,COUNTIF($O$7:$P94,O94),7)","v":7},0,{"$f":"IF(W94=1,COUNTIF($O$7:$P94,P94),7)","v":7},1,null,"","","","","",null,0,""]
[89,"",null,null,null,"",null,"",null,"",null,"","",null,"","",0,0,0,1,0,{"$f":"IF(U95=1,COUNTIF($O$7:$P95,O95),7)","v":7},0,{"$f":"IF(W95=1,COUNTIF($O$7:$P95,P95),7)","v":7},1,null,"","","","","",null,0,""]
[90,"",null,null,null,"",null,"",null,"",null,"","",null,"","",0,0,0,1,0,{"$f":"IF(U96=1,COUNTIF($O$7:$P96,O96),7)","v":7},0,{"$f":"IF(W96=1,COUNTIF($O$7:$P96,P96),7)","v":7},1,null,"","","","","",null,0,""]
[91,"",null,null,null,"",null,"",null,"",null,"","",null,"","",0,0,0,1,0,{"$f":"IF(U97=1,COUNTIF($O$7:$P97,O97),7)","v":7},0,{"$f":"IF(W97=1,COUNTIF($O$7:$P97,P97),7)","v":7},1,null,"","","","","",null,0,""]
[92,"",null,null,null,"",null,"",null,"",null,"","",null,"","",0,0,0,1,0,{"$f":"IF(U98=1,COUNTIF($O$7:$P98,O98),7)","v":7},0,{"$f":"IF(W98=1,COUNTIF($O$7:$P98,P98),7)","v":7},1,null,"","","","","",null,0,""]
[93,"",null,null,null,"",null,"",null,"",null,"","",null,"","",0,0,0,1,0,{"$f":"IF(U99=1,COUNTIF($O$7:$P99,O99),7)","v":7},0,{"$f":"IF(W99=1,COUNTIF($O$7:$P99,P99),7)","v":7},1,null,"","","","","",null,0,""]
[94,"",null,null,null,"",null,"",null,"",null,"","",null,"","",0,0,0,1,0,{"$f":"IF(U100=1,COUNTIF($O$7:$P100,O100),7)","v":7},0,{"$f":"IF(W100=1,COUNTIF($O$7:$P100,P100),7)","v":7},1,null,"","","","","",null,0,""]
[95,"",null,null,null,"",null,"",null,"",null,"","",null,"","",0,0,0,1,0,{"$f":"IF(U101=1,COUNTIF($O$7:$P101,O101),7)","v":7},0,{"$f":"IF(W101=1,COUNTIF($O$7:$P101,P101),7)","v":7},1,null,"","","","","",null,0,""]
[96,"",null,null,null,"",null,"",null,"",null,"","",null,"","",0,0,0,1,0,{"$f":"IF(U102=1,COUNTIF($O$7:$P102,O102),7)","v":7},0,{"$f":"IF(W102=1,COUNTIF($O$7:$P102,P102),7)","v":7},1,null,"","","","","",null,0,""]
[97,"",null,null,null,"",null,"",null,"",null,"",{"$f":"IF(L103=\"\",\"\",IF(V103=1,1,0)+IF(X103=1,1,0))","v":""},null,"","",0,0,0,1,0,{"$f":"IF(U103=1,COUNTIF($O$7:$P103,O103),7)","v":7},0,{"$f":"IF(W103=1,COUNTIF($O$7:$P103,P103),7)","v":7},1,null,"","","","","",null,0,""]
[98,"",null,null,null,"",null,"",null,"",null,"","",null,"","",0,0,0,1,0,{"$f":"IF(U104=1,COUNTIF($O$7:$P104,O104),7)","v":7},0,{"$f":"IF(W104=1,COUNTIF($O$7:$P104,P104),7)","v":7},1,null,"","","","","",null,0,""]
[99,"",null,null,null,"",null,"",null,"",null,"","",null,"","",0,0,0,1,0,{"$f":"IF(U105=1,COUNTIF($O$7:$P105,O105),7)","v":7},0,{"$f":"IF(W105=1,COUNTIF($O$7:$P105,P105),7)","v":7},1,null,"","","","","",null,0,""]
[100,"",null,null,null,"",null,"",null,"",null,"","",null,"","",0,0,0,1,0,{"$f":"IF(U106=1,COUNTIF($O$7:$P106,O106),7)","v":7},0,{"$f":"IF(W106=1,COUNTIF($O$7:$P106,P106),7)","v":7},1,null,"","","","","",null,0,""]
[101,"",null,null,null,"",null,"",null,"",null,"","",null,"","",0,0,0,1,0,{"$f":"IF(U107=1,COUNTIF($O$7:$P107,O107),7)","v":7},0,{"$f":"IF(W107=1,COUNTIF($O$7:$P107,P107),7)","v":7},1,null,"","","","","",null,0,""]
[102,"",null,null,null,"",null,"",null,"",null,"","",null,"","",0,0,0,1,0,{"$f":"IF(U108=1,COUNTIF($O$7:$P108,O108),7)","v":7},0,{"$f":"IF(W108=1,COUNTIF($O$7:$P108,P108),7)","v":7},1,null,"","","","","",null,0,""]
[103,"",null,null,null,"",null,"",null,"",null,"","",null,"","",0,0,0,1,0,{"$f":"IF(U109=1,COUNTIF($O$7:$P109,O109),7)","v":7},0,{"$f":"IF(W109=1,COUNTIF($O$7:$P109,P109),7)","v":7},1,null,"","","","","",null,0,""]
[104,"",null,null,null,"",null,"",null,"",null,"","",null,"","",0,0,0,1,0,{"$f":"IF(U110=1,COUNTIF($O$7:$P110,O110),7)","v":7},0,{"$f":"IF(W110=1,COUNTIF($O$7:$P110,P110),7)","v":7},1,null,"","","","","",null,0,""]
[105,"",null,null,null,"",null,"",null,"",null,"","",null,"","",0,0,0,1,0,{"$f":"IF(U111=1,COUNTIF($O$7:$P111,O111),7)","v":7},0,{"$f":"IF(W111=1,COUNTIF($O$7:$P111,P111),7)","v":7},1,null,"","","","","",null,0,""]
[106,"",null,null,null,"",null,"",null,"",null,"","",null,"","",0,0,0,1,0,{"$f":"IF(U112=1,COUNTIF($O$7:$P112,O112),7)","v":7},0,{"$f":"IF(W112=1,COUNTIF($O$7:$P112,P112),7)","v":7},1,null,"","","","","",null,0,""]
[107,"",null,null,null,"",null,"",null,"",null,"","",null,"","",0,0,0,1,0,{"$f":"IF(U113=1,COUNTIF($O$7:$P113,O113),7)","v":7},0,{"$f":"IF(W113=1,COUNTIF($O$7:$P113,P113),7)","v":7},1,null,"","","","","",null,0,""]
[108,"",null,null,null,"",null,"",null,"",null,"","",null,"","",0,0,0,1,0,{"$f":"IF(U114=1,COUNTIF($O$7:$P114,O114),7)","v":7},0,{"$f":"IF(W114=1,COUNTIF($O$7:$P114,P114),7)","v":7},1,null,"","","","","",null,0,""]
[109,"",null,null,null,"",null,"",null,"",null,"","",null,"","",0,0,0,1,0,{"$f":"IF(U115=1,COUNTIF($O$7:$P115,O115),7)","v":7},0,{"$f":"IF(W115=1,COUNTIF($O$7:$P115,P115),7)","v":7},1,null,"","","","","",null,0,""]
[110,"",null,null,null,"",null,"",null,"",null,"","",null,"","",0,0,0,1,0,{"$f":"IF(U116=1,COUNTIF($O$7:$P116,O116),7)","v":7},0,{"$f":"IF(W116=1,COUNTIF($O$7:$P116,P116),7)","v":7},1,null,"","","","","",null,0,""]
[111,"",null,null,null,"",null,"",null,"",null,"","",null,"","",0,0,0,1,0,{"$f":"IF(U117=1,COUNTIF($O$7:$P117,O117),7)","v":7},0,{"$f":"IF(W117=1,COUNTIF($O$7:$P117,P117),7)","v":7},1,null,"","","","","",null,0,""]
[112,"",null,null,null,"",null,"",null,"",null,"","",null,"","",0,0,0,1,0,{"$f":"IF(U118=1,COUNTIF($O$7:$P118,O118),7)","v":7},0,{"$f":"IF(W118=1,COUNTIF($O$7:$P118,P118),7)","v":7},1,null,"","","","","",null,0,""]
[113,"",null,null,null,"",null,"",null,"",null,"","",null,"","",0,0,0,1,0,{"$f":"IF(U119=1,COUNTIF($O$7:$P119,O119),7)","v":7},0,{"$f":"IF(W119=1,COUNTIF($O$7:$P119,P119),7)","v":7},1,null,"","","","","",null,0,""]
[114,"",null,null,null,"",null,"",null,"",null,"","",null,"","",0,0,0,1,0,{"$f":"IF(U120=1,COUNTIF($O$7:$P120,O120),7)","v":7},0,{"$f":"IF(W120=1,COUNTIF($O$7:$P120,P120),7)","v":7},1,null,"","","","","",null,0,""]
[115,"",null,null,null,"",null,"",null,"",null,"","",null,"","",0,0,0,1,0,{"$f":"IF(U121=1,COUNTIF($O$7:$P121,O121),7)","v":7},0,{"$f":"IF(W121=1,COUNTIF($O$7:$P121,P121),7)","v":7},1,null,"","","","","",null,0,""]
[116,"",null,null,null,"",null,"",null,"",null,"","",null,"","",0,0,0,1,0,{"$f":"IF(U122=1,COUNTIF($O$7:$P122,O122),7)","v":7},0,{"$f":"IF(W122=1,COUNTIF($O$7:$P122,P122),7)","v":7},1,null,"","","","","",null,0,""]
[117,"",null,null,null,"",null,"",null,"",null,"","",null,"","",0,0,0,1,0,{"$f":"IF(U123=1,COUNTIF($O$7:$P123,O123),7)","v":7},0,{"$f":"IF(W123=1,COUNTIF($O$7:$P123,P123),7)","v":7},1,null,"","","","","",null,0,""]
[118,"",null,null,null,"",null,"",null,"",null,"","",null,"","",0,0,0,1,0,{"$f":"IF(U124=1,COUNTIF($O$7:$P124,O124),7)","v":7},0,{"$f":"IF(W124=1,COUNTIF($O$7:$P124,P124),7)","v":7},1,null,"","","","","",null,0,""]
[119,"",null,null,null,"",null,"",null,"",null,"","",null,"","",0,0,0,1,0,{"$f":"IF(U125=1,COUNTIF($O$7:$P125,O125),7)","v":7},0,{"$f":"IF(W125=1,COUNTIF($O$7:$P125,P125),7)","v":7},1,null,"","","","","",null,0,""]
[120,"",null,null,null,"",null,"",null,"",null,"","",null,"","",0,0,0,1,0,{"$f":"IF(U126=1,COUNTIF($O$7:$P126,O126),7)","v":7},0,{"$f":"IF(W126=1,COUNTIF($O$7:$P126,P126),7)","v":7},1,null,"","","","","",null,0,""]
[121,"",null,null,null,"",null,"",null,"",null,"","",null,"","",0,0,0,1,0,{"$f":"IF(U127=1,COUNTIF($O$7:$P127,O127),7)","v":7},0,{"$f":"IF(W127=1,COUNTIF($O$7:$P127,P127),7)","v":7},1,null,"","","","","",null,0,""]
[122,"",null,null,null,"",null,"",null,"",null,"","",null,"","",0,0,0,1,0,{"$f":"IF(U128=1,COUNTIF($O$7:$P128,O128),7)","v":7},0,{"$f":"IF(W128=1,COUNTIF($O$7:$P128,P128),7)","v":7},1,null,"","","","","",null,0,""]
[123,"",null,null,null,"",null,"",null,"",null,"","",null,"","",0,0,0,1,0,{"$f":"IF(U129=1,COUNTIF($O$7:$P129,O129),7)","v":7},0,{"$f":"IF(W129=1,COUNTIF($O$7:$P129,P129),7)","v":7},1,null,"","","","","",null,0,""]
[124,"",null,null,null,"",null,"",null,"",null,"","",null,"","",0,0,0,1,0,{"$f":"IF(U130=1,COUNTIF($O$7:$P130,O130),7)","v":7},0,{"$f":"IF(W130=1,COUNTIF($O$7:$P130,P130),7)","v":7},1,null,"","","","","",null,0,""]
[125,"",null,null,null,"",null,"",null,"",null,"","",null,"","",0,0,0,1,0,{"$f":"IF(U131=1,COUNTIF($O$7:$P131,O131),7)","v":7},0,{"$f":"IF(W131=1,COUNTIF($O$7:$P131,P131),7)","v":7},1,null,"","","","","",null,0,""]
[126,"",null,null,null,"",null,"",null,"",null,"","",null,"","",0,0,0,1,0,{"$f":"IF(U132=1,COUNTIF($O$7:$P132,O132),7)","v":7},0,{"$f":"IF(W132=1,COUNTIF($O$7:$P132,P132),7)","v":7},1,null,"","","","","",null,0,""]
[127,"",null,null,null,"",null,"",null,"",null,"","",null,"","",0,0,0,1,0,{"$f":"IF(U133=1,COUNTIF($O$7:$P133,O133),7)","v":7},0,{"$f":"IF(W133=1,COUNTIF($O$7:$P133,P133),7)","v":7},1,null,"","","","","",null,0,""]
[128,"",null,null,null,"",null,"",null,"",null,"","",null,"","",0,0,0,1,0,{"$f":"IF(U134=1,COUNTIF($O$7:$P134,O134),7)","v":7},0,{"$f":"IF(W134=1,COUNTIF($O$7:$P134,P134),7)","v":7},1,null,"","","","","",null,0,""]
[129,"",null,null,null,"",null,"",null,"",null,"",{"$f":"IF(L135=\"\",\"\",IF(V135=1,1,0)+IF(X135=1,1,0))","v":""},null,"","",0,0,0,1,{"$f":"COUNTIF(ZDOK,O:O)","v":0},{"$f":"IF(U135=1,COUNTIF($O$7:$P135,O135),7)","v":7},0,{"$f":"IF(W135=1,COUNTIF($O$7:$P135,P135),7)","v":7},1,null,"","","","","",null,0,""]
[130,{"$f":"IF(D136=\"\",\"\",date1)","v":""},null,null,null,"",null,"",null,"",null,{"$f":"IF(D136=\"\",\"\",IF(Q136+T136>5,10,Y136))","v":""},"",null,{"$f":"TEXT(F136,\"\")","v":""},{"$f":"TEXT(J136,\"\")","v":""},{"$f":"IF(R136>0,5,0)","v":0},{"$f":"COUNTIF(VFDBDOK,F136)+COUNTIF(VFDBDOK,J136)","v":0},0,1,0,{"$f":"IF(U136=1,COUNTIF($O$7:$P136,O136),7)","v":7},{"$f":"COUNTIF(ZDOK,P136)","v":0},{"$f":"IF(W136=1,COUNTIF($O$7:$P136,P136),7)","v":7},{"$f":"IF(O136=dok,0,(IF(P136=dok,0,T136)))","v":1},null,{"$f":"IF(AG136=0,\"\",IF(AG136=5,AG136,CONCATENATE(LEFT(AG136,2),\":\",RIGHT(AG136,2))))","v":""},{"$f":"UPPER(D136)","v":""},{"$f":"UPPER(H136)","v":""},{"$f":"UPPER(SUBSTITUTE(O136,\" \",\"\",1))","v":""},{"$f":"UPPER(SUBSTITUTE(P136,\" \",\"\",1))","v":""},null,{"$f":"IF(AH136=\":\",IF(LEN(C136)=4,CONCATENATE(\"0\",LEFT(C136,1),RIGHT(C136,2)),C136),IF(LEN(C136)=3,CONCATENATE(\"0\",C136),C136))","v":0},{"$f":"IF(LEN(C136)=4,MID(C136,2,1),MID(C136,3,1))","v":""}]
[131,"",null,null,null,"",null,"",null,"",null,"","",null,"","",0,0,0,{"$f":"IF((U137+W137)>0,5,1)","v":1},0,{"$f":"IF(U137=1,COUNTIF($O$7:$P137,O137),7)","v":7},0,{"$f":"IF(W137=1,COUNTIF($O$7:$P137,P137),7)","v":7},1,null,"","","","","",null,0,""]
[132,"",null,null,null,"",null,"",null,"",null,"","",null,"","",0,0,0,1,0,{"$f":"IF(U138=1,COUNTIF($O$7:$P138,O138),7)","v":7},0,{"$f":"IF(W138=1,COUNTIF($O$7:$P138,P138),7)","v":7},1,null,"","","","","",null,0,""]
[133,"",null,null,null,"",null,"",null,"",null,"","",null,"","",0,0,0,1,0,{"$f":"IF(U139=1,COUNTIF($O$7:$P139,O139),7)","v":7},0,{"$f":"IF(W139=1,COUNTIF($O$7:$P139,P139),7)","v":7},1,null,"","","","","",null,0,""]
[134,"",null,null,null,"",null,"",null,"",null,"","",null,"","",0,0,0,1,0,{"$f":"IF(U140=1,COUNTIF($O$7:$P140,O140),7)","v":7},0,{"$f":"IF(W140=1,COUNTIF($O$7:$P140,P140),7)","v":7},1,null,"","","","","",null,0,""]
[135,"",null,null,null,"",null,"",null,"",null,"","",null,"","",0,0,0,1,0,{"$f":"IF(U141=1,COUNTIF($O$7:$P141,O141),7)","v":7},0,{"$f":"IF(W141=1,COUNTIF($O$7:$P141,P141),7)","v":7},1,null,"","","","","",null,0,""]
[136,"",null,null,null,"",null,"",null,"",null,"","",null,"","",0,0,0,1,0,{"$f":"IF(U142=1,COUNTIF($O$7:$P142,O142),7)","v":7},0,{"$f":"IF(W142=1,COUNTIF($O$7:$P142,P142),7)","v":7},1,null,"","","","","",null,0,""]
[137,"",null,null,null,"",null,"",null,"",null,"","",null,"","",0,0,0,1,0,{"$f":"IF(U143=1,COUNTIF($O$7:$P143,O143),7)","v":7},0,{"$f":"IF(W143=1,COUNTIF($O$7:$P143,P143),7)","v":7},1,null,"","","","","",null,0,""]
[138,"",null,null,null,"",null,"",null,"",null,"","",null,"","",0,0,0,1,0,{"$f":"IF(U144=1,COUNTIF($O$7:$P144,O144),7)","v":7},0,{"$f":"IF(W144=1,COUNTIF($O$7:$P144,P144),7)","v":7},1,null,"","","","","",null,0,""]
[139,"",null,null,null,"",null,"",null,"",null,"","",null,"","",0,0,0,1,0,{"$f":"IF(U145=1,COUNTIF($O$7:$P145,O145),7)","v":7},0,{"$f":"IF(W145=1,COUNTIF($O$7:$P145,P145),7)","v":7},1,null,"","","","","",null,0,""]
[140,"",null,null,null,"",null,"",null,"",null,"","",null,"","",0,0,0,1,0,{"$f":"IF(U146=1,COUNTIF($O$7:$P146,O146),7)","v":7},0,{"$f":"IF(W146=1,COUNTIF($O$7:$P146,P146),7)","v":7},1,null,"","","","","",null,0,""]
[141,"",null,null,null,"",null,"",null,"",null,"","",null,"","",0,0,0,1,0,{"$f":"IF(U147=1,COUNTIF($O$7:$P147,O147),7)","v":7},0,{"$f":"IF(W147=1,COUNTIF($O$7:$P147,P147),7)","v":7},1,null,"","","","","",null,0,""]
[142,"",null,null,null,"",null,"",null,"",null,"","",null,"","",0,0,0,1,0,{"$f":"IF(U148=1,COUNTIF($O$7:$P148,O148),7)","v":7},0,{"$f":"IF(W148=1,COUNTIF($O$7:$P148,P148),7)","v":7},1,null,"","","","","",null,0,""]
[143,"",null,null,null,"",null,"",null,"",null,"","",null,"","",0,0,0,1,0,{"$f":"IF(U149=1,COUNTIF($O$7:$P149,O149),7)","v":7},0,{"$f":"IF(W149=1,COUNTIF($O$7:$P149,P149),7)","v":7},1,null,"","","","","",null,0,""]
[144,"",null,null,null,"",null,"",null,"",null,"","",null,"","",0,0,0,1,0,{"$f":"IF(U150=1,COUNTIF($O$7:$P150,O150),7)","v":7},0,{"$f":"IF(W150=1,COUNTIF($O$7:$P150,P150),7)","v":7},1,null,"","","","","",null,0,""]
[145,"",null,null,null,"",null,"",null,"",null,"","",null,"","",0,0,0,1,0,{"$f":"IF(U151=1,COUNTIF($O$7:$P151,O151),7)","v":7},0,{"$f":"IF(W151=1,COUNTIF($O$7:$P151,P151),7)","v":7},1,null,"","","","","",null,0,""]
[146,"",null,null,null,"",null,"",null,"",null,"","",null,"","",0,0,0,1,0,{"$f":"IF(U152=1,COUNTIF($O$7:$P152,O152),7)","v":7},0,{"$f":"IF(W152=1,COUNTIF($O$7:$P152,P152),7)","v":7},1,null,"","","","","",null,0,""]
[147,"",null,null,null,"",null,"",null,"",null,"","",null,"","",0,0,0,1,0,{"$f":"IF(U153=1,COUNTIF($O$7:$P153,O153),7)","v":7},0,{"$f":"IF(W153=1,COUNTIF($O$7:$P153,P153),7)","v":7},1,null,"","","","","",null,0,""]
[148,"",null,null,null,"",null,"",null,"",null,"","",null,"","",0,0,0,1,0,{"$f":"IF(U154=1,COUNTIF($O$7:$P154,O154),7)","v":7},0,{"$f":"IF(W154=1,COUNTIF($O$7:$P154,P154),7)","v":7},1,null,"","","","","",null,0,""]
[149,"",null,null,null,"",null,"",null,"",null,"","",null,"","",0,0,0,1,0,{"$f":"IF(U155=1,COUNTIF($O$7:$P155,O155),7)","v":7},0,{"$f":"IF(W155=1,COUNTIF($O$7:$P155,P155),7)","v":7},1,null,"","","","","",null,0,""]
[150,"",null,null,null,"",null,"",null,"",null,"","",null,"","",0,0,0,1,0,{"$f":"IF(U156=1,COUNTIF($O$7:$P156,O156),7)","v":7},0,{"$f":"IF(W156=1,COUNTIF($O$7:$P156,P156),7)","v":7},1,null,"","","","","",null,0,""]
[151,{"$f":"IF(D157=\"\",\"\",date1)","v":""},null,null,null,"",null,"",null,"",null,{"$f":"IF(D157=\"\",\"\",IF(Q157+T157>5,10,Y157))","v":""},{"$f":"IF(L157=\"\",\"\",IF(V157=1,1,0)+IF(X157=1,1,0))","v":""},null,{"$f":"TEXT(F157,\"\")","v":""},{"$f":"TEXT(J157,\"\")","v":""},{"$f":"IF(R157>0,5,0)","v":0},{"$f":"COUNTIF(VFDBDOK,F157)+COUNTIF(VFDBDOK,J157)","v":0},1,{"$f":"IF((U157+W157)>0,5,1)","v":1},0,{"$f":"IF(U157=1,COUNTIF($O$7:$P157,O157),7)","v":7},{"$f":"COUNTIF(ZDOK,P157)","v":0},{"$f":"IF(W157=1,COUNTIF($O$7:$P157,P157),7)","v":7},{"$f":"IF(O157=dok,0,(IF(P157=dok,0,T157)))","v":1},null,"",{"$f":"UPPER(D157)","v":""},{"$f":"UPPER(H157)","v":""},{"$f":"UPPER(SUBSTITUTE(O157,\" \",\"\",1))","v":""},{"$f":"UPPER(SUBSTITUTE(P157,\" \",\"\",1))","v":""},null,0,""]
[152,"",null,null,null,"",null,"",null,"",null,"","",null,"","",0,0,2,1,0,{"$f":"IF(U158=1,COUNTIF($O$7:$P158,O158),7)","v":7},0,{"$f":"IF(W158=1,COUNTIF($O$7:$P158,P158),7)","v":7},1,null,"","","","","",null,0,""]
[153,"",null,null,null,"",null,"",null,"",null,"","",null,"","",0,0,3,1,0,{"$f":"IF(U159=1,COUNTIF($O$7:$P159,O159),7)","v":7},0,{"$f":"IF(W159=1,COUNTIF($O$7:$P159,P159),7)","v":7},1,null,"","","","","",null,0,""]
[154,"",null,null,null,"",null,"",null,"",null,"","",null,"","",0,0,4,1,0,{"$f":"IF(U160=1,COUNTIF($O$7:$P160,O160),7)","v":7},0,{"$f":"IF(W160=1,COUNTIF($O$7:$P160,P160),7)","v":7},1,null,"","","","","",null,0,""]
[155,"",null,null,null,"",null,"",null,"",null,"","",null,"","",0,0,5,1,0,{"$f":"IF(U161=1,COUNTIF($O$7:$P161,O161),7)","v":7},0,{"$f":"IF(W161=1,COUNTIF($O$7:$P161,P161),7)","v":7},1,null,"","","","","",null,0,""]
[156,"",null,null,null,"",null,"",null,"",null,"","",null,"","",0,0,6,1,0,{"$f":"IF(U162=1,COUNTIF($O$7:$P162,O162),7)","v":7},0,{"$f":"IF(W162=1,COUNTIF($O$7:$P162,P162),7)","v":7},1,null,"","","","","",null,0,""]
[157,"",null,null,null,"",null,"",null,"",null,"","",null,"","",0,0,7,1,0,{"$f":"IF(U163=1,COUNTIF($O$7:$P163,O163),7)","v":7},0,{"$f":"IF(W163=1,COUNTIF($O$7:$P163,P163),7)","v":7},1,null,"","","","","",null,0,""]
[158,"",null,null,null,"",null,"",null,"",null,"","",null,"","",0,0,8,1,0,{"$f":"IF(U164=1,COUNTIF($O$7:$P164,O164),7)","v":7},0,{"$f":"IF(W164=1,COUNTIF($O$7:$P164,P164),7)","v":7},1,null,"","","","","",null,0,""]
[159,"",null,null,null,"",null,"",null,"",null,"","",null,"","",0,0,9,1,0,{"$f":"IF(U165=1,COUNTIF($O$7:$P165,O165),7)","v":7},0,{"$f":"IF(W165=1,COUNTIF($O$7:$P165,P165),7)","v":7},1,null,"","","","","",null,0,""]
[160,"",null,null,null,"",null,"",null,"",null,"","",null,"","",0,0,10,1,0,{"$f":"IF(U166=1,COUNTIF($O$7:$P166,O166),7)","v":7},0,{"$f":"IF(W166=1,COUNTIF($O$7:$P166,P166),7)","v":7},1,null,"","","","","",null,0,""]
[161,"",null,null,null,"",null,"",null,"",null,"","",null,"","",0,0,11,1,0,{"$f":"IF(U167=1,COUNTIF($O$7:$P167,O167),7)","v":7},0,{"$f":"IF(W167=1,COUNTIF($O$7:$P167,P167),7)","v":7},1,null,"","","","","",null,0,""]
[162,"",null,null,null,"",null,"",null,"",null,"","",null,"","",0,0,12,1,0,{"$f":"IF(U168=1,COUNTIF($O$7:$P168,O168),7)","v":7},0,{"$f":"IF(W168=1,COUNTIF($O$7:$P168,P168),7)","v":7},1,null,"","","","","",null,0,""]
[163,"",null,null,null,"",null,"",null,"",null,"","",null,"","",0,0,13,1,0,{"$f":"IF(U169=1,COUNTIF($O$7:$P169,O169),7)","v":7},0,{"$f":"IF(W169=1,COUNTIF($O$7:$P169,P169),7)","v":7},1,null,"","","","","",null,0,""]
[164,"",null,null,null,"",null,"",null,"",null,"","",null,"","",0,0,14,1,0,{"$f":"IF(U170=1,COUNTIF($O$7:$P170,O170),7)","v":7},0,{"$f":"IF(W170=1,COUNTIF($O$7:$P170,P170),7)","v":7},1,null,"","","","","",null,0,""]
[165,"",null,null,null,"",null,"",null,"",null,"","",null,"","",0,0,15,1,0,{"$f":"IF(U171=1,COUNTIF($O$7:$P171,O171),7)","v":7},0,{"$f":"IF(W171=1,COUNTIF($O$7:$P171,P171),7)","v":7},1,null,"","","","","",null,0,""]
[166,"",null,null,null,"",null,"",null,"",null,"","",null,"","",0,0,16,1,0,{"$f":"IF(U172=1,COUNTIF($O$7:$P172,O172),7)","v":7},0,{"$f":"IF(W172=1,COUNTIF($O$7:$P172,P172),7)","v":7},1,null,"","","","","",null,0,""]
[167,"",null,null,null,"",null,"",null,"",null,"","",null,"","",0,0,17,1,0,{"$f":"IF(U173=1,COUNTIF($O$7:$P173,O173),7)","v":7},0,{"$f":"IF(W173=1,COUNTIF($O$7:$P173,P173),7)","v":7},1,null,"","","","","",null,0,""]
[168,"",null,null,null,"",null,"",null,"",null,"","",null,"","",0,0,18,1,0,{"$f":"IF(U174=1,COUNTIF($O$7:$P174,O174),7)","v":7},0,{"$f":"IF(W174=1,COUNTIF($O$7:$P174,P174),7)","v":7},1,null,"","","","","",null,0,""]
[169,"",null,null,null,"",null,"",null,"",null,"","",null,"","",0,0,19,1,0,{"$f":"IF(U175=1,COUNTIF($O$7:$P175,O175),7)","v":7},0,{"$f":"IF(W175=1,COUNTIF($O$7:$P175,P175),7)","v":7},1,null,"","","","","",null,0,""]
[170,"",null,null,null,"",null,"",null,"",null,"","",null,"","",0,0,20,1,0,{"$f":"IF(U176=1,COUNTIF($O$7:$P176,O176),7)","v":7},0,{"$f":"IF(W176=1,COUNTIF($O$7:$P176,P176),7)","v":7},1,null,"","","","","",null,0,""]
[171,"",null,null,null,"",null,"",null,"",null,"","",null,"","",0,0,21,1,0,{"$f":"IF(U177=1,COUNTIF($O$7:$P177,O177),7)","v":7},0,{"$f":"IF(W177=1,COUNTIF($O$7:$P177,P177),7)","v":7},1,null,"","","","","",null,0,""]
[172,"",null,null,null,"",null,"",null,"",null,"","",null,"","",0,0,22,1,0,{"$f":"IF(U178=1,COUNTIF($O$7:$P178,O178),7)","v":7},0,{"$f":"IF(W178=1,COUNTIF($O$7:$P178,P178),7)","v":7},1,null,"","","","","",null,0,""]
[173,"",null,null,null,"",null,"",null,"",null,"","",null,"","",0,0,23,1,0,{"$f":"IF(U179=1,COUNTIF($O$7:$P179,O179),7)","v":7},0,{"$f":"IF(W179=1,COUNTIF($O$7:$P179,P179),7)","v":7},1,null,"","","","","",null,0,""]
[174,"",null,null,null,"",null,"",null,"",null,"","",null,"","",0,0,24,1,0,{"$f":"IF(U180=1,COUNTIF($O$7:$P180,O180),7)","v":7},0,{"$f":"IF(W180=1,COUNTIF($O$7:$P180,P180),7)","v":7},1,null,"","","","","",null,0,""]
[175,"",null,null,null,"",null,"",null,"",null,"","",null,"","",0,0,25,1,0,{"$f":"IF(U181=1,COUNTIF($O$7:$P181,O181),7)","v":7},0,{"$f":"IF(W181=1,COUNTIF($O$7:$P181,P181),7)","v":7},1,null,"","","","","",null,0,""]
[176,"",null,null,null,"",null,"",null,"",null,"","",null,"","",0,0,26,1,0,{"$f":"IF(U182=1,COUNTIF($O$7:$P182,O182),7)","v":7},0,{"$f":"IF(W182=1,COUNTIF($O$7:$P182,P182),7)","v":7},1,null,"","","","","",null,0,""]
[177,"",null,null,null,"",null,"",null,"",null,"","",null,"","",0,0,27,1,0,{"$f":"IF(U183=1,COUNTIF($O$7:$P183,O183),7)","v":7},0,{"$f":"IF(W183=1,COUNTIF($O$7:$P183,P183),7)","v":7},1,null,"","","","","",null,0,""]
[178,"",null,null,null,"",null,"",null,"",null,"","",null,"","",0,0,28,1,0,{"$f":"IF(U184=1,COUNTIF($O$7:$P184,O184),7)","v":7},0,{"$f":"IF(W184=1,COUNTIF($O$7:$P184,P184),7)","v":7},1,null,"","","","","",null,0,""]
[179,"",null,null,null,"",null,"",null,"",null,"","",null,"","",0,0,29,1,0,{"$f":"IF(U185=1,COUNTIF($O$7:$P185,O185),7)","v":7},0,{"$f":"IF(W185=1,COUNTIF($O$7:$P185,P185),7)","v":7},1,null,"","","","","",null,0,""]
[180,"",null,null,null,"",null,"",null,"",null,"","",null,"","",0,0,30,1,0,{"$f":"IF(U186=1,COUNTIF($O$7:$P186,O186),7)","v":7},0,{"$f":"IF(W186=1,COUNTIF($O$7:$P186,P186),7)","v":7},1,null,"","","","","",null,0,""]
[181,"",null,null,null,"",null,"",null,"",null,"","",null,"","",0,0,31,1,0,{"$f":"IF(U187=1,COUNTIF($O$7:$P187,O187),7)","v":7},0,{"$f":"IF(W187=1,COUNTIF($O$7:$P187,P187),7)","v":7},1,null,"","","","","",null,0,""]
[182,"",null,null,null,"",null,"",null,"",null,"","",null,"","",0,0,32,1,0,{"$f":"IF(U188=1,COUNTIF($O$7:$P188,O188),7)","v":7},0,{"$f":"IF(W188=1,COUNTIF($O$7:$P188,P188),7)","v":7},1,null,"","","","","",null,0,""]
[183,"",null,null,null,"",null,"",null,"",null,"","",null,"","",0,0,33,1,0,{"$f":"IF(U189=1,COUNTIF($O$7:$P189,O189),7)","v":7},0,{"$f":"IF(W189=1,COUNTIF($O$7:$P189,P189),7)","v":7},1,null,"","","","","",null,0,""]
[184,"",null,null,null,"",null,"",null,"",null,"","",null,"","",0,0,34,1,0,{"$f":"IF(U190=1,COUNTIF($O$7:$P190,O190),7)","v":7},0,{"$f":"IF(W190=1,COUNTIF($O$7:$P190,P190),7)","v":7},1,null,"","","","","",null,0,""]
[185,"",null,null,null,"",null,"",null,"",null,"","",null,"","",0,0,35,1,0,{"$f":"IF(U191=1,COUNTIF($O$7:$P191,O191),7)","v":7},0,{"$f":"IF(W191=1,COUNTIF($O$7:$P191,P191),7)","v":7},1,null,"","","","","",null,0,""]
[186,"",null,null,null,"",null,"",null,"",null,"","",null,"","",0,0,36,1,0,{"$f":"IF(U192=1,COUNTIF($O$7:$P192,O192),7)","v":7},0,{"$f":"IF(W192=1,COUNTIF($O$7:$P192,P192),7)","v":7},1,null,"","","","","",null,0,""]
[187,"",null,null,null,"",null,"",null,"",null,"","",null,"","",0,0,37,1,0,{"$f":"IF(U193=1,COUNTIF($O$7:$P193,O193),7)","v":7},0,{"$f":"IF(W193=1,COUNTIF($O$7:$P193,P193),7)","v":7},1,null,"","","","","",null,0,""]
[188,"",null,null,null,"",null,"",null,"",null,"","",null,"","",0,0,38,1,0,{"$f":"IF(U194=1,COUNTIF($O$7:$P194,O194),7)","v":7},0,{"$f":"IF(W194=1,COUNTIF($O$7:$P194,P194),7)","v":7},1,null,"","","","","",null,0,""]
[189,"",null,null,null,"",null,"",null,"",null,"","",null,"","",0,0,39,1,0,{"$f":"IF(U195=1,COUNTIF($O$7:$P195,O195),7)","v":7},0,{"$f":"IF(W195=1,COUNTIF($O$7:$P195,P195),7)","v":7},1,null,"","","","","",null,0,""]
[190,"",null,null,null,"",null,"",null,"",null,"","",null,"","",0,0,40,1,0,{"$f":"IF(U196=1,COUNTIF($O$7:$P196,O196),7)","v":7},0,{"$f":"IF(W196=1,COUNTIF($O$7:$P196,P196),7)","v":7},1,null,"","","","","",null,0,""]
[191,"",null,null,null,"",null,"",null,"",null,"","",null,"","",0,0,41,1,0,{"$f":"IF(U197=1,COUNTIF($O$7:$P197,O197),7)","v":7},0,{"$f":"IF(W197=1,COUNTIF($O$7:$P197,P197),7)","v":7},1,null,"","","","","",null,0,""]
[192,"",null,null,null,"",null,"",null,"",null,"","",null,"","",0,0,42,1,0,{"$f":"IF(U198=1,COUNTIF($O$7:$P198,O198),7)","v":7},0,{"$f":"IF(W198=1,COUNTIF($O$7:$P198,P198),7)","v":7},1,null,"","","","","",null,0,""]
[193,"",null,null,null,"",null,"",null,"",null,"","",null,"","",0,0,43,1,{"$f":"COUNTIF(ZDOK,O:O)","v":0},{"$f":"IF(U199=1,COUNTIF($O$7:$P199,O199),7)","v":7},0,{"$f":"IF(W199=1,COUNTIF($O$7:$P199,P199),7)","v":7},1,null,"","","","","",null,0,""]
[194,"",null,null,null,"",null,"",null,"",null,"","",null,"","",0,0,44,1,0,{"$f":"IF(U200=1,COUNTIF($O$7:$P200,O200),7)","v":7},0,{"$f":"IF(W200=1,COUNTIF($O$7:$P200,P200),7)","v":7},1,null,{"$f":"IF(AG200=0,\"\",IF(AG200=5,AG200,CONCATENATE(LEFT(AG200,2),\":\",RIGHT(AG200,2))))","v":""},"","","","",null,{"$f":"IF(AH200=\":\",IF(LEN(C200)=4,CONCATENATE(\"0\",LEFT(C200,1),RIGHT(C200,2)),C200),IF(LEN(C200)=3,CONCATENATE(\"0\",C200),C200))","v":0},{"$f":"IF(LEN(C200)=4,MID(C200,2,1),MID(C200,3,1))","v":""}]
[195,"",null,null,null,"",null,"",null,"",null,"","",null,"","",0,0,45,1,0,{"$f":"IF(U201=1,COUNTIF($O$7:$P201,O201),7)","v":7},0,{"$f":"IF(W201=1,COUNTIF($O$7:$P201,P201),7)","v":7},1,null,"","","","","",null,0,""]
[196,"",null,null,null,"",null,"",null,"",null,"","",null,"","",0,0,46,1,0,{"$f":"IF(U202=1,COUNTIF($O$7:$P202,O202),7)","v":7},0,{"$f":"IF(W202=1,COUNTIF($O$7:$P202,P202),7)","v":7},1,null,"","","","","",null,0,""]
[197,"",null,null,null,"",null,"",null,"",null,"","",null,"","",0,0,47,1,0,{"$f":"IF(U203=1,COUNTIF($O$7:$P203,O203),7)","v":7},0,{"$f":"IF(W203=1,COUNTIF($O$7:$P203,P203),7)","v":7},1,null,"","","","","",null,0,""]
[198,"",null,null,null,"",null,"",null,"",null,"","",null,"","",0,0,48,1,0,{"$f":"IF(U204=1,COUNTIF($O$7:$P204,O204),7)","v":7},0,{"$f":"IF(W204=1,COUNTIF($O$7:$P204,P204),7)","v":7},1,null,"","","","","",null,0,""]
[199,"",null,null,null,"",null,"",null,"",null,"","",null,"","",0,0,49,1,0,{"$f":"IF(U205=1,COUNTIF($O$7:$P205,O205),7)","v":7},0,{"$f":"IF(W205=1,COUNTIF($O$7:$P205,P205),7)","v":7},1,null,"","","","","",null,0,""]
[200,"",null,null,null,"",null,"",null,"",null,"","",null,"","",0,0,50,1,0,{"$f":"IF(U206=1,COUNTIF($O$7:$P206,O206),7)","v":7},0,{"$f":"IF(W206=1,COUNTIF($O$7:$P206,P206),7)","v":7},1,null,"","","","","",null,0,""]
[201,"",null,null,null,"",null,"",null,"",null,"","",null,"","",0,0,51,1,0,{"$f":"IF(U207=1,COUNTIF($O$7:$P207,O207),7)","v":7},0,{"$f":"IF(W207=1,COUNTIF($O$7:$P207,P207),7)","v":7},1,null,"","","","","",null,0,""]
[202,"",null,null,null,"",null,"",null,"",null,"","",null,"","",0,0,52,1,0,{"$f":"IF(U208=1,COUNTIF($O$7:$P208,O208),7)","v":7},0,{"$f":"IF(W208=1,COUNTIF($O$7:$P208,P208),7)","v":7},1,null,"","","","","",null,0,""]
[203,"",null,null,null,"",null,"",null,"",null,"","",null,"","",0,0,53,1,0,{"$f":"IF(U209=1,COUNTIF($O$7:$P209,O209),7)","v":7},0,{"$f":"IF(W209=1,COUNTIF($O$7:$P209,P209),7)","v":7},1,null,"","","","","",null,0,""]
[204,"",null,null,null,"",null,"",null,"",null,"","",null,"","",0,0,54,1,0,{"$f":"IF(U210=1,COUNTIF($O$7:$P210,O210),7)","v":7},0,{"$f":"IF(W210=1,COUNTIF($O$7:$P210,P210),7)","v":7},1,null,"","","","","",null,0,""]
[205,"",null,null,null,"",null,"",null,"",null,"","",null,"","",0,0,55,1,0,{"$f":"IF(U211=1,COUNTIF($O$7:$P211,O211),7)","v":7},0,{"$f":"IF(W211=1,COUNTIF($O$7:$P211,P211),7)","v":7},1,null,"","","","","",null,0,""]
[206,"",null,null,null,"",null,"",null,"",null,"","",null,"","",0,0,56,1,0,{"$f":"IF(U212=1,COUNTIF($O$7:$P212,O212),7)","v":7},0,{"$f":"IF(W212=1,COUNTIF($O$7:$P212,P212),7)","v":7},1,null,"","","","","",null,0,""]
[207,"",null,null,null,"",null,"",null,"",null,"","",null,"","",0,0,57,1,0,{"$f":"IF(U213=1,COUNTIF($O$7:$P213,O213),7)","v":7},0,{"$f":"IF(W213=1,COUNTIF($O$7:$P213,P213),7)","v":7},1,null,"","","","","",null,0,""]
[208,"",null,null,null,"",null,"",null,"",null,"","",null,"","",0,0,58,1,0,{"$f":"IF(U214=1,COUNTIF($O$7:$P214,O214),7)","v":7},0,{"$f":"IF(W214=1,COUNTIF($O$7:$P214,P214),7)","v":7},1,null,"","","","","",null,0,""]
[209,"",null,null,null,"",null,"",null,"",null,"","",null,"","",0,0,59,1,0,{"$f":"IF(U215=1,COUNTIF($O$7:$P215,O215),7)","v":7},0,{"$f":"IF(W215=1,COUNTIF($O$7:$P215,P215),7)","v":7},1,null,"","","","","",null,0,""]
[210,"",null,null,null,"",null,"",null,"",null,"","",null,"","",0,0,60,1,0,{"$f":"IF(U216=1,COUNTIF($O$7:$P216,O216),7)","v":7},0,{"$f":"IF(W216=1,COUNTIF($O$7:$P216,P216),7)","v":7},1,null,"","","","","",null,0,""]
[211,"",null,null,null,"",null,"",null,"",null,"","",null,"","",0,0,61,1,0,{"$f":"IF(U217=1,COUNTIF($O$7:$P217,O217),7)","v":7},0,{"$f":"IF(W217=1,COUNTIF($O$7:$P217,P217),7)","v":7},1,null,"","","","","",null,0,""]
[212,"",null,null,null,"",null,"",null,"",null,"","",null,"","",0,0,62,1,0,{"$f":"IF(U218=1,COUNTIF($O$7:$P218,O218),7)","v":7},0,{"$f":"IF(W218=1,COUNTIF($O$7:$P218,P218),7)","v":7},1,null,"","","","","",null,0,""]
[213,"",null,null,null,"",null,"",null,"",null,"","",null,"","",0,0,63,1,0,{"$f":"IF(U219=1,COUNTIF($O$7:$P219,O219),7)","v":7},0,{"$f":"IF(W219=1,COUNTIF($O$7:$P219,P219),7)","v":7},1,null,"","","","","",null,0,""]
[214,"",null,null,null,"",null,"",null,"",null,"","",null,"","",0,0,64,1,0,{"$f":"IF(U220=1,COUNTIF($O$7:$P220,O220),7)","v":7},0,{"$f":"IF(W220=1,COUNTIF($O$7:$P220,P220),7)","v":7},1,null,"","","","","",null,0,""]
[215,{"$f":"IF(D221=\"\",\"\",date1)","v":""},null,null,null,"",null,"",null,"",null,{"$f":"IF(D221=\"\",\"\",IF(Q221+T221>5,10,Y221))","v":""},{"$f":"IF(L221=\"\",\"\",IF(V221=1,1,0)+IF(X221=1,1,0))","v":""},null,{"$f":"TEXT(F221,\"\")","v":""},{"$f":"TEXT(J221,\"\")","v":""},{"$f":"IF(R221>0,5,0)","v":0},{"$f":"COUNTIF(VFDBDOK,F221)+COUNTIF(VFDBDOK,J221)","v":0},65,{"$f":"IF((U221+W221)>0,5,1)","v":1},0,{"$f":"IF(U221=1,COUNTIF($O$7:$P221,O221),7)","v":7},{"$f":"COUNTIF(ZDOK,P221)","v":0},{"$f":"IF(W221=1,COUNTIF($O$7:$P221,P221),7)","v":7},{"$f":"IF(O221=dok,0,(IF(P221=dok,0,T221)))","v":1},null,"",{"$f":"UPPER(D221)","v":""},{"$f":"UPPER(H221)","v":""},{"$f":"UPPER(SUBSTITUTE(O221,\" \",\"\",1))","v":""},{"$f":"UPPER(SUBSTITUTE(P221,\" \",\"\",1))","v":""},null,0,""]
[216,"",null,null,null,"",null,"",null,"",null,"","",null,"","",0,0,66,1,0,{"$f":"IF(U222=1,COUNTIF($O$7:$P222,O222),7)","v":7},0,{"$f":"IF(W222=1,COUNTIF($O$7:$P222,P222),7)","v":7},1,null,"","","","","",null,0,""]
[217,"",null,null,null,"",null,"",null,"",null,"","",null,"","",0,0,67,1,0,{"$f":"IF(U223=1,COUNTIF($O$7:$P223,O223),7)","v":7},0,{"$f":"IF(W223=1,COUNTIF($O$7:$P223,P223),7)","v":7},1,null,"","","","","",null,0,""]
[218,"",null,null,null,"",null,"",null,"",null,"","",null,"","",0,0,68,1,0,{"$f":"IF(U224=1,COUNTIF($O$7:$P224,O224),7)","v":7},0,{"$f":"IF(W224=1,COUNTIF($O$7:$P224,P224),7)","v":7},1,null,"","","","","",null,0,""]
[219,"",null,null,null,"",null,"",null,"",null,"","",null,"","",0,0,69,1,0,{"$f":"IF(U225=1,COUNTIF($O$7:$P225,O225),7)","v":7},0,{"$f":"IF(W225=1,COUNTIF($O$7:$P225,P225),7)","v":7},1,null,"","","","","",null,0,""]
[220,"",null,null,null,"",null,"",null,"",null,"","",null,"","",0,0,70,1,0,{"$f":"IF(U226=1,COUNTIF($O$7:$P226,O226),7)","v":7},0,{"$f":"IF(W226=1,COUNTIF($O$7:$P226,P226),7)","v":7},1,null,"","","","","",null,0,""]
[221,"",null,null,null,"",null,"",null,"",null,"","",null,"","",0,0,71,1,0,{"$f":"IF(U227=1,COUNTIF($O$7:$P227,O227),7)","v":7},0,{"$f":"IF(W227=1,COUNTIF($O$7:$P227,P227),7)","v":7},1,null,"","","","","",null,0,""]
[222,"",null,null,null,"",null,"",null,"",null,"","",null,"","",0,0,72,1,0,{"$f":"IF(U228=1,COUNTIF($O$7:$P228,O228),7)","v":7},0,{"$f":"IF(W228=1,COUNTIF($O$7:$P228,P228),7)","v":7},1,null,"","","","","",null,0,""]
[223,"",null,null,null,"",null,"",null,"",null,"","",null,"","",0,0,73,1,0,{"$f":"IF(U229=1,COUNTIF($O$7:$P229,O229),7)","v":7},0,{"$f":"IF(W229=1,COUNTIF($O$7:$P229,P229),7)","v":7},1,null,"","","","","",null,0,""]
[224,"",null,null,null,"",null,"",null,"",null,"","",null,"","",0,0,74,1,0,{"$f":"IF(U230=1,COUNTIF($O$7:$P230,O230),7)","v":7},0,{"$f":"IF(W230=1,COUNTIF($O$7:$P230,P230),7)","v":7},1,null,"","","","","",null,0,""]
[225,"",null,null,null,"",null,"",null,"",null,"","",null,"","",0,0,75,1,0,{"$f":"IF(U231=1,COUNTIF($O$7:$P231,O231),7)","v":7},0,{"$f":"IF(W231=1,COUNTIF($O$7:$P231,P231),7)","v":7},1,null,"","","","","",null,0,""]
[226,"",null,null,null,"",null,"",null,"",null,"","",null,"","",0,0,76,1,0,{"$f":"IF(U232=1,COUNTIF($O$7:$P232,O232),7)","v":7},0,{"$f":"IF(W232=1,COUNTIF($O$7:$P232,P232),7)","v":7},1,null,"","","","","",null,0,""]
[227,"",null,null,null,"",null,"",null,"",null,"","",null,"","",0,0,77,1,0,{"$f":"IF(U233=1,COUNTIF($O$7:$P233,O233),7)","v":7},0,{"$f":"IF(W233=1,COUNTIF($O$7:$P233,P233),7)","v":7},1,null,"","","","","",null,0,""]
[228,"",null,null,null,"",null,"",null,"",null,"","",null,"","",0,0,78,1,0,{"$f":"IF(U234=1,COUNTIF($O$7:$P234,O234),7)","v":7},0,{"$f":"IF(W234=1,COUNTIF($O$7:$P234,P234),7)","v":7},1,null,"","","","","",null,0,""]
[229,"",null,null,null,"",null,"",null,"",null,"","",null,"","",0,0,79,1,0,{"$f":"IF(U235=1,COUNTIF($O$7:$P235,O235),7)","v":7},0,{"$f":"IF(W235=1,COUNTIF($O$7:$P235,P235),7)","v":7},1,null,"","","","","",null,0,""]
[230,"",null,null,null,"",null,"",null,"",null,"","",null,"","",0,0,80,1,0,{"$f":"IF(U236=1,COUNTIF($O$7:$P236,O236),7)","v":7},0,{"$f":"IF(W236=1,COUNTIF($O$7:$P236,P236),7)","v":7},1,null,"","","","","",null,0,""]
[231,"",null,null,null,"",null,"",null,"",null,"","",null,"","",0,0,81,1,0,{"$f":"IF(U237=1,COUNTIF($O$7:$P237,O237),7)","v":7},0,{"$f":"IF(W237=1,COUNTIF($O$7:$P237,P237),7)","v":7},1,null,"","","","","",null,0,""]
[232,"",null,null,null,"",null,"",null,"",null,"","",null,"","",0,0,82,1,0,{"$f":"IF(U238=1,COUNTIF($O$7:$P238,O238),7)","v":7},0,{"$f":"IF(W238=1,COUNTIF($O$7:$P238,P238),7)","v":7},1,null,"","","","","",null,0,""]
[233,"",null,null,null,"",null,"",null,"",null,"","",null,"","",0,0,83,1,0,{"$f":"IF(U239=1,COUNTIF($O$7:$P239,O239),7)","v":7},0,{"$f":"IF(W239=1,COUNTIF($O$7:$P239,P239),7)","v":7},1,null,"","","","","",null,0,""]
[234,"",null,null,null,"",null,"",null,"",null,"","",null,"","",0,0,84,1,0,{"$f":"IF(U240=1,COUNTIF($O$7:$P240,O240),7)","v":7},0,{"$f":"IF(W240=1,COUNTIF($O$7:$P240,P240),7)","v":7},1,null,"","","","","",null,0,""]
[235,"",null,null,null,"",null,"",null,"",null,"","",null,"","",0,0,85,1,0,{"$f":"IF(U241=1,COUNTIF($O$7:$P241,O241),7)","v":7},0,{"$f":"IF(W241=1,COUNTIF($O$7:$P241,P241),7)","v":7},1,null,"","","","","",null,0,""]
[236,"",null,null,null,"",null,"",null,"",null,"","",null,"","",0,0,86,1,0,{"$f":"IF(U242=1,COUNTIF($O$7:$P242,O242),7)","v":7},0,{"$f":"IF(W242=1,COUNTIF($O$7:$P242,P242),7)","v":7},1,null,"","","","","",null,0,""]
[237,"",null,null,null,"",null,"",null,"",null,"","",null,"","",0,0,87,1,0,{"$f":"IF(U243=1,COUNTIF($O$7:$P243,O243),7)","v":7},0,{"$f":"IF(W243=1,COUNTIF($O$7:$P243,P243),7)","v":7},1,null,"","","","","",null,0,""]
[238,"",null,null,null,"",null,"",null,"",null,"","",null,"","",0,0,88,1,0,{"$f":"IF(U244=1,COUNTIF($O$7:$P244,O244),7)","v":7},0,{"$f":"IF(W244=1,COUNTIF($O$7:$P244,P244),7)","v":7},1,null,"","","","","",null,0,""]
[239,"",null,null,null,"",null,"",null,"",null,"","",null,"","",0,0,89,1,0,{"$f":"IF(U245=1,COUNTIF($O$7:$P245,O245),7)","v":7},0,{"$f":"IF(W245=1,COUNTIF($O$7:$P245,P245),7)","v":7},1,null,"","","","","",null,0,""]
[240,"",null,null,null,"",null,"",null,"",null,"","",null,"","",0,0,90,1,0,{"$f":"IF(U246=1,COUNTIF($O$7:$P246,O246),7)","v":7},0,{"$f":"IF(W246=1,COUNTIF($O$7:$P246,P246),7)","v":7},1,null,"","","","","",null,0,""]
[241,"",null,null,null,"",null,"",null,"",null,"","",null,"","",0,0,91,1,0,{"$f":"IF(U247=1,COUNTIF($O$7:$P247,O247),7)","v":7},0,{"$f":"IF(W247=1,COUNTIF($O$7:$P247,P247),7)","v":7},1,null,"","","","","",null,0,""]
[242,"",null,null,null,"",null,"",null,"",null,"","",null,"","",0,0,92,1,0,{"$f":"IF(U248=1,COUNTIF($O$7:$P248,O248),7)","v":7},0,{"$f":"IF(W248=1,COUNTIF($O$7:$P248,P248),7)","v":7},1,null,"","","","","",null,0,""]
[243,"",null,null,null,"",null,"",null,"",null,"","",null,"","",0,0,93,1,0,{"$f":"IF(U249=1,COUNTIF($O$7:$P249,O249),7)","v":7},0,{"$f":"IF(W249=1,COUNTIF($O$7:$P249,P249),7)","v":7},1,null,"","","","","",null,0,""]
[244,"",null,null,null,"",null,"",null,"",null,"","",null,"","",0,0,94,1,0,{"$f":"IF(U250=1,COUNTIF($O$7:$P250,O250),7)","v":7},0,{"$f":"IF(W250=1,COUNTIF($O$7:$P250,P250),7)","v":7},1,null,"","","","","",null,0,""]
[245,"",null,null,null,"",null,"",null,"",null,"","",null,"","",0,0,95,1,0,{"$f":"IF(U251=1,COUNTIF($O$7:$P251,O251),7)","v":7},0,{"$f":"IF(W251=1,COUNTIF($O$7:$P251,P251),7)","v":7},1,null,"","","","","",null,0,""]
[246,"",null,null,null,"",null,"",null,"",null,"","",null,"","",0,0,96,1,0,{"$f":"IF(U252=1,COUNTIF($O$7:$P252,O252),7)","v":7},0,{"$f":"IF(W252=1,COUNTIF($O$7:$P252,P252),7)","v":7},1,null,"","","","","",null,0,""]
[247,"",null,null,null,"",null,"",null,"",null,"","",null,"","",0,0,97,1,0,{"$f":"IF(U253=1,COUNTIF($O$7:$P253,O253),7)","v":7},0,{"$f":"IF(W253=1,COUNTIF($O$7:$P253,P253),7)","v":7},1,null,"","","","","",null,0,""]
[248,"",null,null,null,"",null,"",null,"",null,"","",null,"","",0,0,98,1,0,{"$f":"IF(U254=1,COUNTIF($O$7:$P254,O254),7)","v":7},0,{"$f":"IF(W254=1,COUNTIF($O$7:$P254,P254),7)","v":7},1,null,"","","","","",null,0,""]
[249,"",null,null,null,"",null,"",null,"",null,"","",null,"","",0,0,99,1,0,{"$f":"IF(U255=1,COUNTIF($O$7:$P255,O255),7)","v":7},0,{"$f":"IF(W255=1,COUNTIF($O$7:$P255,P255),7)","v":7},1,null,"","","","","",null,0,""]
[250,"",null,null,null,"",null,"",null,"",null,"","",null,"","",0,0,100,1,0,{"$f":"IF(U256=1,COUNTIF($O$7:$P256,O256),7)","v":7},0,{"$f":"IF(W256=1,COUNTIF($O$7:$P256,P256),7)","v":7},1,null,"","","","","",null,0,""]
[251,"",null,null,null,"",null,"",null,"",null,"","",null,"","",0,0,101,1,0,{"$f":"IF(U257=1,COUNTIF($O$7:$P257,O257),7)","v":7},0,{"$f":"IF(W257=1,COUNTIF($O$7:$P257,P257),7)","v":7},1,null,"","","","","",null,0,""]
[252,"",null,null,null,"",null,"",null,"",null,"","",null,"","",0,0,102,1,0,{"$f":"IF(U258=1,COUNTIF($O$7:$P258,O258),7)","v":7},0,{"$f":"IF(W258=1,COUNTIF($O$7:$P258,P258),7)","v":7},1,null,"","","","","",null,0,""]
[253,"",null,null,null,"",null,"",null,"",null,"","",null,"","",0,0,103,1,0,{"$f":"IF(U259=1,COUNTIF($O$7:$P259,O259),7)","v":7},0,{"$f":"IF(W259=1,COUNTIF($O$7:$P259,P259),7)","v":7},1,null,"","","","","",null,0,""]
[254,"",null,null,null,"",null,"",null,"",null,"","",null,"","",0,0,104,1,0,{"$f":"IF(U260=1,COUNTIF($O$7:$P260,O260),7)","v":7},0,{"$f":"IF(W260=1,COUNTIF($O$7:$P260,P260),7)","v":7},1,null,"","","","","",null,0,""]
[255,"",null,null,null,"",null,"",null,"",null,"","",null,"","",0,0,105,1,0,{"$f":"IF(U261=1,COUNTIF($O$7:$P261,O261),7)","v":7},0,{"$f":"IF(W261=1,COUNTIF($O$7:$P261,P261),7)","v":7},1,null,"","","","","",null,0,""]
[256,"",null,null,null,"",null,"",null,"",null,"","",null,"","",0,0,106,1,0,{"$f":"IF(U262=1,COUNTIF($O$7:$P262,O262),7)","v":7},0,{"$f":"IF(W262=1,COUNTIF($O$7:$P262,P262),7)","v":7},1,null,"","","","","",null,0,""]
[257,"",null,null,null,"",null,"",null,"",null,"","",null,"","",0,0,107,1,{"$f":"COUNTIF(ZDOK,O:O)","v":0},{"$f":"IF(U263=1,COUNTIF($O$7:$P263,O263),7)","v":7},0,{"$f":"IF(W263=1,COUNTIF($O$7:$P263,P263),7)","v":7},1,null,"","","","","",null,0,""]
[258,"",null,null,null,"",null,"",null,"",null,"","",null,"","",0,0,108,1,0,{"$f":"IF(U264=1,COUNTIF($O$7:$P264,O264),7)","v":7},0,{"$f":"IF(W264=1,COUNTIF($O$7:$P264,P264),7)","v":7},1,null,{"$f":"IF(AG264=0,\"\",IF(AG264=5,AG264,CONCATENATE(LEFT(AG264,2),\":\",RIGHT(AG264,2))))","v":""},"","","","",null,{"$f":"IF(AH264=\":\",IF(LEN(C264)=4,CONCATENATE(\"0\",LEFT(C264,1),RIGHT(C264,2)),C264),IF(LEN(C264)=3,CONCATENATE(\"0\",C264),C264))","v":0},{"$f":"IF(LEN(C264)=4,MID(C264,2,1),MID(C264,3,1))","v":""}]
[259,"",null,null,null,"",null,"",null,"",null,"","",null,"","",0,0,109,1,0,{"$f":"IF(U265=1,COUNTIF($O$7:$P265,O265),7)","v":7},0,{"$f":"IF(W265=1,COUNTIF($O$7:$P265,P265),7)","v":7},1,null,"","","","","",null,0,""]
[260,"",null,null,null,"",null,"",null,"",null,"","",null,"","",0,0,110,1,0,{"$f":"IF(U266=1,COUNTIF($O$7:$P266,O266),7)","v":7},0,{"$f":"IF(W266=1,COUNTIF($O$7:$P266,P266),7)","v":7},1,null,"","","","","",null,0,""]
[261,"",null,null,null,"",null,"",null,"",null,"","",null,"","",0,0,111,1,0,{"$f":"IF(U267=1,COUNTIF($O$7:$P267,O267),7)","v":7},0,{"$f":"IF(W267=1,COUNTIF($O$7:$P267,P267),7)","v":7},1,null,"","","","","",null,0,""]
[262,"",null,null,null,"",null,"",null,"",null,"","",null,"","",0,0,112,1,0,{"$f":"IF(U268=1,COUNTIF($O$7:$P268,O268),7)","v":7},0,{"$f":"IF(W268=1,COUNTIF($O$7:$P268,P268),7)","v":7},1,null,"","","","","",null,0,""]
[263,"",null,null,null,"",null,"",null,"",null,"","",null,"","",0,0,113,1,0,{"$f":"IF(U269=1,COUNTIF($O$7:$P269,O269),7)","v":7},0,{"$f":"IF(W269=1,COUNTIF($O$7:$P269,P269),7)","v":7},1,null,"","","","","",null,0,""]
[264,"",null,null,null,"",null,"",null,"",null,"","",null,"","",0,0,114,1,0,{"$f":"IF(U270=1,COUNTIF($O$7:$P270,O270),7)","v":7},0,{"$f":"IF(W270=1,COUNTIF($O$7:$P270,P270),7)","v":7},1,null,"","","","","",null,0,""]
[265,"",null,null,null,"",null,"",null,"",null,"","",null,"","",0,0,115,1,0,{"$f":"IF(U271=1,COUNTIF($O$7:$P271,O271),7)","v":7},0,{"$f":"IF(W271=1,COUNTIF($O$7:$P271,P271),7)","v":7},1,null,"","","","","",null,0,""]
[266,"",null,null,null,"",null,"",null,"",null,"","",null,"","",0,0,116,1,0,{"$f":"IF(U272=1,COUNTIF($O$7:$P272,O272),7)","v":7},0,{"$f":"IF(W272=1,COUNTIF($O$7:$P272,P272),7)","v":7},1,null,"","","","","",null,0,""]
[267,"",null,null,null,"",null,"",null,"",null,"","",null,"","",0,0,117,1,0,{"$f":"IF(U273=1,COUNTIF($O$7:$P273,O273),7)","v":7},0,{"$f":"IF(W273=1,COUNTIF($O$7:$P273,P273),7)","v":7},1,null,"","","","","",null,0,""]
[268,"",null,null,null,"",null,"",null,"",null,"","",null,"","",0,0,118,1,0,{"$f":"IF(U274=1,COUNTIF($O$7:$P274,O274),7)","v":7},0,{"$f":"IF(W274=1,COUNTIF($O$7:$P274,P274),7)","v":7},1,null,"","","","","",null,0,""]
[269,"",null,null,null,"",null,"",null,"",null,"","",null,"","",0,0,119,1,0,{"$f":"IF(U275=1,COUNTIF($O$7:$P275,O275),7)","v":7},0,{"$f":"IF(W275=1,COUNTIF($O$7:$P275,P275),7)","v":7},1,null,"","","","","",null,0,""]
[270,"",null,null,null,"",null,"",null,"",null,"","",null,"","",0,0,120,1,0,{"$f":"IF(U276=1,COUNTIF($O$7:$P276,O276),7)","v":7},0,{"$f":"IF(W276=1,COUNTIF($O$7:$P276,P276),7)","v":7},1,null,"","","","","",null,0,""]
[271,"",null,null,null,"",null,"",null,"",null,"","",null,"","",0,0,121,1,0,{"$f":"IF(U277=1,COUNTIF($O$7:$P277,O277),7)","v":7},0,{"$f":"IF(W277=1,COUNTIF($O$7:$P277,P277),7)","v":7},1,null,"","","","","",null,0,""]
[272,"",null,null,null,"",null,"",null,"",null,"","",null,"","",0,0,122,1,0,{"$f":"IF(U278=1,COUNTIF($O$7:$P278,O278),7)","v":7},0,{"$f":"IF(W278=1,COUNTIF($O$7:$P278,P278),7)","v":7},1,null,"","","","","",null,0,""]
[273,"",null,null,null,"",null,"",null,"",null,"","",null,"","",0,0,123,1,0,{"$f":"IF(U279=1,COUNTIF($O$7:$P279,O279),7)","v":7},0,{"$f":"IF(W279=1,COUNTIF($O$7:$P279,P279),7)","v":7},1,null,"","","","","",null,0,""]
[274,"",null,null,null,"",null,"",null,"",null,"","",null,"","",0,0,124,1,0,{"$f":"IF(U280=1,COUNTIF($O$7:$P280,O280),7)","v":7},0,{"$f":"IF(W280=1,COUNTIF($O$7:$P280,P280),7)","v":7},1,null,"","","","","",null,0,""]
[275,"",null,null,null,"",null,"",null,"",null,"","",null,"","",0,0,125,1,0,{"$f":"IF(U281=1,COUNTIF($O$7:$P281,O281),7)","v":7},0,{"$f":"IF(W281=1,COUNTIF($O$7:$P281,P281),7)","v":7},1,null,"","","","","",null,0,""]
[276,"",null,null,null,"",null,"",null,"",null,"","",null,"","",0,0,126,1,0,{"$f":"IF(U282=1,COUNTIF($O$7:$P282,O282),7)","v":7},0,{"$f":"IF(W282=1,COUNTIF($O$7:$P282,P282),7)","v":7},1,null,"","","","","",null,0,""]
[277,"",null,null,null,"",null,"",null,"",null,"","",null,"","",0,0,127,1,0,{"$f":"IF(U283=1,COUNTIF($O$7:$P283,O283),7)","v":7},0,{"$f":"IF(W283=1,COUNTIF($O$7:$P283,P283),7)","v":7},1,null,"","","","","",null,0,""]
[278,"",null,null,null,"",null,"",null,"",null,"","",null,"","",0,0,128,1,0,{"$f":"IF(U284=1,COUNTIF($O$7:$P284,O284),7)","v":7},0,{"$f":"IF(W284=1,COUNTIF($O$7:$P284,P284),7)","v":7},1,null,"","","","","",null,0,""]
[279,{"$f":"IF(D285=\"\",\"\",date1)","v":""},null,null,null,"",null,"",null,"",null,{"$f":"IF(D285=\"\",\"\",IF(Q285+T285>5,10,Y285))","v":""},{"$f":"IF(L285=\"\",\"\",IF(V285=1,1,0)+IF(X285=1,1,0))","v":""},null,{"$f":"TEXT(F285,\"\")","v":""},{"$f":"TEXT(J285,\"\")","v":""},{"$f":"IF(R285>0,5,0)","v":0},{"$f":"COUNTIF(VFDBDOK,F285)+COUNTIF(VFDBDOK,J285)","v":0},129,{"$f":"IF((U285+W285)>0,5,1)","v":1},0,{"$f":"IF(U285=1,COUNTIF($O$7:$P285,O285),7)","v":7},{"$f":"COUNTIF(ZDOK,P285)","v":0},{"$f":"IF(W285=1,COUNTIF($O$7:$P285,P285),7)","v":7},{"$f":"IF(O285=dok,0,(IF(P285=dok,0,T285)))","v":1},null,"",{"$f":"UPPER(D285)","v":""},{"$f":"UPPER(H285)","v":""},{"$f":"UPPER(SUBSTITUTE(O285,\" \",\"\",1))","v":""},{"$f":"UPPER(SUBSTITUTE(P285,\" \",\"\",1))","v":""},null,0,""]
[280,"",null,null,null,"",null,"",null,"",null,"","",null,"","",0,0,130,1,0,{"$f":"IF(U286=1,COUNTIF($O$7:$P286,O286),7)","v":7},0,{"$f":"IF(W286=1,COUNTIF($O$7:$P286,P286),7)","v":7},1,null,"","","","","",null,0,""]
[281,"",null,null,null,"",null,"",null,"",null,"","",null,"","",0,0,131,1,0,{"$f":"IF(U287=1,COUNTIF($O$7:$P287,O287),7)","v":7},0,{"$f":"IF(W287=1,COUNTIF($O$7:$P287,P287),7)","v":7},1,null,"","","","","",null,0,""]
[282,"",null,null,null,"",null,"",null,"",null,"","",null,"","",0,0,132,1,0,{"$f":"IF(U288=1,COUNTIF($O$7:$P288,O288),7)","v":7},0,{"$f":"IF(W288=1,COUNTIF($O$7:$P288,P288),7)","v":7},1,null,"","","","","",null,0,""]
[283,"",null,null,null,"",null,"",null,"",null,"","",null,"","",0,0,133,1,0,{"$f":"IF(U289=1,COUNTIF($O$7:$P289,O289),7)","v":7},0,{"$f":"IF(W289=1,COUNTIF($O$7:$P289,P289),7)","v":7},1,null,"","","","","",null,0,""]
[284,"",null,null,null,"",null,"",null,"",null,"","",null,"","",0,0,134,1,0,{"$f":"IF(U290=1,COUNTIF($O$7:$P290,O290),7)","v":7},0,{"$f":"IF(W290=1,COUNTIF($O$7:$P290,P290),7)","v":7},1,null,"","","","","",null,0,""]
[285,"",null,null,null,"",null,"",null,"",null,"","",null,"","",0,0,135,1,0,{"$f":"IF(U291=1,COUNTIF($O$7:$P291,O291),7)","v":7},0,{"$f":"IF(W291=1,COUNTIF($O$7:$P291,P291),7)","v":7},1,null,"","","","","",null,0,""]
[286,"",null,null,null,"",null,"",null,"",null,"","",null,"","",0,0,136,1,0,{"$f":"IF(U292=1,COUNTIF($O$7:$P292,O292),7)","v":7},0,{"$f":"IF(W292=1,COUNTIF($O$7:$P292,P292),7)","v":7},1,null,"","","","","",null,0,""]
[287,"",null,null,null,"",null,"",null,"",null,"","",null,"","",0,0,137,1,0,{"$f":"IF(U293=1,COUNTIF($O$7:$P293,O293),7)","v":7},0,{"$f":"IF(W293=1,COUNTIF($O$7:$P293,P293),7)","v":7},1,null,"","","","","",null,0,""]
[288,"",null,null,null,"",null,"",null,"",null,"","",null,"","",0,0,138,1,0,{"$f":"IF(U294=1,COUNTIF($O$7:$P294,O294),7)","v":7},0,{"$f":"IF(W294=1,COUNTIF($O$7:$P294,P294),7)","v":7},1,null,"","","","","",null,0,""]
[289,"",null,null,null,"",null,"",null,"",null,"","",null,"","",0,0,139,1,0,{"$f":"IF(U295=1,COUNTIF($O$7:$P295,O295),7)","v":7},0,{"$f":"IF(W295=1,COUNTIF($O$7:$P295,P295),7)","v":7},1,null,"","","","","",null,0,""]
[290,"",null,null,null,"",null,"",null,"",null,"","",null,"","",0,0,140,1,0,{"$f":"IF(U296=1,COUNTIF($O$7:$P296,O296),7)","v":7},0,{"$f":"IF(W296=1,COUNTIF($O$7:$P296,P296),7)","v":7},1,null,"","","","","",null,0,""]
[291,"",null,null,null,"",null,"",null,"",null,"","",null,"","",0,0,141,1,0,{"$f":"IF(U297=1,COUNTIF($O$7:$P297,O297),7)","v":7},0,{"$f":"IF(W297=1,COUNTIF($O$7:$P297,P297),7)","v":7},1,null,"","","","","",null,0,""]
[292,"",null,null,null,"",null,"",null,"",null,"","",null,"","",0,0,142,1,0,{"$f":"IF(U298=1,COUNTIF($O$7:$P298,O298),7)","v":7},0,{"$f":"IF(W298=1,COUNTIF($O$7:$P298,P298),7)","v":7},1,null,"","","","","",null,0,""]
[293,"",null,null,null,"",null,"",null,"",null,"","",null,"","",0,0,143,1,0,{"$f":"IF(U299=1,COUNTIF($O$7:$P299,O299),7)","v":7},0,{"$f":"IF(W299=1,COUNTIF($O$7:$P299,P299),7)","v":7},1,null,"","","","","",null,0,""]
[294,"",null,null,null,"",null,"",null,"",null,"","",null,"","",0,0,144,1,0,{"$f":"IF(U300=1,COUNTIF($O$7:$P300,O300),7)","v":7},0,{"$f":"IF(W300=1,COUNTIF($O$7:$P300,P300),7)","v":7},1,null,"","","","","",null,0,""]
[295,"",null,null,null,"",null,"",null,"",null,"","",null,"","",0,0,145,1,0,{"$f":"IF(U301=1,COUNTIF($O$7:$P301,O301),7)","v":7},0,{"$f":"IF(W301=1,COUNTIF($O$7:$P301,P301),7)","v":7},1,null,"","","","","",null,0,""]
[296,"",null,null,null,"",null,"",null,"",null,"","",null,"","",0,0,146,1,0,{"$f":"IF(U302=1,COUNTIF($O$7:$P302,O302),7)","v":7},0,{"$f":"IF(W302=1,COUNTIF($O$7:$P302,P302),7)","v":7},1,null,"","","","","",null,0,""]
[297,"",null,null,null,"",null,"",null,"",null,"","",null,"","",0,0,147,1,0,{"$f":"IF(U303=1,COUNTIF($O$7:$P303,O303),7)","v":7},0,{"$f":"IF(W303=1,COUNTIF($O$7:$P303,P303),7)","v":7},1,null,"","","","","",null,0,""]
[298,"",null,null,null,"",null,"",null,"",null,"","",null,"","",0,0,148,1,0,{"$f":"IF(U304=1,COUNTIF($O$7:$P304,O304),7)","v":7},0,{"$f":"IF(W304=1,COUNTIF($O$7:$P304,P304),7)","v":7},1,null,{"$f":"IF(AG304=0,\"\",IF(AG304=5,AG304,CONCATENATE(LEFT(AG304,2),\":\",RIGHT(AG304,2))))","v":""},"","","","",null,0,""]
[300,"",null,null,null,"",null,"",null,"",null,"","",null,"","",0,0,150,1,0,{"$f":"IF(U305=1,COUNTIF($O$7:$P305,O305),7)","v":7},0,{"$f":"IF(W305=1,COUNTIF($O$7:$P305,P305),7)","v":7},1,null,"","","","","",null,0,""]

{"sheet":"Hinweise","index":4,"n_rows":25,"n_cols":7,"rows_kept":25,"cut":false,"hidden":false,"merged":[]}
[null,"Hallo liebe SWL's, ",null,null,"Es sind nur die gelben Felder in den Blättern auszufüllen !"]
[null,"hier einige Hinweise zum Umgang mit dieser Datei."]
[null,"Zum einfacheren Ausfüllen wurden einige automatisierte Funktionen eingefügt. So werden die "]
[null,"allgemeinen Daten  in die weiteren Blätter automatisch eingefügt."]
[null,"Die Auswertung ist ebenfalls vereinfacht. Es werden die in Blatt 1 und 2 (Log) von Ihnen eingetragenen "]
[null,"Multiplikator- und QSO-Punkte sowie die DOKs im Blatt \"Auswertung\" zusammengefasst und das Ergebnis berechnet."]
[null,"Hinweis zum Eintrag der DOKs : Die Auswertung erfolgt nur richtig, wenn der DOK kleingeschrieben und zwischen"]
[null,"Buchstaben und Ziffern ein Leerzeichen gesetzt wird (Beispiel : z 87  nicht z87)."]
[null,"Die Calls kann klein geschrieben werden. Die UTC kann ohne \":\" eingegeben werden. Ist das Log fertig, bitte"]
[null," Button \"Log-Ende\" betätigen."]
[null,"Die Tabellen der gearbeiteten Z-DOKs auf dem Blatt \"Auswertungen\" werden ebenfalls automatisch ausgefüllt."]
[null," Zur Kontrolle steht unter der jeweiligen Tabelle eine Summe, die mit der automatischen"]
[null," Berechnung (oberer Teil des Blattes \"Auswertung\" ) übereinstimmen."]
[null,"Auf den Blättern 1 und 2 werden nur die Spalten ausgefüllt, die in der Ausschreibung verlangt werden."]
[null,"Beim Ausdrucken von Blatt 1 und 2 ist die Anzahl der Seiten über \"Seitenansicht\" zu ermitteln"]
[null,"und in der Druckeroption unter \"von .. bis .. \" einzutragen, da sonst unnötig leere Blätter"]
[null,"gedruckt werden."]
[null,"Der Ausdruck der Tabelle Allg_Angaben ist die Vorderseite des geforderten Deckblattes. Die Rückseite "]
[null,"wird durch den Ausdruck der Tabelle Auswertung erzielt."]
[null,"Für die Aktivitätswoche steht auf Grund der anderen Abrechnungsart eine gesonderde Datei bereit."]
[]
[null,"Der gefertigte Ausdruck kann nun mit Unterschrift an den Contest-Manager (dl6on@vfdb.org, nicht an mich) gesandt werden."]
[null,"Ich hoffe, dass diese Form der Logaufbereitung auch für Euch hilfreich ist."]
[null," "]
[null,null,"Vy 73 und 55 de DO5HCS",null,null,null,"E-Mail : do5hcs@vfdb.org"]

{"sheet":"Tabelle2","index":5,"n_rows":0,"n_cols":0,"rows_kept":0,"cut":false,"hidden":true,"merged":[]}

{"sheet":"Tabelle1","index":6,"n_rows":0,"n_cols":0,"rows_kept":0,"cut":false,"hidden":true,"merged":[]}