{"text_format":"1","workbook":"xlsx","n_sheets":8,"sheets":["Allg_Angaben","Auswertung","Blatt 1","Blatt 2","Hinweise","Tabelle1","Tabelle2","Ausschreibung"],"not_rendered":{"charts":0,"images":0,"macros":1,"external_links":0,"defined_names":35,"comments":2,"pivot_tables":0},"unopened":[],"bounds":{"document_bytes":16777216,"sheet_cells":100000,"rows_first":2000,"rows_last":500,"rows_between":2000,"halvings":0,"cell_chars":16384,"cell_head_chars":4096},"cells_cut":0,"cells_raw":0,"read":"whole","date_system":"1900"}

{"sheet":"Allg_Angaben","index":0,"n_rows":39,"n_cols":7,"rows_kept":39,"cut":false,"hidden":false,"merged":[]}
["VFDB-Contest 2026"]
["Version 41 vom 26.01.2026",null,null,null,null,"Contest-Datum : ","2026-06-13"]
["Angaben zum Contest :"]
[]
["Contest-Teil ( Blatt 1 ) :",null,3,"Band : ","2 m","Mode : ","SSB/CW"]
[]
["Contest-Teil ( Blatt 2 ) :",null,4,"Band : ","70 cm","Mode : ","SSB/CW"]
[null,null," ",null," ",null,"(SSB / CW )"]
[]
["Angaben zum Tln :",null,null,null,"Op-Call bei Clubstn:"," "]
[]
[null,"Rufzeichen : "," ",null,"Wertungsgruppe : ","S","(S / M )"]
[]
[null,"DOK : "," ",null,"Locator : "]
[]
["Anschrift :",null,"Name : "," "]
[null,null,"Strasse : "]
[null,null,"PLZ/Ort : "," "]
[null,null,"(falls vorhanden) E-Mail-Adresse : "]
["Station :",null,"Sender/Ausgangsleistung : "]
[null,null,"Empfänger/Eingangsstufe :"," "]
[null,null,"Antenne/ über NN :"]
[]
["Beteiligte Funkamateure bei Mehrmannbetrieb :"]
[null,"Rufzeichen","Name"," ","DOK"]
[]
[]
[]
[]
[]
["Auswertung der Contest-Teile "]
["Contest-Teil : ",{"$f":"cont1","v":3},null,null,"Summe der Loc-Punkte (nur Teil 3) :",{"$f":"Auswertung!Z3","v":0}]
[null,"(Blatt 1)",null,null,"Anzahl der QSO-Punkte :",{"$f":"punkt1","v":0}]
["Band : ",{"$f":"band1","v":"2 m"},null,null,"Anzahl der Multiplikatoren :",{"$f":"multi1","v":0}]
["Mode : ",{"$f":"mode1","v":"SSB/CW"},null,null,"Gesamtpunktzahl :",{"$f":"gesamt1","v":0}]
["Contest-Teil  : ",{"$f":"cont2","v":4},null,null,"Summe der Locator-Punkte (nur Teil 4) :",{"$f":"Auswertung!Z8","v":0}]
[null,"(Blatt 2 )",null,null,"Anzahl der Punkte :",{"$f":"punkt2","v":0}]
["Band : ",{"$f":"band2","v":"70 cm"},null,null,"Anzahl der Multiplikatoren :",{"$f":"multi2","v":0}]
["Mode : ",{"$f":"mode2","v":"SSB/CW"},null,null,"Gesamtpunktzahl :",{"$f":"gesamt2","v":0}]

{"sheet":"Auswertung","index":1,"n_rows":102,"n_cols":50,"rows_kept":102,"cut":false,"hidden":false,"merged":[[38,18,38,19],[34,1,34,24],[29,12,29,13],[33,12,33,13],[32,3,32,5],[31,1,31,24],[35,1,35,24],[32,17,32,19],[32,20,32,22],[3,49,3,50],[30,1,30,24],[32,6,32,8],[26,8,26,9],[26,5,26,6],[27,6,27,7],[27,9,27,10],[26,13,26,14],[32,9,32,11],[27,13,27,14],[27,16,27,17],[27,3,27,4],[3,45,3,46],[27,19,27,20],[27,22,27,23],[27,0,27,1],[1,38,1,39],[32,23,32,24],[26,21,26,22],[26,18,26,19],[26,0,26,1]]}
[null,null,null,null,null,null,null,null,null,null,null,null,null,null,null,null,null,null,null,null,null,null,null,null,null,null,null,null,null,null,null,null,null,"z 01","z01","Z01"]
[null,null,null,null,null,null,null,null,null,null,null,null,null,null,null,null,null,null,null,null,null,null,null,null,null,null,null,null,null,null,null,null,null,"z 02","z02","Z02",null,null,"dokli"]
["Auswertung der Contest-Teile",null,null,null,null,null,null,null,null,null,null,null,null,null,null,null,null,null,null,null,null,null,null,null,"Summe der Locator-Punkte (nur Teil 3) :",{"$f":"M30","v":0},null,null,null,null,null,null,null,"z 03","z03","Z03"]
[null,null,null,null,"Contest-Teil : ",{"$f":"cont1","v":3},null,null,"(Blatt 1)",null,null,null,null,null,null,null,null,null,null,null,null,null,null,null,"Summe der QSO-Punkte :",{"$f":"SUM('Blatt 1'!J:J)","v":0},null,null,null,null,null,null,null,"z 04","z04","Z04"]
[null,null,null,null,null,null,null,null,null,null,null,null,null,null,null,null,null,null,null,null,null,null,null,null,null,null,null,null,null,null,null,null,null,"z 05","z05","Z05"]
[null,null,null,null,"Band : ",{"$f":"band1","v":"2 m"},null,null,null,"Mode : ",null,{"$f":"mode1","v":"SSB/CW"},null,null,null,null,null,null,null,null,null,null,null,null,"Summe der Multiplikatoren :",{"$f":"SUM('Blatt 1'!K:K)","v":0},null,null,null,null,null,null,null,"z 06","z06","Z06"]
[null,null,null,null,null,null,null,null,null,null,null,null,null,null,null,null,null,null,null,null,null,null,null,null,"Gesamtpunktzahl (Loc+Multi)xQSO-Pkte :",{"$f":"(multi1+Z3)*punkt1","v":0},null,null,null,null,null,null,null,"z 07","z07","Z07"]
[null,null,null,null,"Contest-Teil  : ",{"$f":"cont2","v":4},null,null,"(Blatt 2 )",null,null,null,null,null,null,null,null,null,null,null,null,null,null,null,"Summe der Locator-Punkte (nur Teil 4) :",{"$f":"M34","v":0},null,null,null,null,null,null,null,"z 08","z08","Z08"]
[null,null,null,null,null,null,null,null,null,null,null,null,null,null,null,null,null,null,null,null,null,null,null,null,"Summe der QSO-Punkte :",{"$f":"SUM('Blatt 2'!J:J)","v":0},null,null,null,null,null,null,null,"z 09","z09","Z09"]
[null,null,null,null,"Band : ",{"$f":"band2","v":"70 cm"},null,null,null,"Mode : ",null,{"$f":"mode2","v":"SSB/CW"},null,null,null,null,null,null,null,null,null,null,null,null,"Summe der Multiplikatoren :",{"$f":"SUM('Blatt 2'!K:K)","v":0},null,null,null,null,null,null,null,"z 10","z10","Z10"]
[null,null,null,null,null,null,null,null,null,null,null,null,null,null,null,null,null,null,null,null,null,null,null,null,"Gesamtpunktzahl (Loc+Multi)xQSO-Pkte :",{"$f":"(multi2+Z8)*punkt2","v":0},null,null,null,null,null,null,null,"z 11","z11","Z11"]
[null,null,null,null,null,null,null,null,null,null,null,null,null,null,null,null,null,null,null,null,null,null,null,null,null,null,null,null,null,null,null,null,null,"z 12","z12","Z12"]
["Liste der DOKs als Multiplikatoren ",null,null,null,null,null,null,null,null,null,null,null,null,null,null,null,null,null,null,null,null,null,null,null,null,null,"Ändern in Spalte L und 27",null,null,null,null,null,null,"z 13","z13","Z13"]
["Contest-Teil :",null,null,{"$f":"F4","v":3},",Band :",null,{"$f":"F6","v":"2 m"},null,"SUMME :",null,{"$f":"COUNTIF($B$17:$L$28,\"x\")","v":0},null,null,"Contest-Teil :",null,null,{"$f":"F8","v":4},", Band :",null,{"$f":"F10","v":"70 cm"},null,"SUMME :",null,{"$f":"COUNTIF($O$17:$Y$28,\"x\")","v":0},null,null,null,null,null,null,null,null,null,"z 14","z14","Z14"]
[null,null,null,null,null,null,null,null,null,null,null,null,null,null,null,null,null,null,null,null,null,null,null,null,null,null,null,null,null,null,null,null,null,"z 15","z15","Z15"]
["Z",0,1,2,3,4,5,6,7,8,9,{"$f":"AA25","v":"VFDB"},null,"Z",0,1,2,3,4,5,6,7,8,9,{"$f":"L16","v":"VFDB"},null,"DX",5,null,null,null,null,null,"z 16","z16","Z16"]
[0,{"$f":"IF(COUNTIF('Blatt 1'!S:S,\"Z00\")>0,\"X\",\"\")","v":""},{"$f":"IF(COUNTIF('Blatt 1'!S:S,\"Z01\")>0,\"X\",\"\")","v":""},{"$f":"IF(COUNTIF('Blatt 1'!S:S,\"Z02\")>0,\"X\",\"\")","v":""},{"$f":"IF(COUNTIF('Blatt 1'!S:S,\"Z03\")>0,\"X\",\"\")","v":""},{"$f":"IF(COUNTIF('Blatt 1'!S:S,\"Z04\")>0,\"X\",\"\")","v":""},{"$f":"IF(COUNTIF('Blatt 1'!S:S,\"Z05\")>0,\"X\",\"\")","v":""},{"$f":"IF(COUNTIF('Blatt 1'!S:S,\"Z06\")>0,\"X\",\"\")","v":""},{"$f":"IF(COUNTIF('Blatt 1'!S:S,\"Z07\")>0,\"X\",\"\")","v":""},{"$f":"IF(COUNTIF('Blatt 1'!S:S,\"Z08\")>0,\"X\",\"\")","v":""},{"$f":"IF(COUNTIF('Blatt 1'!S:S,\"Z09\")>0,\"X\",\"\")","v":""},{"$f":"IF(COUNTIF('Blatt 1'!H:H,L16)>0,\"X\",\"\")","v":""},null,0,{"$f":"IF(COUNTIF('Blatt 2'!S:S,\"Z00\")>0,\"X\",\"\")","v":""},{"$f":"IF(COUNTIF('Blatt 2'!S:S,\"Z01\")>0,\"X\",\"\")","v":""},{"$f":"IF(COUNTIF('Blatt 2'!S:S,\"Z02\")>0,\"X\",\"\")","v":""},{"$f":"IF(COUNTIF('Blatt 2'!S:S,\"Z03\")>0,\"X\",\"\")","v":""},{"$f":"IF(COUNTIF('Blatt 2'!S:S,\"Z04\")>0,\"X\",\"\")","v":""},{"$f":"IF(COUNTIF('Blatt 2'!S:S,\"Z05\")>0,\"X\",\"\")","v":""},{"$f":"IF(COUNTIF('Blatt 2'!S:S,\"Z06\")>0,\"X\",\"\")","v":""},{"$f":"IF(COUNTIF('Blatt 2'!S:S,\"Z07\")>0,\"X\",\"\")","v":""},{"$f":"IF(COUNTIF('Blatt 2'!S:S,\"Z08\")>0,\"X\",\"\")","v":""},{"$f":"IF(COUNTIF('Blatt 2'!S:S,\"Z09\")>0,\"X\",\"\")","v":""},{"$f":"IF(COUNTIF('Blatt 2'!H:H,L16)>0,\"X\",\"\")","v":""},null,"70DILI",5,null,null,null,null,null,"z 17","z17","Z17"]
[1,{"$f":"IF(COUNTIF('Blatt 1'!S:S,\"Z10\")>0,\"X\",\"\")","v":""},{"$f":"IF(COUNTIF('Blatt 1'!S:S,\"Z11\")>0,\"X\",\"\")","v":""},{"$f":"IF(COUNTIF('Blatt 1'!S:S,\"Z12\")>0,\"X\",\"\")","v":""},{"$f":"IF(COUNTIF('Blatt 1'!S:S,\"Z13\")>0,\"X\",\"\")","v":""},{"$f":"IF(COUNTIF('Blatt 1'!S:S,\"Z14\")>0,\"X\",\"\")","v":""},{"$f":"IF(COUNTIF('Blatt 1'!S:S,\"Z15\")>0,\"X\",\"\")","v":""},{"$f":"IF(COUNTIF('Blatt 1'!S:S,\"Z16\")>0,\"X\",\"\")","v":""},{"$f":"IF(COUNTIF('Blatt 1'!S:S,\"Z17\")>0,\"X\",\"\")","v":""},{"$f":"IF(COUNTIF('Blatt 1'!S:S,\"Z18\")>0,\"X\",\"\")","v":""},{"$f":"IF(COUNTIF('Blatt 1'!S:S,\"Z19\")>0,\"X\",\"\")","v":""},{"$f":"AA26","v":"FUBZ"},null,1,{"$f":"IF(COUNTIF('Blatt 2'!S:S,\"Z10\")>0,\"X\",\"\")","v":""},{"$f":"IF(COUNTIF('Blatt 2'!S:S,\"Z11\")>0,\"X\",\"\")","v":""},{"$f":"IF(COUNTIF('Blatt 2'!S:S,\"Z12\")>0,\"X\",\"\")","v":""},{"$f":"IF(COUNTIF('Blatt 2'!S:S,\"Z13\")>0,\"X\",\"\")","v":""},{"$f":"IF(COUNTIF('Blatt 2'!S:S,\"Z14\")>0,\"X\",\"\")","v":""},{"$f":"IF(COUNTIF('Blatt 2'!S:S,\"Z15\")>0,\"X\",\"\")","v":""},{"$f":"IF(COUNTIF('Blatt 2'!S:S,\"Z16\")>0,\"X\",\"\")","v":""},{"$f":"IF(COUNTIF('Blatt 2'!S:S,\"Z17\")>0,\"X\",\"\")","v":""},{"$f":"IF(COUNTIF('Blatt 2'!S:S,\"Z18\")>0,\"X\",\"\")","v":""},{"$f":"IF(COUNTIF('Blatt 2'!S:S,\"Z19\")>0,\"X\",\"\")","v":""},{"$f":"L18","v":"FUBZ"},null,"WAE",5,null,null,null,null,null,"z 18","z18","Z18"]
[2,{"$f":"IF(COUNTIF('Blatt 1'!S:S,\"Z20\")>0,\"X\",\"\")","v":""},{"$f":"IF(COUNTIF('Blatt 1'!S:S,\"Z21\")>0,\"X\",\"\")","v":""},{"$f":"IF(COUNTIF('Blatt 1'!S:S,\"Z22\")>0,\"X\",\"\")","v":""},{"$f":"IF(COUNTIF('Blatt 1'!S:S,\"Z23\")>0,\"X\",\"\")","v":""},{"$f":"IF(COUNTIF('Blatt 1'!S:S,\"Z24\")>0,\"X\",\"\")","v":""},{"$f":"IF(COUNTIF('Blatt 1'!S:S,\"Z25\")>0,\"X\",\"\")","v":""},{"$f":"IF(COUNTIF('Blatt 1'!S:S,\"Z26\")>0,\"X\",\"\")","v":""},{"$f":"IF(COUNTIF('Blatt 1'!S:S,\"Z27\")>0,\"X\",\"\")","v":""},{"$f":"IF(COUNTIF('Blatt 1'!S:S,\"Z28\")>0,\"X\",\"\")","v":""},{"$f":"IF(COUNTIF('Blatt 1'!S:S,\"Z29\")>0,\"X\",\"\")","v":""},{"$f":"IF(COUNTIF('Blatt 1'!H:H,L18)>0,\"X\",\"\")","v":""},null,2,{"$f":"IF(COUNTIF('Blatt 2'!S:S,\"Z20\")>0,\"X\",\"\")","v":""},{"$f":"IF(COUNTIF('Blatt 2'!S:S,\"Z21\")>0,\"X\",\"\")","v":""},{"$f":"IF(COUNTIF('Blatt 2'!S:S,\"Z22\")>0,\"X\",\"\")","v":""},{"$f":"IF(COUNTIF('Blatt 2'!S:S,\"Z23\")>0,\"X\",\"\")","v":""},{"$f":"IF(COUNTIF('Blatt 2'!S:S,\"Z24\")>0,\"X\",\"\")","v":""},{"$f":"IF(COUNTIF('Blatt 2'!S:S,\"Z25\")>0,\"X\",\"\")","v":""},{"$f":"IF(COUNTIF('Blatt 2'!S:S,\"Z26\")>0,\"X\",\"\")","v":""},{"$f":"IF(COUNTIF('Blatt 2'!S:S,\"Z27\")>0,\"X\",\"\")","v":""},{"$f":"IF(COUNTIF('Blatt 2'!S:S,\"Z28\")>0,\"X\",\"\")","v":""},{"$f":"IF(COUNTIF('Blatt 2'!S:S,\"Z29\")>0,\"X\",\"\")","v":""},{"$f":"IF(COUNTIF('Blatt 2'!H:H,L18)>0,\"X\",\"\")","v":""},null,"GDM",5,null,null,null,null,null,"z 19","z19","Z19"]
[3,{"$f":"IF(COUNTIF('Blatt 1'!S:S,\"Z30\")>0,\"X\",\"\")","v":""},{"$f":"IF(COUNTIF('Blatt 1'!S:S,\"Z31\")>0,\"X\",\"\")","v":""},{"$f":"IF(COUNTIF('Blatt 1'!S:S,\"Z32\")>0,\"X\",\"\")","v":""},{"$f":"IF(COUNTIF('Blatt 1'!S:S,\"Z33\")>0,\"X\",\"\")","v":""},{"$f":"IF(COUNTIF('Blatt 1'!S:S,\"Z34\")>0,\"X\",\"\")","v":""},{"$f":"IF(COUNTIF('Blatt 1'!S:S,\"Z35\")>0,\"X\",\"\")","v":""},{"$f":"IF(COUNTIF('Blatt 1'!S:S,\"Z36\")>0,\"X\",\"\")","v":""},{"$f":"IF(COUNTIF('Blatt 1'!S:S,\"Z37\")>0,\"X\",\"\")","v":""},{"$f":"IF(COUNTIF('Blatt 1'!S:S,\"Z38\")>0,\"X\",\"\")","v":""},{"$f":"IF(COUNTIF('Blatt 1'!S:S,\"Z39\")>0,\"X\",\"\")","v":""},{"$f":"AA27","v":"VFDBHQ"},null,3,{"$f":"IF(COUNTIF('Blatt 2'!S:S,\"Z30\")>0,\"X\",\"\")","v":""},{"$f":"IF(COUNTIF('Blatt 2'!S:S,\"Z31\")>0,\"X\",\"\")","v":""},{"$f":"IF(COUNTIF('Blatt 2'!S:S,\"Z32\")>0,\"X\",\"\")","v":""},{"$f":"IF(COUNTIF('Blatt 2'!S:S,\"Z33\")>0,\"X\",\"\")","v":""},{"$f":"IF(COUNTIF('Blatt 2'!S:S,\"Z34\")>0,\"X\",\"\")","v":""},{"$f":"IF(COUNTIF('Blatt 2'!S:S,\"Z35\")>0,\"X\",\"\")","v":""},{"$f":"IF(COUNTIF('Blatt 2'!S:S,\"Z36\")>0,\"X\",\"\")","v":""},{"$f":"IF(COUNTIF('Blatt 2'!S:S,\"Z37\")>0,\"X\",\"\")","v":""},{"$f":"IF(COUNTIF('Blatt 2'!S:S,\"Z38\")>0,\"X\",\"\")","v":""},{"$f":"IF(COUNTIF('Blatt 2'!S:S,\"Z39\")>0,\"X\",\"\")","v":""},{"$f":"L20","v":"VFDBHQ"},null,"50DMS",5,null,null,null,null,null,"z 20","z20","Z20"]
[4,{"$f":"IF(COUNTIF('Blatt 1'!S:S,\"Z40\")>0,\"X\",\"\")","v":""},{"$f":"IF(COUNTIF('Blatt 1'!S:S,\"Z41\")>0,\"X\",\"\")","v":""},{"$f":"IF(COUNTIF('Blatt 1'!S:S,\"Z42\")>0,\"X\",\"\")","v":""},{"$f":"IF(COUNTIF('Blatt 1'!S:S,\"Z43\")>0,\"X\",\"\")","v":""},{"$f":"IF(COUNTIF('Blatt 1'!S:S,\"Z44\")>0,\"X\",\"\")","v":""},{"$f":"IF(COUNTIF('Blatt 1'!S:S,\"Z45\")>0,\"X\",\"\")","v":""},{"$f":"IF(COUNTIF('Blatt 1'!S:S,\"Z46\")>0,\"X\",\"\")","v":""},{"$f":"IF(COUNTIF('Blatt 1'!S:S,\"Z47\")>0,\"X\",\"\")","v":""},{"$f":"IF(COUNTIF('Blatt 1'!S:S,\"Z48\")>0,\"X\",\"\")","v":""},{"$f":"IF(COUNTIF('Blatt 1'!S:S,\"Z49\")>0,\"X\",\"\")","v":""},{"$f":"IF(COUNTIF('Blatt 1'!H:H,L20)>0,\"X\",\"\")","v":""},null,4,{"$f":"IF(COUNTIF('Blatt 2'!S:S,\"Z40\")>0,\"X\",\"\")","v":""},{"$f":"IF(COUNTIF('Blatt 2'!S:S,\"Z41\")>0,\"X\",\"\")","v":""},{"$f":"IF(COUNTIF('Blatt 2'!S:S,\"Z42\")>0,\"X\",\"\")","v":""},{"$f":"IF(COUNTIF('Blatt 2'!S:S,\"Z43\")>0,\"X\",\"\")","v":""},{"$f":"IF(COUNTIF('Blatt 2'!S:S,\"Z44\")>0,\"X\",\"\")","v":""},{"$f":"IF(COUNTIF('Blatt 2'!S:S,\"Z45\")>0,\"X\",\"\")","v":""},{"$f":"IF(COUNTIF('Blatt 2'!S:S,\"Z46\")>0,\"X\",\"\")","v":""},{"$f":"IF(COUNTIF('Blatt 2'!S:S,\"Z47\")>0,\"X\",\"\")","v":""},{"$f":"IF(COUNTIF('Blatt 2'!S:S,\"Z48\")>0,\"X\",\"\")","v":""},{"$f":"IF(COUNTIF('Blatt 2'!S:S,\"Z49\")>0,\"X\",\"\")","v":""},{"$f":"IF(COUNTIF('Blatt 2'!H:H,L20)>0,\"X\",\"\")","v":""},null,"JSZ25",5,null,null,null,null,null,"z 21","z21","Z21"]
[5,{"$f":"IF(COUNTIF('Blatt 1'!S:S,\"Z50\")>0,\"X\",\"\")","v":""},{"$f":"IF(COUNTIF('Blatt 1'!S:S,\"Z51\")>0,\"X\",\"\")","v":""},{"$f":"IF(COUNTIF('Blatt 1'!S:S,\"Z52\")>0,\"X\",\"\")","v":""},{"$f":"IF(COUNTIF('Blatt 1'!S:S,\"Z53\")>0,\"X\",\"\")","v":""},{"$f":"IF(COUNTIF('Blatt 1'!S:S,\"Z54\")>0,\"X\",\"\")","v":""},{"$f":"IF(COUNTIF('Blatt 1'!S:S,\"Z55\")>0,\"X\",\"\")","v":""},{"$f":"IF(COUNTIF('Blatt 1'!S:S,\"Z56\")>0,\"X\",\"\")","v":""},{"$f":"IF(COUNTIF('Blatt 1'!S:S,\"Z57\")>0,\"X\",\"\")","v":""},{"$f":"IF(COUNTIF('Blatt 1'!S:S,\"Z58\")>0,\"X\",\"\")","v":""},{"$f":"IF(COUNTIF('Blatt 1'!S:S,\"Z59\")>0,\"X\",\"\")","v":""},{"$f":"AA29","v":"YLZ"},null,5,{"$f":"IF(COUNTIF('Blatt 2'!S:S,\"Z50\")>0,\"X\",\"\")","v":""},{"$f":"IF(COUNTIF('Blatt 2'!S:S,\"Z51\")>0,\"X\",\"\")","v":""},{"$f":"IF(COUNTIF('Blatt 2'!S:S,\"Z52\")>0,\"X\",\"\")","v":""},{"$f":"IF(COUNTIF('Blatt 2'!S:S,\"Z53\")>0,\"X\",\"\")","v":""},{"$f":"IF(COUNTIF('Blatt 2'!S:S,\"Z54\")>0,\"X\",\"\")","v":""},{"$f":"IF(COUNTIF('Blatt 2'!S:S,\"Z55\")>0,\"X\",\"\")","v":""},{"$f":"IF(COUNTIF('Blatt 2'!S:S,\"Z56\")>0,\"X\",\"\")","v":""},{"$f":"IF(COUNTIF('Blatt 2'!S:S,\"Z57\")>0,\"X\",\"\")","v":""},{"$f":"IF(COUNTIF('Blatt 2'!S:S,\"Z58\")>0,\"X\",\"\")","v":""},{"$f":"IF(COUNTIF('Blatt 2'!S:S,\"Z59\")>0,\"X\",\"\")","v":""},{"$f":"L22","v":"YLZ"},null,"WWFF",5,null,null,null,null,null,"z 22","z22","Z22"]
[6,{"$f":"IF(COUNTIF('Blatt 1'!S:S,\"Z60\")>0,\"X\",\"\")","v":""},{"$f":"IF(COUNTIF('Blatt 1'!S:S,\"Z61\")>0,\"X\",\"\")","v":""},{"$f":"IF(COUNTIF('Blatt 1'!S:S,\"Z62\")>0,\"X\",\"\")","v":""},{"$f":"IF(COUNTIF('Blatt 1'!S:S,\"Z63\")>0,\"X\",\"\")","v":""},{"$f":"IF(COUNTIF('Blatt 1'!S:S,\"Z64\")>0,\"X\",\"\")","v":""},{"$f":"IF(COUNTIF('Blatt 1'!S:S,\"Z65\")>0,\"X\",\"\")","v":""},{"$f":"IF(COUNTIF('Blatt 1'!S:S,\"Z66\")>0,\"X\",\"\")","v":""},{"$f":"IF(COUNTIF('Blatt 1'!S:S,\"Z67\")>0,\"X\",\"\")","v":""},{"$f":"IF(COUNTIF('Blatt 1'!S:S,\"Z68\")>0,\"X\",\"\")","v":""},{"$f":"IF(COUNTIF('Blatt 1'!S:S,\"Z69\")>0,\"X\",\"\")","v":""},{"$f":"IF(COUNTIF('Blatt 1'!H:H,L22)>0,\"X\",\"\")","v":""},null,6,{"$f":"IF(COUNTIF('Blatt 2'!S:S,\"Z60\")>0,\"X\",\"\")","v":""},{"$f":"IF(COUNTIF('Blatt 2'!S:S,\"Z61\")>0,\"X\",\"\")","v":""},{"$f":"IF(COUNTIF('Blatt 2'!S:S,\"Z62\")>0,\"X\",\"\")","v":""},{"$f":"IF(COUNTIF('Blatt 2'!S:S,\"Z63\")>0,\"X\",\"\")","v":""},{"$f":"IF(COUNTIF('Blatt 2'!S:S,\"Z64\")>0,\"X\",\"\")","v":""},{"$f":"IF(COUNTIF('Blatt 2'!S:S,\"Z65\")>0,\"X\",\"\")","v":""},{"$f":"IF(COUNTIF('Blatt 2'!S:S,\"Z66\")>0,\"X\",\"\")","v":""},{"$f":"IF(COUNTIF('Blatt 2'!S:S,\"Z67\")>0,\"X\",\"\")","v":""},{"$f":"IF(COUNTIF('Blatt 2'!S:S,\"Z68\")>0,\"X\",\"\")","v":""},{"$f":"IF(COUNTIF('Blatt 2'!S:S,\"Z69\")>0,\"X\",\"\")","v":""},{"$f":"IF(COUNTIF('Blatt 2'!H:H,L22)>0,\"X\",\"\")","v":""},null,"SES",5,null,"sdok",null,"(Name)",null,"z 23","z23","Z23"]
[7,{"$f":"IF(COUNTIF('Blatt 1'!S:S,\"Z70\")>0,\"X\",\"\")","v":""},{"$f":"IF(COUNTIF('Blatt 1'!S:S,\"Z71\")>0,\"X\",\"\")","v":""},{"$f":"IF(COUNTIF('Blatt 1'!S:S,\"Z72\")>0,\"X\",\"\")","v":""},{"$f":"IF(COUNTIF('Blatt 1'!S:S,\"Z73\")>0,\"X\",\"\")","v":""},{"$f":"IF(COUNTIF('Blatt 1'!S:S,\"Z74\")>0,\"X\",\"\")","v":""},{"$f":"IF(COUNTIF('Blatt 1'!S:S,\"Z75\")>0,\"X\",\"\")","v":""},{"$f":"IF(COUNTIF('Blatt 1'!S:S,\"Z76\")>0,\"X\",\"\")","v":""},{"$f":"IF(COUNTIF('Blatt 1'!S:S,\"Z77\")>0,\"X\",\"\")","v":""},{"$f":"IF(COUNTIF('Blatt 1'!S:S,\"Z78\")>0,\"X\",\"\")","v":""},{"$f":"IF(COUNTIF('Blatt 1'!S:S,\"Z79\")>0,\"X\",\"\")","v":""},{"$f":"AA28","v":" - -"},null,7,{"$f":"IF(COUNTIF('Blatt 2'!S:S,\"Z70\")>0,\"X\",\"\")","v":""},{"$f":"IF(COUNTIF('Blatt 2'!S:S,\"Z71\")>0,\"X\",\"\")","v":""},{"$f":"IF(COUNTIF('Blatt 2'!S:S,\"Z72\")>0,\"X\",\"\")","v":""},{"$f":"IF(COUNTIF('Blatt 2'!S:S,\"Z73\")>0,\"X\",\"\")","v":""},{"$f":"IF(COUNTIF('Blatt 2'!S:S,\"Z74\")>0,\"X\",\"\")","v":""},{"$f":"IF(COUNTIF('Blatt 2'!S:S,\"Z75\")>0,\"X\",\"\")","v":""},{"$f":"IF(COUNTIF('Blatt 2'!S:S,\"Z76\")>0,\"X\",\"\")","v":""},{"$f":"IF(COUNTIF('Blatt 2'!S:S,\"Z77\")>0,\"X\",\"\")","v":""},{"$f":"IF(COUNTIF('Blatt 2'!S:S,\"Z78\")>0,\"X\",\"\")","v":""},{"$f":"IF(COUNTIF('Blatt 2'!S:S,\"Z79\")>0,\"X\",\"\")","v":""},{"$f":"L24","v":" - -"},null,null,null,null,null,null,null,null,"z 24","z24","Z24"]
[8,{"$f":"IF(COUNTIF('Blatt 1'!S:S,\"Z80\")>0,\"X\",\"\")","v":""},{"$f":"IF(COUNTIF('Blatt 1'!S:S,\"Z81\")>0,\"X\",\"\")","v":""},{"$f":"IF(COUNTIF('Blatt 1'!S:S,\"Z82\")>0,\"X\",\"\")","v":""},{"$f":"IF(COUNTIF('Blatt 1'!S:S,\"Z83\")>0,\"X\",\"\")","v":""},{"$f":"IF(COUNTIF('Blatt 1'!S:S,\"Z84\")>0,\"X\",\"\")","v":""},{"$f":"IF(COUNTIF('Blatt 1'!S:S,\"Z85\")>0,\"X\",\"\")","v":""},{"$f":"IF(COUNTIF('Blatt 1'!S:S,\"Z86\")>0,\"X\",\"\")","v":""},{"$f":"IF(COUNTIF('Blatt 1'!S:S,\"Z87\")>0,\"X\",\"\")","v":""},{"$f":"IF(COUNTIF('Blatt 1'!S:S,\"Z88\")>0,\"X\",\"\")","v":""},{"$f":"IF(COUNTIF('Blatt 1'!S:S,\"Z89\")>0,\"X\",\"\")","v":""},{"$f":"IF(COUNTIF('Blatt 1'!H:H,L24)>0,\"X\",\"\")","v":""},null,8,{"$f":"IF(COUNTIF('Blatt 2'!S:S,\"Z80\")>0,\"X\",\"\")","v":""},{"$f":"IF(COUNTIF('Blatt 2'!S:S,\"Z81\")>0,\"X\",\"\")","v":""},{"$f":"IF(COUNTIF('Blatt 2'!S:S,\"Z82\")>0,\"X\",\"\")","v":""},{"$f":"IF(COUNTIF('Blatt 2'!S:S,\"Z83\")>0,\"X\",\"\")","v":""},{"$f":"IF(COUNTIF('Blatt 2'!S:S,\"Z84\")>0,\"X\",\"\")","v":""},{"$f":"IF(COUNTIF('Blatt 2'!S:S,\"Z85\")>0,\"X\",\"\")","v":""},{"$f":"IF(COUNTIF('Blatt 2'!S:S,\"Z86\")>0,\"X\",\"\")","v":""},{"$f":"IF(COUNTIF('Blatt 2'!S:S,\"Z87\")>0,\"X\",\"\")","v":""},{"$f":"IF(COUNTIF('Blatt 2'!S:S,\"Z88\")>0,\"X\",\"\")","v":""},{"$f":"IF(COUNTIF('Blatt 2'!S:S,\"Z89\")>0,\"X\",\"\")","v":""},{"$f":"IF(COUNTIF('Blatt 2'!H:H,L24)>0,\"X\",\"\")","v":""},null,"VFDB",10,null,null,null,null,null,"z 25","z25","Z25"]
[9,{"$f":"IF(COUNTIF('Blatt 1'!S:S,\"Z90\")>0,\"X\",\"\")","v":""},{"$f":"IF(COUNTIF('Blatt 1'!S:S,\"Z91\")>0,\"X\",\"\")","v":""},{"$f":"IF(COUNTIF('Blatt 1'!S:S,\"Z92\")>0,\"X\",\"\")","v":""},{"$f":"IF(COUNTIF('Blatt 1'!S:S,\"Z93\")>0,\"X\",\"\")","v":""},{"$f":"IF(COUNTIF('Blatt 1'!S:S,\"Z94\")>0,\"X\",\"\")","v":""},{"$f":"IF(COUNTIF('Blatt 1'!S:S,\"Z95\")>0,\"X\",\"\")","v":""},{"$f":"IF(COUNTIF('Blatt 1'!S:S,\"Z96\")>0,\"X\",\"\")","v":""},{"$f":"IF(COUNTIF('Blatt 1'!S:S,\"Z97\")>0,\"X\",\"\")","v":""},{"$f":"IF(COUNTIF('Blatt 1'!S:S,\"Z98\")>0,\"X\",\"\")","v":""},{"$f":"IF(COUNTIF('Blatt 1'!S:S,\"Z99\")>0,\"X\",\"\")","v":""},{"$f":"AA19","v":"GDM"},null,9,{"$f":"IF(COUNTIF('Blatt 2'!S:S,\"Z90\")>0,\"X\",\"\")","v":""},{"$f":"IF(COUNTIF('Blatt 2'!S:S,\"Z91\")>0,\"X\",\"\")","v":""},{"$f":"IF(COUNTIF('Blatt 2'!S:S,\"Z92\")>0,\"X\",\"\")","v":""},{"$f":"IF(COUNTIF('Blatt 2'!S:S,\"Z93\")>0,\"X\",\"\")","v":""},{"$f":"IF(COUNTIF('Blatt 2'!S:S,\"Z94\")>0,\"X\",\"\")","v":""},{"$f":"IF(COUNTIF('Blatt 2'!S:S,\"Z95\")>0,\"X\",\"\")","v":""},{"$f":"IF(COUNTIF('Blatt 2'!S:S,\"Z96\")>0,\"X\",\"\")","v":""},{"$f":"IF(COUNTIF('Blatt 2'!S:S,\"Z97\")>0,\"X\",\"\")","v":""},{"$f":"IF(COUNTIF('Blatt 2'!S:S,\"Z98\")>0,\"X\",\"\")","v":""},{"$f":"IF(COUNTIF('Blatt 2'!S:S,\"Z99\")>0,\"X\",\"\")","v":""},{"$f":"L26","v":"GDM"},null,"FUBZ",10,null,null,null,null,null,"z 26","z26","Z26"]
[{"$f":"AA16","v":"DX"},null,{"$f":"IF(COUNTIF('Blatt 1'!H:H,A27)>0,\"X\",\"\")","v":""},{"$f":"AA18","v":"WAE"},{"$f":"IF(COUNTIF('Blatt 1'!S:S,D27)>0,\"X\",\"\")","v":""},{"$f":"AA23","v":"SES"},null,{"$f":"IF(COUNTIF('Blatt 1'!S:S,F27)<>0,\"X\",\"\")","v":""},{"$f":"AA22","v":"WWFF"},null,{"$f":"IF(COUNTIF('Blatt 1'!S:S,I27)>0,\"X\",\"\")","v":""},{"$f":"IF(COUNTIF('Blatt 1'!H:H,L26)>0,\"X\",\"\")","v":""},null,{"$f":"A27","v":"DX"},null,{"$f":"IF(COUNTIF('Blatt 2'!H:H,A27)>0,\"X\",\"\")","v":""},{"$f":"D27","v":"WAE"},{"$f":"IF(COUNTIF('Blatt 2'!S:S,D27)>0,\"X\",\"\")","v":""},{"$f":"F27","v":"SES"},null,{"$f":"IF(COUNTIF('Blatt 2'!S:S,F27)>0,\"X\",\"\")","v":""},{"$f":"I27","v":"WWFF"},null,{"$f":"IF(COUNTIF('Blatt 2'!S:S,I27)>0,\"X\",\"\")","v":""},{"$f":"IF(COUNTIF('Blatt 2'!H:H,L26)>0,\"X\",\"\")","v":""},null,"VFDBHQ",10,null,null,null,null,null,"z 27","z27","Z27"]
[{"$f":"sdok4","v":"JSZ25"},null,{"$f":"IF(COUNTIF('Blatt 1'!$H:$H,A28)<>0,\"X\",\"\")","v":""},{"$f":"AA17","v":"70DILI"},null,{"$f":"IF(COUNTIF('Blatt 1'!$H:$H,D28)<>0,\"X\",\"\")","v":""},{"$f":"AA20","v":"50DMS"},null,{"$f":"IF(COUNTIF('Blatt 1'!H:H,G28)<>0,\"X\",\"\")","v":""},{"$f":"AA30","v":" - -"},null,{"$f":"IF(COUNTIF('Blatt 1'!H:H,J28)<>0,\"X\",\"\")","v":""},null,{"$f":"A28","v":"JSZ25"},null,{"$f":"IF(COUNTIF('Blatt 2'!$S:$S,N28)<>0,\"X\",\"\")","v":""},{"$f":"AA17","v":"70DILI"},null,{"$f":"IF(COUNTIF('Blatt 2'!$S:$S,Q28)<>0,\"X\",\"\")","v":""},{"$f":"G28","v":"50DMS"},null,{"$f":"IF(COUNTIF('Blatt 2'!S:S,T28)<>0,\"X\",\"\")","v":""},{"$f":"J28","v":" - -"},null,{"$f":"IF(COUNTIF('Blatt 2'!S:S,W28)<>0,\"X\",\"\")","v":""},null," - -",10,null,null,null,null,null,"z 28","z28","Z28"]
[null,"Gearbeitete Grossfelder (Loc)",null,null,null,null,null,null,null,null,null,null,null,null,null,null,null,null,null,null,null,null,null,null,null,null,"YLZ",10,null,"vfdbdok",null," (Name)",null,"z 29","z29","Z29",null,null,null,null,null,null,null,null,null,null,null,null,null,"<-  Zur Berechnung der Locator den Button anklicken"]
[null,"Contest-Teil ",null,null,null,null,{"$f":"cont1","v":3},null,"Grossfelder :",null,null,null,0,null,null,null,null,null,null,null,null,null,null,null,null,null," - -",10,null,null,null,null,null,"z 30","z30","Z30"]
[null,null,null,null,null,null,null,null,null,null,null,null,null,null,null,null,null,null,null,null,null,null,null,null,null,null,null,null,null,null,null,null,null,"z 31","z31","Z31"]
[null,null,null,null,null,null,null,null,null,null,null,null,null,null,null,null,null,null,null,null,null,null,null,null,null,null,null,null,null,null,null,null,null,"z 32","z32","Z32"]
[null,null,null,null,null,null,null,null,null,null,null,null,null,null,null,null,null,null,null,null,null,null,null,null,null,null,null,null,null,null,null,null,null,"z 33","z33","Z33"]
[null,"Contest-Teil ",null,null,null,null,{"$f":"cont2","v":4},null,"Grossfelder :",null,null,null,0,null,null,null,null,null,null,null,null,null,null,null,null,null,null,null,null,null,null,null,null,"z 34","z34","Z34"]
[null,null,null,null,null,null,null,null,null,null,null,null,null,null,null,null,null,null,null,null,null,null,null,null,null,null,null,null,null,null,null,null,null,"z 35","z35","Z35"]
[null,null,null,null,null,null,null,null,null,null,null,null,null,null,null,null,null,null,null,null,null,null,null,null,null,null,null,null,null,null,null,null,null,"z 36","z36","Z36"]
[null,null,null,null,null,null,null,null,null,null,null,null,null,null,null,null,null,null,null,null,null,null,null,null,null,null,null,null,null,null,null,null,null,"z 37","z37","Z37"]
[null,"Ich bestätige, daß die Lizenzbestimmungen und die Wettbewerbsregeln eingehalten wurden.",null,null,null,null,null,null,null,null,null,null,null,null,null,null,null,null,null,null,null,null,null,null,null,null,null,null,null,null,null,null,null,"z 38","z38","Z38"]
[null,null,null,null,null,null,null,null,null,null,null,null,null,null,null,null,null,null,null,null,null,null,null,null,null,null,null,null,null,null,null,null,null,"z 39","z39","Z39"]
[null,null,null,null,null,null,null,null,null,null,null,null,null,null,null,null,null,null,null,null,null,null,null,null,null,null,null,null,null,null,null,null,null,"z 40","z40","Z40"]
[null,"Unterschrift :",null,null,null,null,null,null,null,null,null,null,null,null,null,null,null,null,null,null,null,null,null,null,null,null,null,null,null,null,null,null,null,"z 41","z41","Z41"]
[null,null,null,null,null,null,null,null,null,null,null,null,null,null,null,null,null,null,null,null,null,null,null,null,null,null,null,null,null,null,null,null,null,"z 42","z42","Z42"]
[null,null,null,null,null,null,null,null,null,null,null,null,null,null,null,null,null,null,null,null,null,null,null,null,null,null,null,null,null,null,null,null,null,"z 43","z43","Z43"]
[null,null,null,null,null,null,null,null,null,null,null,null,null,null,null,null,null,null,null,null,null,null,null,null,null,null,null,null,null,null,null,null,null,"z 44","z44","Z44"]
[null,null,null,null,null,null,null,null,null,null,null,null,null,null,null,null,null,null,null,null,null,null,null,null,null,null,null,null,null,null,null,null,null,"z 45","z45","Z45"]
[null,null,null,null,null,null,null,null,null,null,null,null,null,null,null,null,null,null,null,null,null,null,null,null,null,null,null,null,null,null,null,null,null,"z 46","z46","Z46"]
[null,null,null,null,null,null,null,null,null,null,null,null,null,null,null,null,null,null,null,null,null,null,null,null,null,null,null,null,null,null,null,null,null,"z 47","z47","Z47"]
[null,null,null,null,null,null,null,null,null,null,null,null,null,null,null,null,null,null,null,null,null,null,null,null,null,null,null,null,null,null,null,null,null,"z 48","z48","Z48"]
[null,null,null,null,null,null,null,null,null,null,null,null,null,null,null,null,null,null,null,null,null,null,null,null,null,null,null,null,null,null,null,null,null,"z 49","z49","Z49"]
[null,null,null,null,null,null,null,null,null,null,null,null,null,null,null,null,null,null,null,null,null,null,null,null,null,null,null,null,null,null,null,null,null,"z 50","z50","Z50"]
[null,null,null,null,null,null,null,null,null,null,null,null,null,null,null,null,null,null,null,null,null,null,null,null,null,null,null,null,null,null,null,null,null,"z 51","z51","Z51"]
[null,null,null,null,null,null,null,null,null,null,null,null,null,null,null,null,null,null,null,null,null,null,null,null,null,null,null,null,null,null,null,null,null,"z 52","z52","Z52"]
[null,null,null,null,null,null,null,null,null,null,null,null,null,null,null,null,null,null,null,null,null,null,null,null,null,null,null,null,null,null,null,null,null,"z 53","z53","Z53"]
[null,null,null,null,null,null,null,null,null,null,null,null,null,null,null,null,null,null,null,null,null,null,null,null,null,null,null,null,null,null,null,null,null,"z 54","z54","Z54"]
[null,null,null,null,null,null,null,null,null,null,null,null,null,null,null,null,null,null,null,null,null,null,null,null,null,null,null,null,null,null,null,null,null,"z 55","z55","Z55"]
[null,null,null,null,null,null,null,null,null,null,null,null,null,null,null,null,null,null,null,null,null,null,null,null,null,null,null,null,null,null,null,null,null,"z 56","z56","Z56"]
[null,null,null,null,null,null,null,null,null,null,null,null,null,null,null,null,null,null,null,null,null,null,null,null,null,null,null,null,null,null,null,null,null,"z 57","z57","Z57"]
[null,null,null,null,null,null,null,null,null,null,null,null,null,null,null,null,null,null,null,null,null,null,null,null,null,null,null,null,null,null,null,null,null,"z 58","z58","Z58"]
[null,null,null,null,null,null,null,null,null,null,null,null,null,null,null,null,null,null,null,null,null,null,null,null,null,null,null,null,null,null,null,null,null,"z 59","z59","Z59"]
[null,null,null,null,null,null,null,null,null,null,null,null,null,null,null,null,null,null,null,null,null,null,null,null,null,null,null,null,null,null,null,null,null,"z 60","z60","Z60"]
[null,null,null,null,null,null,null,null,null,null,null,null,null,null,null,null,null,null,null,null,null,null,null,null,null,null,null,null,null,null,null,null,null,"z 61","z61","Z61"]
[null,null,null,null,null,null,null,null,null,null,null,null,null,null,null,null,null,null,null,null,null,null,null,null,null,null,null,null,null,null,null,null,null,"z 62","z62","Z62"]
[null,null,null,null,null,null,null,null,null,null,null,null,null,null,null,null,null,null,null,null,null,null,null,null,null,null,null,null,null,null,null,null,null,"z 63","z63","Z63"]
[null,null,null,null,null,null,null,null,null,null,null,null,null,null,null,null,null,null,null,null,null,null,null,null,null,null,null,null,null,null,null,null,null,"z 64","z64","Z64"]
[null,null,null,null,null,null,null,null,null,null,null,null,null,null,null,null,null,null,null,null,null,null,null,null,null,null,null,null,null,null,null,null,null,"z 65","z65","Z65"]
[null,null,null,null,null,null,null,null,null,null,null,null,null,null,null,null,null,null,null,null,null,null,null,null,null,null,null,null,null,null,null,null,null,"z 66","z66","Z66"]
[null,null,null,null,null,null,null,null,null,null,null,null,null,null,null,null,null,null,null,null,null,null,null,null,null,null,null,null,null,null,null,null,null,"z 67","z67","Z67"]
[null,null,null,null,null,null,null,null,null,null,null,null,null,null,null,null,null,null,null,null,null,null,null,null,null,null,null,null,null,null,null,null,null,"z 68","z68","Z68"]
[null,null,null,null,null,null,null,null,null,null,null,null,null,null,null,null,null,null,null,null,null,null,null,null,null,null,null,null,null,null,null,null,null,"z 69","z69","Z69"]
[null,null,null,null,null,null,null,null,null,null,null,null,null,null,null,null,null,null,null,null,null,null,null,null,null,null,null,null,null,null,null,null,null,"z 70","z70","Z70"]
[null,null,null,null,null,null,null,null,null,null,null,null,null,null,null,null,null,null,null,null,null,null,null,null,null,null,null,null,null,null,null,null,null,"z 71","z71","Z71"]
[null,null,null,null,null,null,null,null,null,null,null,null,null,null,null,null,null,null,null,null,null,null,null,null,null,null,null,null,null,null,null,null,null,"z 72","z72","Z72"]
[null,null,null,null,null,null,null,null,null,null,null,null,null,null,null,null,null,null,null,null,null,null,null,null,null,null,null,null,null,null,null,null,null,"z 73","z73","Z73"]
[null,null,null,null,null,null,null,null,null,null,null,null,null,null,null,null,null,null,null,null,null,null,null,null,null,null,null,null,null,null,null,null,null,"z 74","z74","Z74"]
[null,null,null,null,null,null,null,null,null,null,null,null,null,null,null,null,null,null,null,null,null,null,null,null,null,null,null,null,null,null,null,null,null,"z 75","z75","Z75"]
[null,null,null,null,null,null,null,null,null,null,null,null,null,null,null,null,null,null,null,null,null,null,null,null,null,null,null,null,null,null,null,null,null,"z 76","z76","Z76"]
[null,null,null,null,null,null,null,null,null,null,null,null,null,null,null,null,null,null,null,null,null,null,null,null,null,null,null,null,null,null,null,null,null,"z 77","z77","Z77"]
[null,null,null,null,null,null,null,null,null,null,null,null,null,null,null,null,null,null,null,null,null,null,null,null,null,null,null,null,null,null,null,null,null,"z 78","z78","Z78"]
[null,null,null,null,null,null,null,null,null,null,null,null,null,null,null,null,null,null,null,null,null,null,null,null,null,null,null,null,null,null,null,null,null,"z 79","z79","Z79"]
[null,null,null,null,null,null,null,null,null,null,null,null,null,null,null,null,null,null,null,null,null,null,null,null,null,null,null,null,null,null,null,null,null,"z 80","z80","Z80"]
[null,null,null,null,null,null,null,null,null,null,null,null,null,null,null,null,null,null,null,null,null,null,null,null,null,null,null,null,null,null,null,null,null,"z 81","z81","Z81"]
[null,null,null,null,null,null,null,null,null,null,null,null,null,null,null,null,null,null,null,null,null,null,null,null,null,null,null,null,null,null,null,null,null,"z 82","z82","Z82"]
[null,null,null,null,null,null,null,null,null,null,null,null,null,null,null,null,null,null,null,null,null,null,null,null,null,null,null,null,null,null,null,null,null,"z 83","z83","Z83"]
[null,null,null,null,null,null,null,null,null,null,null,null,null,null,null,null,null,null,null,null,null,null,null,null,null,null,null,null,null,null,null,null,null,"z 84","z84","Z84"]
[null,null,null,null,null,null,null,null,null,null,null,null,null,null,null,null,null,null,null,null,null,null,null,null,null,null,null,null,null,null,null,null,null,"z 85","z85","Z85"]
[null,null,null,null,null,null,null,null,null,null,null,null,null,null,null,null,null,null,null,null,null,null,null,null,null,null,null,null,null,null,null,null,null,"z 86","z86","Z86"]
[null,null,null,null,null,null,null,null,null,null,null,null,null,null,null,null,null,null,null,null,null,null,null,null,null,null,null,null,null,null,null,null,null,"z 87","z87","Z87"]
[null,null,null,null,null,null,null,null,null,null,null,null,null,null,null,null,null,null,null,null,null,null,null,null,null,null,null,null,null,null,null,null,null,"z 88","z88","Z88"]
[null,null,null,null,null,null,null,null,null,null,null,null,null,null,null,null,null,null,null,null,null,null,null,null,null,null,null,null,null,null,null,null,null,"z 89","z89","Z89"]
[null,null,null,null,null,null,null,null,null,null,null,null,null,null,null,null,null,null,null,null,null,null,null,null,null,null,null,null,null,null,null,null,null,"z 90","z90","Z90"]
[null,null,null,null,null,null,null,null,null,null,null,null,null,null,null,null,null,null,null,null,null,null,null,null,null,null,null,null,null,null,null,null,null,"z 91","z91","Z91"]
[null,null,null,null,null,null,null,null,null,null,null,null,null,null,null,null,null,null,null,null,null,null,null,null,null,null,null,null,null,null,null,null,null,"z 92","z92","Z92"]
[null,null,null,null,null,null,null,null,null,null,null,null,null,null,null,null,null,null,null,null,null,null,null,null,null,null,null,null,null,null,null,null,null,"z 93","z93","Z93"]
[null,null,null,null,null,null,null,null,null,null,null,null,null,null,null,null,null,null,null,null,null,null,null,null,null,null,null,null,null,null,null,null,null,"z 94","z94","Z94"]
[null,null,null,null,null,null,null,null,null,null,null,null,null,null,null,null,null,null,null,null,null,null,null,null,null,null,null,null,null,null,null,null,null,"z 95","z95","Z95"]
[null,null,null,null,null,null,null,null,null,null,null,null,null,null,null,null,null,null,null,null,null,null,null,null,null,null,null,null,null,null,null,null,null,"z 96","z96","Z96"]
[null,null,null,null,null,null,null,null,null,null,null,null,null,null,null,null,null,null,null,null,null,null,null,null,null,null,null,null,null,null,null,null,null,"z 97","z97","Z97"]
[null,null,null,null,null,null,null,null,null,null,null,null,null,null,null,null,null,null,null,null,null,null,null,null,null,null,null,null,null,null,null,null,null,"z 98","z98","Z98"]
[null,null,null,null,null,null,null,null,null,null,null,null,null,null,null,null,null,null,null,null,null,null,null,null,null,null,null,null,null,null,null,null,null,"z 99","z99","Z99"]
[null,null,null,null,null,null,null,null,null,null,null,null,null,null,null,null,null,null,null,null,null,null,null,null,null,null,null,null,null,null,null,null,null,{"$f":"AA16","v":"DX"},{"$f":"AA17","v":"70DILI"},{"$f":"AA18","v":"WAE"}]
[null,null,null,null,null,null,null,null,null,null,null,null,null,null,null,null,null,null,null,null,null,null,null,null,null,null,null,null,null,null,null,null,null,{"$f":"AA19","v":"GDM"},{"$f":"AA20","v":"50DMS"},{"$f":"AA21","v":"JSZ25"}]
[null,null,null,null,null,null,null,null,null,null,null,null,null,null,null,null,null,null,null,null,null,null,null,null,null,null,null,null,null,null,null,null,null,{"$f":"AA22","v":"WWFF"},{"$f":"AA23","v":"SES"},{"$f":"AA30","v":" - -"}]

{"sheet":"Blatt 1","index":2,"n_rows":506,"n_cols":24,"rows_kept":506,"cut":false,"hidden":false,"merged":[]}
[null,null,null,null,null,"VFDB-Contest Teil ",{"$f":"Allg_Angaben!C5","v":3}]
[null,null,"Call der Station  : ",null,{"$f":"Allg_Angaben!C12","v":" "},null,null,"Datum : ",{"$f":"date1","v":"2026-06-13"}]
[null,null,"Wertungsgruppe : ",null,{"$f":"Allg_Angaben!F12","v":"S"},null,null,"Band :   ",{"$f":"band1","v":"2 m"},null,"Mode :",{"$f":"mode1","v":"SSB/CW"}]
[]
[null,"lfd.","Date","UTC","CALL","RST","RST","DOK","LOC","QSO","Multi","Bemerkung",null,null,null,null,null,null,null,"UTC","Call",null,"Hilf_UTC2","Hilf_UTC"]
[null,"Nr.",null,"[hmm]",null,"geg.","erh.","lfd.Nr."," ","Pkt","Pkt",null,null,"doppeltes Call",null,null,null,null,null,"[hmm]"]
[null,1,{"$f":"I2","v":"2026-06-13"},null,null,null,null,null,null,{"$f":"IF(E7=\"\",\"\",IF(L7=\"\",O7,0))","v":""},{"$f":"IF(E7=\"\",\"\",IF(M7=1,1,\"\"))","v":""},{"$f":"IF(E7=\"\",\"\",IF(COUNTIF($V$7:V7,V7)=1,\"\",dcall))","v":""},{"$f":"IF(N7>1,COUNTIF($H$7:H7,H7),7)","v":7},{"$f":"IF(COUNTIF(dokli,H7)>0,5,IF(COUNTIF(vfdbdok,H7)>0,10,1))","v":1},{"$f":"IF(H7=dok,0,N7)","v":1},null,null,null,{"$f":"UPPER(SUBSTITUTE(H7,\" \",\"\",1))","v":""},{"$f":"IF(W7=0,\"\",IF(W7=5,W7,CONCATENATE(LEFT(W7,2),\":\",RIGHT(W7,2))))","v":""},{"$f":"UPPER(E7)","v":""},{"$f":"CONCATENATE(E7,LEN(G7))","v":"0"},{"$f":"IF(X7=\":\",IF(LEN(D7)=4,CONCATENATE(\"0\",LEFT(D7,1),RIGHT(D7,2)),D7),IF(LEN(D7)=3,CONCATENATE(\"0\",D7),D7))","v":0},{"$f":"IF(LEN(D7)=4,MID(D7,2,1),MID(D7,3,1))","v":""}]
[null,2,{"$f":"IF(F8>0,date1,\"\")","v":""},null,null,null,null,null,null,{"$f":"IF(E8=\"\",\"\",IF(L8=\"\",O8,0))","v":""},{"$f":"IF(E8=\"\",\"\",IF(M8=1,1,\"\"))","v":""},{"$f":"IF(E8=\"\",\"\",IF(COUNTIF($V$7:V8,V8)=1,\"\",dcall))","v":""},{"$f":"IF(N8>1,COUNTIF($H$7:H8,H8),7)","v":7},{"$f":"IF(COUNTIF(dokli,H8)>0,5,IF(COUNTIF(vfdbdok,H8)>0,10,1))","v":1},{"$f":"IF(H8=dok,0,N8)","v":1},null,null,null,{"$f":"UPPER(SUBSTITUTE(H8,\" \",\"\",1))","v":""},{"$f":"IF(W8=0,\"\",IF(W8=5,W8,CONCATENATE(LEFT(W8,2),\":\",RIGHT(W8,2))))","v":""},{"$f":"UPPER(E8)","v":""},{"$f":"CONCATENATE(E8,LEN(G8))","v":"0"},{"$f":"IF(X8=\":\",IF(LEN(D8)=4,CONCATENATE(\"0\",LEFT(D8,1),RIGHT(D8,2)),D8),IF(LEN(D8)=3,CONCATENATE(\"0\",D8),D8))","v":0},{"$f":"IF(LEN(D8)=4,MID(D8,2,1),MID(D8,3,1))","v":""}]
[null,3,"",null,null,null,null,null,null,{"$f":"IF(E9=\"\",\"\",IF(L9=\"\",O9,0))","v":""},{"$f":"IF(E9=\"\",\"\",IF(M9=1,1,\"\"))","v":""},{"$f":"IF(E9=\"\",\"\",IF(COUNTIF($V$7:V9,V9)=1,\"\",dcall))","v":""},{"$f":"IF(N9>1,COUNTIF($H$7:H9,H9),7)","v":7},1,{"$f":"IF(H9=dok,0,N9)","v":1},null,null,null,{"$f":"UPPER(SUBSTITUTE(H9,\" \",\"\",1))","v":""},{"$f":"IF(W9=0,\"\",IF(W9=5,W9,CONCATENATE(LEFT(W9,2),\":\",RIGHT(W9,2))))","v":""},"","0",{"$f":"IF(X9=\":\",IF(LEN(D9)=4,CONCATENATE(\"0\",LEFT(D9,1),RIGHT(D9,2)),D9),IF(LEN(D9)=3,CONCATENATE(\"0\",D9),D9))","v":0},{"$f":"IF(LEN(D9)=4,MID(D9,2,1),MID(D9,3,1))","v":""}]
[null,4,"",null,null,null,null,null,null,{"$f":"IF(E10=\"\",\"\",IF(L10=\"\",O10,0))","v":""},{"$f":"IF(E10=\"\",\"\",IF(M10=1,1,\"\"))","v":""},{"$f":"IF(E10=\"\",\"\",IF(COUNTIF($V$7:V10,V10)=1,\"\",dcall))","v":""},{"$f":"IF(N10>1,COUNTIF($H$7:H10,H10),7)","v":7},1,1,null,null,null,"",{"$f":"IF(W10=0,\"\",IF(W10=5,W10,CONCATENATE(LEFT(W10,2),\":\",RIGHT(W10,2))))","v":""},"","0",{"$f":"IF(X10=\":\",IF(LEN(D10)=4,CONCATENATE(\"0\",LEFT(D10,1),RIGHT(D10,2)),D10),IF(LEN(D10)=3,CONCATENATE(\"0\",D10),D10))","v":0},{"$f":"IF(LEN(D10)=4,MID(D10,2,1),MID(D10,3,1))","v":""}]
[null,5,"","","",null,null,"",null,"","",{"$f":"IF(E11=\"\",\"\",IF(COUNTIF($V$7:V11,V11)=1,\"\",dcall))","v":""},{"$f":"IF(N11>1,COUNTIF($H$7:H11,H11),7)","v":7},1,1,null,null,null,"",{"$f":"IF(W11=0,\"\",IF(W11=5,W11,CONCATENATE(LEFT(W11,2),\":\",RIGHT(W11,2))))","v":":"},"","0",{"$f":"IF(X11=\":\",IF(LEN(D11)=4,CONCATENATE(\"0\",LEFT(D11,1),RIGHT(D11,2)),D11),IF(LEN(D11)=3,CONCATENATE(\"0\",D11),D11))","v":""},{"$f":"IF(LEN(D11)=4,MID(D11,2,1),MID(D11,3,1))","v":""}]
[null,6,"","","",null,null,"",null,"","",{"$f":"IF(E12=\"\",\"\",IF(COUNTIF($V$7:V12,V12)=1,\"\",dcall))","v":""},{"$f":"IF(N12>1,COUNTIF($H$7:H12,H12),7)","v":7},1,1,null,null,null,"",{"$f":"IF(W12=0,\"\",IF(W12=5,W12,CONCATENATE(LEFT(W12,2),\":\",RIGHT(W12,2))))","v":":"},"","0","",""]
[null,7,"","","",null,null,"",null,"","",{"$f":"IF(E13=\"\",\"\",IF(COUNTIF($V$7:V13,V13)=1,\"\",dcall))","v":""},{"$f":"IF(N13>1,COUNTIF($H$7:H13,H13),7)","v":7},1,1,null,null,null,"",":","","0","",""]
[null,8,"","","",null,null,"",null,"","",{"$f":"IF(E14=\"\",\"\",IF(COUNTIF($V$7:V14,V14)=1,\"\",dcall))","v":""},{"$f":"IF(N14>1,COUNTIF($H$7:H14,H14),7)","v":7},1,1,null,null,null,"",":","","0","",""]
[null,9,"","","",null,null,"",null,"","",{"$f":"IF(E15=\"\",\"\",IF(COUNTIF($V$7:V15,V15)=1,\"\",dcall))","v":""},{"$f":"IF(N15>1,COUNTIF($H$7:H15,H15),7)","v":7},1,1,null,null,null,"",":","","0","",""]
[null,10,"","","",null,null,"",null,"","",{"$f":"IF(E16=\"\",\"\",IF(COUNTIF($V$7:V16,V16)=1,\"\",dcall))","v":""},{"$f":"IF(N16>1,COUNTIF($H$7:H16,H16),7)","v":7},1,1,null,null,null,"",":","","0","",""]
[null,11,"","","",null,null,"",null,"","",{"$f":"IF(E17=\"\",\"\",IF(COUNTIF($V$7:V17,V17)=1,\"\",dcall))","v":""},{"$f":"IF(N17>1,COUNTIF($H$7:H17,H17),7)","v":7},1,1,null,null,null,"",":","","0","",""]
[null,12,"","","",null,null,"",null,"","",{"$f":"IF(E18=\"\",\"\",IF(COUNTIF($V$7:V18,V18)=1,\"\",dcall))","v":""},{"$f":"IF(N18>1,COUNTIF($H$7:H18,H18),7)","v":7},1,1,null,null,null,"",":","","0","",""]
[null,13,"","","",null,null,"",null,"","",{"$f":"IF(E19=\"\",\"\",IF(COUNTIF($V$7:V19,V19)=1,\"\",dcall))","v":""},{"$f":"IF(N19>1,COUNTIF($H$7:H19,H19),7)","v":7},1,1,null,null,null,"",":","","0","",""]
[null,14,"","","",null,null,"",null,"","",{"$f":"IF(E20=\"\",\"\",IF(COUNTIF($V$7:V20,V20)=1,\"\",dcall))","v":""},{"$f":"IF(N20>1,COUNTIF($H$7:H20,H20),7)","v":7},1,1,null,null,null,"",":","","0","",""]
[null,15,"","","",null,null,"",null,"","",{"$f":"IF(E21=\"\",\"\",IF(COUNTIF($V$7:V21,V21)=1,\"\",dcall))","v":""},{"$f":"IF(N21>1,COUNTIF($H$7:H21,H21),7)","v":7},1,1,null,null,null,"",":","","0","",""]
[null,16,"","","",null,null,"",null,"","",{"$f":"IF(E22=\"\",\"\",IF(COUNTIF($V$7:V22,V22)=1,\"\",dcall))","v":""},{"$f":"IF(N22>1,COUNTIF($H$7:H22,H22),7)","v":7},1,1,null,null,null,"",":","","0","",""]
[null,17,"","","",null,null,"",null,"","",{"$f":"IF(E23=\"\",\"\",IF(COUNTIF($V$7:V23,V23)=1,\"\",dcall))","v":""},{"$f":"IF(N23>1,COUNTIF($H$7:H23,H23),7)","v":7},1,1,null,null,null,"",":","","0","",""]
[null,18,"","","",null,null,"",null,"","",{"$f":"IF(E24=\"\",\"\",IF(COUNTIF($V$7:V24,V24)=1,\"\",dcall))","v":""},{"$f":"IF(N24>1,COUNTIF($H$7:H24,H24),7)","v":7},1,1,null,null,null,"",":","","0","",""]
[null,19,"","","",null,null,"",null,"","",{"$f":"IF(E25=\"\",\"\",IF(COUNTIF($V$7:V25,V25)=1,\"\",dcall))","v":""},{"$f":"IF(N25>1,COUNTIF($H$7:H25,H25),7)","v":7},1,1,null,null,null,"",":","","0","",""]
[null,20,"","","",null,null,"",null,"","",{"$f":"IF(E26=\"\",\"\",IF(COUNTIF($V$7:V26,V26)=1,\"\",dcall))","v":""},{"$f":"IF(N26>1,COUNTIF($H$7:H26,H26),7)","v":7},1,1,null,null,null,"",":","","0","",""]
[null,21,"","","",null,null,"",null,"","",{"$f":"IF(E27=\"\",\"\",IF(COUNTIF($V$7:V27,V27)=1,\"\",dcall))","v":""},{"$f":"IF(N27>1,COUNTIF($H$7:H27,H27),7)","v":7},1,1,null,null,null,"",":",{"$f":"UPPER(E27)","v":""},{"$f":"CONCATENATE(E27,LEN(G27))","v":"0"},"",""]
[null,22,"","","",null,null,"",null,"","",{"$f":"IF(E28=\"\",\"\",IF(COUNTIF($V$7:V28,V28)=1,\"\",dcall))","v":""},{"$f":"IF(N28>1,COUNTIF($H$7:H28,H28),7)","v":7},1,1,null,null,null,"",":","","0","",""]
[null,23,"","","",null,null,"",null,"","",{"$f":"IF(E29=\"\",\"\",IF(COUNTIF($V$7:V29,V29)=1,\"\",dcall))","v":""},{"$f":"IF(N29>1,COUNTIF($H$7:H29,H29),7)","v":7},1,1,null,null,null,"",":","","0","",""]
[null,24,"","","",null,null,"",null,"","",{"$f":"IF(E30=\"\",\"\",IF(COUNTIF($V$7:V30,V30)=1,\"\",dcall))","v":""},{"$f":"IF(N30>1,COUNTIF($H$7:H30,H30),7)","v":7},1,1,null,null,null,"",":","","0","",""]
[null,25,"","","",null,null,"",null,"","",{"$f":"IF(E31=\"\",\"\",IF(COUNTIF($V$7:V31,V31)=1,\"\",dcall))","v":""},{"$f":"IF(N31>1,COUNTIF($H$7:H31,H31),7)","v":7},1,1,null,null,null,"",":","","0","",""]
[null,26,"","","",null,null,"",null,"","",{"$f":"IF(E32=\"\",\"\",IF(COUNTIF($V$7:V32,V32)=1,\"\",dcall))","v":""},{"$f":"IF(N32>1,COUNTIF($H$7:H32,H32),7)","v":7},1,1,null,null,null,"",":","","0","",""]
[null,27,"","","",null,null,"",null,"","",{"$f":"IF(E33=\"\",\"\",IF(COUNTIF($V$7:V33,V33)=1,\"\",dcall))","v":""},{"$f":"IF(N33>1,COUNTIF($H$7:H33,H33),7)","v":7},1,1,null,null,null,"",":","","0","",""]
[null,28,"","","",null,null,"",null,"","",{"$f":"IF(E34=\"\",\"\",IF(COUNTIF($V$7:V34,V34)=1,\"\",dcall))","v":""},{"$f":"IF(N34>1,COUNTIF($H$7:H34,H34),7)","v":7},1,1,null,null,null,"",":","","0","",""]
[null,29,"","","",null,null,"",null,"","",{"$f":"IF(E35=\"\",\"\",IF(COUNTIF($V$7:V35,V35)=1,\"\",dcall))","v":""},{"$f":"IF(N35>1,COUNTIF($H$7:H35,H35),7)","v":7},1,1,null,null,null,"",":","","0","",""]
[null,30,"","","",null,null,"",null,"","",{"$f":"IF(E36=\"\",\"\",IF(COUNTIF($V$7:V36,V36)=1,\"\",dcall))","v":""},{"$f":"IF(N36>1,COUNTIF($H$7:H36,H36),7)","v":7},1,1,null,null,null,"",":","","0","",""]
[null,31,"","","",null,null,"",null,"","",{"$f":"IF(E37=\"\",\"\",IF(COUNTIF($V$7:V37,V37)=1,\"\",dcall))","v":""},{"$f":"IF(N37>1,COUNTIF($H$7:H37,H37),7)","v":7},1,1,null,null,null,"",":","","0","",""]
[null,32,"","","",null,null,"",null,"","",{"$f":"IF(E38=\"\",\"\",IF(COUNTIF($V$7:V38,V38)=1,\"\",dcall))","v":""},{"$f":"IF(N38>1,COUNTIF($H$7:H38,H38),7)","v":7},1,1,null,null,null,"",":","","0","",""]
[null,33,"","","",null,null,"",null,"","",{"$f":"IF(E39=\"\",\"\",IF(COUNTIF($V$7:V39,V39)=1,\"\",dcall))","v":""},{"$f":"IF(N39>1,COUNTIF($H$7:H39,H39),7)","v":7},1,1,null,null,null,"",":","","0","",""]
[null,34,"","","",null,null,"",null,"","",{"$f":"IF(E40=\"\",\"\",IF(COUNTIF($V$7:V40,V40)=1,\"\",dcall))","v":""},{"$f":"IF(N40>1,COUNTIF($H$7:H40,H40),7)","v":7},1,1,null,null,null,"",":","","0","",""]
[null,35,"","","",null,null,"",null,"","",{"$f":"IF(E41=\"\",\"\",IF(COUNTIF($V$7:V41,V41)=1,\"\",dcall))","v":""},{"$f":"IF(N41>1,COUNTIF($H$7:H41,H41),7)","v":7},1,1,null,null,null,"",":","","0","",""]
[null,36,"","","",null,null,"",null,"","",{"$f":"IF(E42=\"\",\"\",IF(COUNTIF($V$7:V42,V42)=1,\"\",dcall))","v":""},{"$f":"IF(N42>1,COUNTIF($H$7:H42,H42),7)","v":7},1,1,null,null,null,"",":","","0","",""]
[null,37,"","","",null,null,"",null,"","",{"$f":"IF(E43=\"\",\"\",IF(COUNTIF($V$7:V43,V43)=1,\"\",dcall))","v":""},{"$f":"IF(N43>1,COUNTIF($H$7:H43,H43),7)","v":7},1,1,null,null,null,"",":","","0","",""]
[null,38,"","","",null,null,"",null,"","",{"$f":"IF(E44=\"\",\"\",IF(COUNTIF($V$7:V44,V44)=1,\"\",dcall))","v":""},{"$f":"IF(N44>1,COUNTIF($H$7:H44,H44),7)","v":7},1,1,null,null,null,"",":","","0","",""]
[null,39,"","","",null,null,"",null,"","",{"$f":"IF(E45=\"\",\"\",IF(COUNTIF($V$7:V45,V45)=1,\"\",dcall))","v":""},{"$f":"IF(N45>1,COUNTIF($H$7:H45,H45),7)","v":7},1,1,null,null,null,"",":","","0","",""]
[null,40,"","","",null,null,"",null,"","",{"$f":"IF(E46=\"\",\"\",IF(COUNTIF($V$7:V46,V46)=1,\"\",dcall))","v":""},{"$f":"IF(N46>1,COUNTIF($H$7:H46,H46),7)","v":7},1,1,null,null,null,"",":","","0","",""]
[null,41,"","","",null,null,"",null,"","",{"$f":"IF(E47=\"\",\"\",IF(COUNTIF($V$7:V47,V47)=1,\"\",dcall))","v":""},{"$f":"IF(N47>1,COUNTIF($H$7:H47,H47),7)","v":7},1,1,null,null,null,"",":","","0","",""]
[null,42,"","","",null,null,"",null,"","",{"$f":"IF(E48=\"\",\"\",IF(COUNTIF($V$7:V48,V48)=1,\"\",dcall))","v":""},{"$f":"IF(N48>1,COUNTIF($H$7:H48,H48),7)","v":7},1,1,null,null,null,"",":","","0","",""]
[null,43,"","","",null,null,"",null,"","",{"$f":"IF(E49=\"\",\"\",IF(COUNTIF($V$7:V49,V49)=1,\"\",dcall))","v":""},{"$f":"IF(N49>1,COUNTIF($H$7:H49,H49),7)","v":7},1,1,null,null,null,"",":","","0","",""]
[null,44,"","","",null,null,"",null,"","",{"$f":"IF(E50=\"\",\"\",IF(COUNTIF($V$7:V50,V50)=1,\"\",dcall))","v":""},{"$f":"IF(N50>1,COUNTIF($H$7:H50,H50),7)","v":7},1,1,null,null,null,"",":","","0","",""]
[null,45,"","","",null,null,"",null,"","",{"$f":"IF(E51=\"\",\"\",IF(COUNTIF($V$7:V51,V51)=1,\"\",dcall))","v":""},{"$f":"IF(N51>1,COUNTIF($H$7:H51,H51),7)","v":7},1,1,null,null,null,"",":","","0","",""]
[null,46,"","","",null,null,"",null,"","",{"$f":"IF(E52=\"\",\"\",IF(COUNTIF($V$7:V52,V52)=1,\"\",dcall))","v":""},{"$f":"IF(N52>1,COUNTIF($H$7:H52,H52),7)","v":7},1,1,null,null,null,"",":","","0","",""]
[null,47,"","","",null,null,"",null,"","",{"$f":"IF(E53=\"\",\"\",IF(COUNTIF($V$7:V53,V53)=1,\"\",dcall))","v":""},{"$f":"IF(N53>1,COUNTIF($H$7:H53,H53),7)","v":7},1,1,null,null,null,"",":","","0","",""]
[null,48,"","","",null,null,"",null,"","",{"$f":"IF(E54=\"\",\"\",IF(COUNTIF($V$7:V54,V54)=1,\"\",dcall))","v":""},{"$f":"IF(N54>1,COUNTIF($H$7:H54,H54),7)","v":7},1,1,null,null,null,"",":","","0","",""]
[null,49,"","","",null,null,"",null,"","",{"$f":"IF(E55=\"\",\"\",IF(COUNTIF($V$7:V55,V55)=1,\"\",dcall))","v":""},{"$f":"IF(N55>1,COUNTIF($H$7:H55,H55),7)","v":7},1,1,null,null,null,"",":","","0","",""]
[null,50,"","","",null,null,"",null,"","",{"$f":"IF(E56=\"\",\"\",IF(COUNTIF($V$7:V56,V56)=1,\"\",dcall))","v":""},{"$f":"IF(N56>1,COUNTIF($H$7:H56,H56),7)","v":7},1,1,null,null,null,"",":","","0","",""]
[null,51,"","","",null,null,"",null,"","",{"$f":"IF(E57=\"\",\"\",IF(COUNTIF($V$7:V57,V57)=1,\"\",dcall))","v":""},{"$f":"IF(N57>1,COUNTIF($H$7:H57,H57),7)","v":7},1,1,null,null,null,"",":","","0","",""]
[null,52,"","","",null,null,"",null,"","",{"$f":"IF(E58=\"\",\"\",IF(COUNTIF($V$7:V58,V58)=1,\"\",dcall))","v":""},{"$f":"IF(N58>1,COUNTIF($H$7:H58,H58),7)","v":7},1,1,null,null,null,"",":","","0","",""]
[null,53,"","","",null,null,"",null,"","",{"$f":"IF(E59=\"\",\"\",IF(COUNTIF($V$7:V59,V59)=1,\"\",dcall))","v":""},{"$f":"IF(N59>1,COUNTIF($H$7:H59,H59),7)","v":7},1,1,null,null,null,"",":","","0","",""]
[null,54,"","","",null,null,"",null,"","",{"$f":"IF(E60=\"\",\"\",IF(COUNTIF($V$7:V60,V60)=1,\"\",dcall))","v":""},{"$f":"IF(N60>1,COUNTIF($H$7:H60,H60),7)","v":7},1,1,null,null,null,"",":","","0","",""]
[null,55,"","","",null,null,"",null,"","",{"$f":"IF(E61=\"\",\"\",IF(COUNTIF($V$7:V61,V61)=1,\"\",dcall))","v":""},{"$f":"IF(N61>1,COUNTIF($H$7:H61,H61),7)","v":7},1,1,null,null,null,"",":","","0","",""]
[null,56,"","","",null,null,"",null,"","",{"$f":"IF(E62=\"\",\"\",IF(COUNTIF($V$7:V62,V62)=1,\"\",dcall))","v":""},{"$f":"IF(N62>1,COUNTIF($H$7:H62,H62),7)","v":7},1,1,null,null,null,"",":","","0","",""]
[null,57,"","","",null,null,"",null,"","",{"$f":"IF(E63=\"\",\"\",IF(COUNTIF($V$7:V63,V63)=1,\"\",dcall))","v":""},{"$f":"IF(N63>1,COUNTIF($H$7:H63,H63),7)","v":7},1,1,null,null,null,"",":","","0","",""]
[null,58,"","","",null,null,"",null,"","",{"$f":"IF(E64=\"\",\"\",IF(COUNTIF($V$7:V64,V64)=1,\"\",dcall))","v":""},{"$f":"IF(N64>1,COUNTIF($H$7:H64,H64),7)","v":7},1,1,null,null,null,"",":","","0","",""]
[null,59,"","","",null,null,"",null,"","",{"$f":"IF(E65=\"\",\"\",IF(COUNTIF($V$7:V65,V65)=1,\"\",dcall))","v":""},{"$f":"IF(N65>1,COUNTIF($H$7:H65,H65),7)","v":7},1,1,null,null,null,"",":","","0","",""]
[null,60,"","","",null,null,"",null,"","",{"$f":"IF(E66=\"\",\"\",IF(COUNTIF($V$7:V66,V66)=1,\"\",dcall))","v":""},{"$f":"IF(N66>1,COUNTIF($H$7:H66,H66),7)","v":7},1,1,null,null,null,"",":","","0","",""]
[null,61,"","","",null,null,"",null,"","",{"$f":"IF(E67=\"\",\"\",IF(COUNTIF($V$7:V67,V67)=1,\"\",dcall))","v":""},{"$f":"IF(N67>1,COUNTIF($H$7:H67,H67),7)","v":7},1,1,null,null,null,"",":","","0","",""]
[null,62,"","","",null,null,"",null,"","",{"$f":"IF(E68=\"\",\"\",IF(COUNTIF($V$7:V68,V68)=1,\"\",dcall))","v":""},{"$f":"IF(N68>1,COUNTIF($H$7:H68,H68),7)","v":7},1,1,null,null,null,"",":","","0","",""]
[null,63,"","","",null,null,"",null,"","",{"$f":"IF(E69=\"\",\"\",IF(COUNTIF($V$7:V69,V69)=1,\"\",dcall))","v":""},{"$f":"IF(N69>1,COUNTIF($H$7:H69,H69),7)","v":7},1,1,null,null,null,"",":","","0","",""]
[null,64,"","","",null,null,"",null,"","",{"$f":"IF(E70=\"\",\"\",IF(COUNTIF($V$7:V70,V70)=1,\"\",dcall))","v":""},{"$f":"IF(N70>1,COUNTIF($H$7:H70,H70),7)","v":7},1,1,null,null,null,"",":","","0","",""]
[null,65,"","","",null,null,"",null,"","",{"$f":"IF(E71=\"\",\"\",IF(COUNTIF($V$7:V71,V71)=1,\"\",dcall))","v":""},{"$f":"IF(N71>1,COUNTIF($H$7:H71,H71),7)","v":7},1,1,null,null,null,"",":","","0","",""]
[null,66,{"$f":"IF(F72>0,date1,\"\")","v":""},"","",null,null,"",null,"","",{"$f":"IF(E72=\"\",\"\",IF(COUNTIF($V$7:V72,V72)=1,\"\",dcall))","v":""},{"$f":"IF(N72>1,COUNTIF($H$7:H72,H72),7)","v":7},{"$f":"IF(COUNTIF(dokli,H72)>0,5,IF(COUNTIF(vfdbdok,H72)>0,10,1))","v":1},1,null,null,null,"",":",{"$f":"UPPER(E72)","v":""},{"$f":"CONCATENATE(E72,LEN(G72))","v":"0"},"",""]
[null,67,"","","",null,null,"",null,"","",{"$f":"IF(E73=\"\",\"\",IF(COUNTIF($V$7:V73,V73)=1,\"\",dcall))","v":""},{"$f":"IF(N73>1,COUNTIF($H$7:H73,H73),7)","v":7},1,{"$f":"IF(H73=dok,0,N73)","v":1},null,null,null,{"$f":"UPPER(SUBSTITUTE(H73,\" \",\"\",1))","v":""},":","","0","",""]
[null,68,"","","",null,null,"",null,{"$f":"IF(E74=\"\",\"\",IF(L74=\"\",O74,0))","v":""},{"$f":"IF(E74=\"\",\"\",IF(M74=1,1,\"\"))","v":""},{"$f":"IF(E74=\"\",\"\",IF(COUNTIF($V$7:V74,V74)=1,\"\",dcall))","v":""},{"$f":"IF(N74>1,COUNTIF($H$7:H74,H74),7)","v":7},1,1,null,null,null,"",":","","0","",""]
[null,69,"","","",null,null,"",null,"","",{"$f":"IF(E75=\"\",\"\",IF(COUNTIF($V$7:V75,V75)=1,\"\",dcall))","v":""},{"$f":"IF(N75>1,COUNTIF($H$7:H75,H75),7)","v":7},1,1,null,null,null,"",":","","0",{"$f":"IF(X75=\":\",IF(LEN(D75)=4,CONCATENATE(\"0\",LEFT(D75,1),RIGHT(D75,2)),D75),IF(LEN(D75)=3,CONCATENATE(\"0\",D75),D75))","v":""},{"$f":"IF(LEN(D75)=4,MID(D75,2,1),MID(D75,3,1))","v":""}]
[null,70,"","","",null,null,"",null,"","",{"$f":"IF(E76=\"\",\"\",IF(COUNTIF($V$7:V76,V76)=1,\"\",dcall))","v":""},{"$f":"IF(N76>1,COUNTIF($H$7:H76,H76),7)","v":7},1,1,null,null,null,"",{"$f":"IF(W76=0,\"\",IF(W76=5,W76,CONCATENATE(LEFT(W76,2),\":\",RIGHT(W76,2))))","v":":"},"","0","",""]
[null,71,"","","",null,null,"",null,"","",{"$f":"IF(E77=\"\",\"\",IF(COUNTIF($V$7:V77,V77)=1,\"\",dcall))","v":""},{"$f":"IF(N77>1,COUNTIF($H$7:H77,H77),7)","v":7},1,1,null,null,null,"",":","","0","",""]
[null,72,"","","",null,null,"",null,"","",{"$f":"IF(E78=\"\",\"\",IF(COUNTIF($V$7:V78,V78)=1,\"\",dcall))","v":""},{"$f":"IF(N78>1,COUNTIF($H$7:H78,H78),7)","v":7},1,1,null,null,null,"",":","","0","",""]
[null,73,"","","",null,null,"",null,"","",{"$f":"IF(E79=\"\",\"\",IF(COUNTIF($V$7:V79,V79)=1,\"\",dcall))","v":""},{"$f":"IF(N79>1,COUNTIF($H$7:H79,H79),7)","v":7},1,1,null,null,null,"",":","","0","",""]
[null,74,"","","",null,null,"",null,"","",{"$f":"IF(E80=\"\",\"\",IF(COUNTIF($V$7:V80,V80)=1,\"\",dcall))","v":""},{"$f":"IF(N80>1,COUNTIF($H$7:H80,H80),7)","v":7},1,1,null,null,null,"",":","","0","",""]
[null,75,"","","",null,null,"",null,"","",{"$f":"IF(E81=\"\",\"\",IF(COUNTIF($V$7:V81,V81)=1,\"\",dcall))","v":""},{"$f":"IF(N81>1,COUNTIF($H$7:H81,H81),7)","v":7},1,1,null,null,null,"",":","","0","",""]
[null,76,"","","",null,null,"",null,"","",{"$f":"IF(E82=\"\",\"\",IF(COUNTIF($V$7:V82,V82)=1,\"\",dcall))","v":""},{"$f":"IF(N82>1,COUNTIF($H$7:H82,H82),7)","v":7},1,1,null,null,null,"",":","","0","",""]
[null,77,"","","",null,null,"",null,"","",{"$f":"IF(E83=\"\",\"\",IF(COUNTIF($V$7:V83,V83)=1,\"\",dcall))","v":""},{"$f":"IF(N83>1,COUNTIF($H$7:H83,H83),7)","v":7},1,1,null,null,null,"",":","","0","",""]
[null,78,"","","",null,null,"",null,"","",{"$f":"IF(E84=\"\",\"\",IF(COUNTIF($V$7:V84,V84)=1,\"\",dcall))","v":""},{"$f":"IF(N84>1,COUNTIF($H$7:H84,H84),7)","v":7},1,1,null,null,null,"",":","","0","",""]
[null,79,"","","",null,null,"",null,"","",{"$f":"IF(E85=\"\",\"\",IF(COUNTIF($V$7:V85,V85)=1,\"\",dcall))","v":""},{"$f":"IF(N85>1,COUNTIF($H$7:H85,H85),7)","v":7},1,1,null,null,null,"",":","","0","",""]
[null,80,"","","",null,null,"",null,"","",{"$f":"IF(E86=\"\",\"\",IF(COUNTIF($V$7:V86,V86)=1,\"\",dcall))","v":""},{"$f":"IF(N86>1,COUNTIF($H$7:H86,H86),7)","v":7},1,1,null,null,null,"",":","","0","",""]
[null,81,"","","",null,null,"",null,"","",{"$f":"IF(E87=\"\",\"\",IF(COUNTIF($V$7:V87,V87)=1,\"\",dcall))","v":""},{"$f":"IF(N87>1,COUNTIF($H$7:H87,H87),7)","v":7},1,1,null,null,null,"",":","","0","",""]
[null,82,"","","",null,null,"",null,"","",{"$f":"IF(E88=\"\",\"\",IF(COUNTIF($V$7:V88,V88)=1,\"\",dcall))","v":""},{"$f":"IF(N88>1,COUNTIF($H$7:H88,H88),7)","v":7},1,1,null,null,null,"",":","","0","",""]
[null,83,"","","",null,null,"",null,"","",{"$f":"IF(E89=\"\",\"\",IF(COUNTIF($V$7:V89,V89)=1,\"\",dcall))","v":""},{"$f":"IF(N89>1,COUNTIF($H$7:H89,H89),7)","v":7},1,1,null,null,null,"",":","","0","",""]
[null,84,"","","",null,null,"",null,"","",{"$f":"IF(E90=\"\",\"\",IF(COUNTIF($V$7:V90,V90)=1,\"\",dcall))","v":""},{"$f":"IF(N90>1,COUNTIF($H$7:H90,H90),7)","v":7},1,1,null,null,null,"",":","","0","",""]
[null,85,"","","",null,null,"",null,"","",{"$f":"IF(E91=\"\",\"\",IF(COUNTIF($V$7:V91,V91)=1,\"\",dcall))","v":""},{"$f":"IF(N91>1,COUNTIF($H$7:H91,H91),7)","v":7},1,1,null,null,null,"",":","","0","",""]
[null,86,"","","",null,null,"",null,"","",{"$f":"IF(E92=\"\",\"\",IF(COUNTIF($V$7:V92,V92)=1,\"\",dcall))","v":""},{"$f":"IF(N92>1,COUNTIF($H$7:H92,H92),7)","v":7},1,1,null,null,null,"",":","","0","",""]
[null,87,"","","",null,null,"",null,"","",{"$f":"IF(E93=\"\",\"\",IF(COUNTIF($V$7:V93,V93)=1,\"\",dcall))","v":""},{"$f":"IF(N93>1,COUNTIF($H$7:H93,H93),7)","v":7},1,1,null,null,null,"",":","","0","",""]
[null,88,"","","",null,null,"",null,"","",{"$f":"IF(E94=\"\",\"\",IF(COUNTIF($V$7:V94,V94)=1,\"\",dcall))","v":""},{"$f":"IF(N94>1,COUNTIF($H$7:H94,H94),7)","v":7},1,1,null,null,null,"",":","","0","",""]
[null,89,"","","",null,null,"",null,"","",{"$f":"IF(E95=\"\",\"\",IF(COUNTIF($V$7:V95,V95)=1,\"\",dcall))","v":""},{"$f":"IF(N95>1,COUNTIF($H$7:H95,H95),7)","v":7},1,1,null,null,null,"",":","","0","",""]
[null,90,"","","",null,null,"",null,"","",{"$f":"IF(E96=\"\",\"\",IF(COUNTIF($V$7:V96,V96)=1,\"\",dcall))","v":""},{"$f":"IF(N96>1,COUNTIF($H$7:H96,H96),7)","v":7},1,1,null,null,null,"",":","","0","",""]
[null,91,"","","",null,null,"",null,"","",{"$f":"IF(E97=\"\",\"\",IF(COUNTIF($V$7:V97,V97)=1,\"\",dcall))","v":""},{"$f":"IF(N97>1,COUNTIF($H$7:H97,H97),7)","v":7},1,1,null,null,null,"",":","","0","",""]
[null,92,"","","",null,null,"",null,"","",{"$f":"IF(E98=\"\",\"\",IF(COUNTIF($V$7:V98,V98)=1,\"\",dcall))","v":""},{"$f":"IF(N98>1,COUNTIF($H$7:H98,H98),7)","v":7},1,1,null,null,null,"",":","","0","",""]
[null,93,"","","",null,null,"",null,"","",{"$f":"IF(E99=\"\",\"\",IF(COUNTIF($V$7:V99,V99)=1,\"\",dcall))","v":""},{"$f":"IF(N99>1,COUNTIF($H$7:H99,H99),7)","v":7},1,1,null,null,null,"",":","","0","",""]
[null,94,"","","",null,null,"",null,"","",{"$f":"IF(E100=\"\",\"\",IF(COUNTIF($V$7:V100,V100)=1,\"\",dcall))","v":""},{"$f":"IF(N100>1,COUNTIF($H$7:H100,H100),7)","v":7},1,1,null,null,null,"",":","","0","",""]
[null,95,"","","",null,null,"",null,"","",{"$f":"IF(E101=\"\",\"\",IF(COUNTIF($V$7:V101,V101)=1,\"\",dcall))","v":""},{"$f":"IF(N101>1,COUNTIF($H$7:H101,H101),7)","v":7},1,1,null,null,null,"",":","","0","",""]
[null,96,"","","",null,null,"",null,"","",{"$f":"IF(E102=\"\",\"\",IF(COUNTIF($V$7:V102,V102)=1,\"\",dcall))","v":""},{"$f":"IF(N102>1,COUNTIF($H$7:H102,H102),7)","v":7},1,1,null,null,null,"",":","","0","",""]
[null,97,"","","",null,null,"",null,"","",{"$f":"IF(E103=\"\",\"\",IF(COUNTIF($V$7:V103,V103)=1,\"\",dcall))","v":""},{"$f":"IF(N103>1,COUNTIF($H$7:H103,H103),7)","v":7},1,1,null,null,null,"",":","","0","",""]
[null,98,"","","",null,null,"",null,"","",{"$f":"IF(E104=\"\",\"\",IF(COUNTIF($V$7:V104,V104)=1,\"\",dcall))","v":""},{"$f":"IF(N104>1,COUNTIF($H$7:H104,H104),7)","v":7},1,1,null,null,null,"",":","","0","",""]
[null,99,"","","",null,null,"",null,"","",{"$f":"IF(E105=\"\",\"\",IF(COUNTIF($V$7:V105,V105)=1,\"\",dcall))","v":""},{"$f":"IF(N105>1,COUNTIF($H$7:H105,H105),7)","v":7},1,1,null,null,null,"",":","","0","",""]
[null,100,"","","",null,null,"",null,"","",{"$f":"IF(E106=\"\",\"\",IF(COUNTIF($V$7:V106,V106)=1,\"\",dcall))","v":""},{"$f":"IF(N106>1,COUNTIF($H$7:H106,H106),7)","v":7},1,1,null,null,null,"",":","","0","",""]
[null,101,"","","",null,null,"",null,"","",{"$f":"IF(E107=\"\",\"\",IF(COUNTIF($V$7:V107,V107)=1,\"\",dcall))","v":""},{"$f":"IF(N107>1,COUNTIF($H$7:H107,H107),7)","v":7},1,1,null,null,null,"",":","","0","",""]
[null,102,"","","",null,null,"",null,"","",{"$f":"IF(E108=\"\",\"\",IF(COUNTIF($V$7:V108,V108)=1,\"\",dcall))","v":""},{"$f":"IF(N108>1,COUNTIF($H$7:H108,H108),7)","v":7},1,1,null,null,null,"",":","","0","",""]
[null,103,"","","",null,null,"",null,"","",{"$f":"IF(E109=\"\",\"\",IF(COUNTIF($V$7:V109,V109)=1,\"\",dcall))","v":""},{"$f":"IF(N109>1,COUNTIF($H$7:H109,H109),7)","v":7},1,1,null,null,null,"",":","","0","",""]
[null,104,"","","",null,null,"",null,"","",{"$f":"IF(E110=\"\",\"\",IF(COUNTIF($V$7:V110,V110)=1,\"\",dcall))","v":""},{"$f":"IF(N110>1,COUNTIF($H$7:H110,H110),7)","v":7},1,1,null,null,null,"",":","","0","",""]
[null,105,"","","",null,null,"",null,"","",{"$f":"IF(E111=\"\",\"\",IF(COUNTIF($V$7:V111,V111)=1,\"\",dcall))","v":""},{"$f":"IF(N111>1,COUNTIF($H$7:H111,H111),7)","v":7},1,1,null,null,null,"",":","","0","",""]
[null,106,"","","",null,null,"",null,"","",{"$f":"IF(E112=\"\",\"\",IF(COUNTIF($V$7:V112,V112)=1,\"\",dcall))","v":""},{"$f":"IF(N112>1,COUNTIF($H$7:H112,H112),7)","v":7},1,1,null,null,null,"",":","","0","",""]
[null,107,"","","",null,null,"",null,"","",{"$f":"IF(E113=\"\",\"\",IF(COUNTIF($V$7:V113,V113)=1,\"\",dcall))","v":""},{"$f":"IF(N113>1,COUNTIF($H$7:H113,H113),7)","v":7},1,1,null,null,null,"",":","","0","",""]
[null,108,"","","",null,null,"",null,"","",{"$f":"IF(E114=\"\",\"\",IF(COUNTIF($V$7:V114,V114)=1,\"\",dcall))","v":""},{"$f":"IF(N114>1,COUNTIF($H$7:H114,H114),7)","v":7},1,1,null,null,null,"",":","","0","",""]
[null,109,"","","",null,null,"",null,"","",{"$f":"IF(E115=\"\",\"\",IF(COUNTIF($V$7:V115,V115)=1,\"\",dcall))","v":""},{"$f":"IF(N115>1,COUNTIF($H$7:H115,H115),7)","v":7},1,1,null,null,null,"",":","","0","",""]
[null,110,"","","",null,null,"",null,"","",{"$f":"IF(E116=\"\",\"\",IF(COUNTIF($V$7:V116,V116)=1,\"\",dcall))","v":""},{"$f":"IF(N116>1,COUNTIF($H$7:H116,H116),7)","v":7},1,1,null,null,null,"",":","","0","",""]
[null,111,"","","",null,null,"",null,"","",{"$f":"IF(E117=\"\",\"\",IF(COUNTIF($V$7:V117,V117)=1,\"\",dcall))","v":""},{"$f":"IF(N117>1,COUNTIF($H$7:H117,H117),7)","v":7},1,1,null,null,null,"",":","","0","",""]
[null,112,"","","",null,null,"",null,"","",{"$f":"IF(E118=\"\",\"\",IF(COUNTIF($V$7:V118,V118)=1,\"\",dcall))","v":""},{"$f":"IF(N118>1,COUNTIF($H$7:H118,H118),7)","v":7},1,1,null,null,null,"",":","","0","",""]
[null,113,"","","",null,null,"",null,"","",{"$f":"IF(E119=\"\",\"\",IF(COUNTIF($V$7:V119,V119)=1,\"\",dcall))","v":""},{"$f":"IF(N119>1,COUNTIF($H$7:H119,H119),7)","v":7},1,1,null,null,null,"",":","","0","",""]
[null,114,"","","",null,null,"",null,"","",{"$f":"IF(E120=\"\",\"\",IF(COUNTIF($V$7:V120,V120)=1,\"\",dcall))","v":""},{"$f":"IF(N120>1,COUNTIF($H$7:H120,H120),7)","v":7},1,1,null,null,null,"",":","","0","",""]
[null,115,"","","",null,null,"",null,"","",{"$f":"IF(E121=\"\",\"\",IF(COUNTIF($V$7:V121,V121)=1,\"\",dcall))","v":""},{"$f":"IF(N121>1,COUNTIF($H$7:H121,H121),7)","v":7},1,1,null,null,null,"",":","","0","",""]
[null,116,"","","",null,null,"",null,"","",{"$f":"IF(E122=\"\",\"\",IF(COUNTIF($V$7:V122,V122)=1,\"\",dcall))","v":""},{"$f":"IF(N122>1,COUNTIF($H$7:H122,H122),7)","v":7},1,1,null,null,null,"",":","","0","",""]
[null,117,"","","",null,null,"",null,"","",{"$f":"IF(E123=\"\",\"\",IF(COUNTIF($V$7:V123,V123)=1,\"\",dcall))","v":""},{"$f":"IF(N123>1,COUNTIF($H$7:H123,H123),7)","v":7},1,1,null,null,null,"",":","","0","",""]
[null,118,"","","",null,null,"",null,"","",{"$f":"IF(E124=\"\",\"\",IF(COUNTIF($V$7:V124,V124)=1,\"\",dcall))","v":""},{"$f":"IF(N124>1,COUNTIF($H$7:H124,H124),7)","v":7},1,1,null,null,null,"",":","","0","",""]
[null,119,"","","",null,null,"",null,"","",{"$f":"IF(E125=\"\",\"\",IF(COUNTIF($V$7:V125,V125)=1,\"\",dcall))","v":""},{"$f":"IF(N125>1,COUNTIF($H$7:H125,H125),7)","v":7},1,1,null,null,null,"",":","","0","",""]
[null,120,"","","",null,null,"",null,"","",{"$f":"IF(E126=\"\",\"\",IF(COUNTIF($V$7:V126,V126)=1,\"\",dcall))","v":""},{"$f":"IF(N126>1,COUNTIF($H$7:H126,H126),7)","v":7},1,1,null,null,null,"",":","","0","",""]
[null,121,"","","",null,null,"",null,"","",{"$f":"IF(E127=\"\",\"\",IF(COUNTIF($V$7:V127,V127)=1,\"\",dcall))","v":""},{"$f":"IF(N127>1,COUNTIF($H$7:H127,H127),7)","v":7},1,1,null,null,null,"",":","","0","",""]
[null,122,"","","",null,null,"",null,"","",{"$f":"IF(E128=\"\",\"\",IF(COUNTIF($V$7:V128,V128)=1,\"\",dcall))","v":""},{"$f":"IF(N128>1,COUNTIF($H$7:H128,H128),7)","v":7},1,1,null,null,null,"",":","","0","",""]
[null,123,"","","",null,null,"",null,"","",{"$f":"IF(E129=\"\",\"\",IF(COUNTIF($V$7:V129,V129)=1,\"\",dcall))","v":""},{"$f":"IF(N129>1,COUNTIF($H$7:H129,H129),7)","v":7},1,1,null,null,null,"",":","","0","",""]
[null,124,"","","",null,null,"",null,"","",{"$f":"IF(E130=\"\",\"\",IF(COUNTIF($V$7:V130,V130)=1,\"\",dcall))","v":""},{"$f":"IF(N130>1,COUNTIF($H$7:H130,H130),7)","v":7},1,1,null,null,null,"",":","","0","",""]
[null,125,"","","",null,null,"",null,"","",{"$f":"IF(E131=\"\",\"\",IF(COUNTIF($V$7:V131,V131)=1,\"\",dcall))","v":""},{"$f":"IF(N131>1,COUNTIF($H$7:H131,H131),7)","v":7},1,1,null,null,null,"",":","","0","",""]
[null,126,"","","",null,null,"",null,"","",{"$f":"IF(E132=\"\",\"\",IF(COUNTIF($V$7:V132,V132)=1,\"\",dcall))","v":""},{"$f":"IF(N132>1,COUNTIF($H$7:H132,H132),7)","v":7},1,1,null,null,null,"",":","","0","",""]
[null,127,"","","",null,null,"",null,"","",{"$f":"IF(E133=\"\",\"\",IF(COUNTIF($V$7:V133,V133)=1,\"\",dcall))","v":""},{"$f":"IF(N133>1,COUNTIF($H$7:H133,H133),7)","v":7},1,1,null,null,null,"",":","","0","",""]
[null,128,"","","",null,null,"",null,"","",{"$f":"IF(E134=\"\",\"\",IF(COUNTIF($V$7:V134,V134)=1,\"\",dcall))","v":""},{"$f":"IF(N134>1,COUNTIF($H$7:H134,H134),7)","v":7},1,1,null,null,null,"",":","","0","",""]
[null,129,"","","",null,null,"",null,"","",{"$f":"IF(E135=\"\",\"\",IF(COUNTIF($V$7:V135,V135)=1,\"\",dcall))","v":""},{"$f":"IF(N135>1,COUNTIF($H$7:H135,H135),7)","v":7},1,1,null,null,null,"",":","","0","",""]
[null,130,{"$f":"IF(F136>0,date1,\"\")","v":""},"","",null,null,"",null,"","",{"$f":"IF(E136=\"\",\"\",IF(COUNTIF($V$7:V136,V136)=1,\"\",dcall))","v":""},{"$f":"IF(N136>1,COUNTIF($H$7:H136,H136),7)","v":7},{"$f":"IF(COUNTIF(dokli,H136)>0,5,IF(COUNTIF(vfdbdok,H136)>0,10,1))","v":1},1,null,null,null,"",":",{"$f":"UPPER(E136)","v":""},{"$f":"CONCATENATE(E136,LEN(G136))","v":"0"},"",""]
[null,131,"","","",null,null,"",null,"","",{"$f":"IF(E137=\"\",\"\",IF(COUNTIF($V$7:V137,V137)=1,\"\",dcall))","v":""},{"$f":"IF(N137>1,COUNTIF($H$7:H137,H137),7)","v":7},1,{"$f":"IF(H137=dok,0,N137)","v":1},null,null,null,{"$f":"UPPER(SUBSTITUTE(H137,\" \",\"\",1))","v":""},":","","0","",""]
[null,132,"","","",null,null,"",null,{"$f":"IF(E138=\"\",\"\",IF(L138=\"\",O138,0))","v":""},{"$f":"IF(E138=\"\",\"\",IF(M138=1,1,\"\"))","v":""},{"$f":"IF(E138=\"\",\"\",IF(COUNTIF($V$7:V138,V138)=1,\"\",dcall))","v":""},{"$f":"IF(N138>1,COUNTIF($H$7:H138,H138),7)","v":7},1,1,null,null,null,"",":","","0","",""]
[null,133,"","","",null,null,"",null,"","",{"$f":"IF(E139=\"\",\"\",IF(COUNTIF($V$7:V139,V139)=1,\"\",dcall))","v":""},{"$f":"IF(N139>1,COUNTIF($H$7:H139,H139),7)","v":7},1,1,null,null,null,"",":","","0",{"$f":"IF(X139=\":\",IF(LEN(D139)=4,CONCATENATE(\"0\",LEFT(D139,1),RIGHT(D139,2)),D139),IF(LEN(D139)=3,CONCATENATE(\"0\",D139),D139))","v":""},{"$f":"IF(LEN(D139)=4,MID(D139,2,1),MID(D139,3,1))","v":""}]
[null,134,"","","",null,null,"",null,"","",{"$f":"IF(E140=\"\",\"\",IF(COUNTIF($V$7:V140,V140)=1,\"\",dcall))","v":""},{"$f":"IF(N140>1,COUNTIF($H$7:H140,H140),7)","v":7},1,1,null,null,null,"",{"$f":"IF(W140=0,\"\",IF(W140=5,W140,CONCATENATE(LEFT(W140,2),\":\",RIGHT(W140,2))))","v":":"},"","0","",""]
[null,135,"","","",null,null,"",null,"","",{"$f":"IF(E141=\"\",\"\",IF(COUNTIF($V$7:V141,V141)=1,\"\",dcall))","v":""},{"$f":"IF(N141>1,COUNTIF($H$7:H141,H141),7)","v":7},1,1,null,null,null,"",":","","0","",""]
[null,136,"","","",null,null,"",null,"","",{"$f":"IF(E142=\"\",\"\",IF(COUNTIF($V$7:V142,V142)=1,\"\",dcall))","v":""},{"$f":"IF(N142>1,COUNTIF($H$7:H142,H142),7)","v":7},1,1,null,null,null,"",":","","0","",""]
[null,137,"","","",null,null,"",null,"","",{"$f":"IF(E143=\"\",\"\",IF(COUNTIF($V$7:V143,V143)=1,\"\",dcall))","v":""},{"$f":"IF(N143>1,COUNTIF($H$7:H143,H143),7)","v":7},1,1,null,null,null,"",":","","0","",""]
[null,138,"","","",null,null,"",null,"","",{"$f":"IF(E144=\"\",\"\",IF(COUNTIF($V$7:V144,V144)=1,\"\",dcall))","v":""},{"$f":"IF(N144>1,COUNTIF($H$7:H144,H144),7)","v":7},1,1,null,null,null,"",":","","0","",""]
[null,139,"","","",null,null,"",null,"","",{"$f":"IF(E145=\"\",\"\",IF(COUNTIF($V$7:V145,V145)=1,\"\",dcall))","v":""},{"$f":"IF(N145>1,COUNTIF($H$7:H145,H145),7)","v":7},1,1,null,null,null,"",":","","0","",""]
[null,140,"","","",null,null,"",null,"","",{"$f":"IF(E146=\"\",\"\",IF(COUNTIF($V$7:V146,V146)=1,\"\",dcall))","v":""},{"$f":"IF(N146>1,COUNTIF($H$7:H146,H146),7)","v":7},1,1,null,null,null,"",":","","0","",""]
[null,141,"","","",null,null,"",null,"","",{"$f":"IF(E147=\"\",\"\",IF(COUNTIF($V$7:V147,V147)=1,\"\",dcall))","v":""},{"$f":"IF(N147>1,COUNTIF($H$7:H147,H147),7)","v":7},1,1,null,null,null,"",":","","0","",""]
[null,142,"","","",null,null,"",null,"","",{"$f":"IF(E148=\"\",\"\",IF(COUNTIF($V$7:V148,V148)=1,\"\",dcall))","v":""},{"$f":"IF(N148>1,COUNTIF($H$7:H148,H148),7)","v":7},1,1,null,null,null,"",":","","0","",""]
[null,143,"","","",null,null,"",null,"","",{"$f":"IF(E149=\"\",\"\",IF(COUNTIF($V$7:V149,V149)=1,\"\",dcall))","v":""},{"$f":"IF(N149>1,COUNTIF($H$7:H149,H149),7)","v":7},1,1,null,null,null,"",":","","0","",""]
[null,144,"","","",null,null,"",null,"","",{"$f":"IF(E150=\"\",\"\",IF(COUNTIF($V$7:V150,V150)=1,\"\",dcall))","v":""},{"$f":"IF(N150>1,COUNTIF($H$7:H150,H150),7)","v":7},1,1,null,null,null,"",":","","0","",""]
[null,145,"","","",null,null,"",null,"","",{"$f":"IF(E151=\"\",\"\",IF(COUNTIF($V$7:V151,V151)=1,\"\",dcall))","v":""},{"$f":"IF(N151>1,COUNTIF($H$7:H151,H151),7)","v":7},1,1,null,null,null,"",":","","0","",""]
[null,146,"","","",null,null,"",null,"","",{"$f":"IF(E152=\"\",\"\",IF(COUNTIF($V$7:V152,V152)=1,\"\",dcall))","v":""},{"$f":"IF(N152>1,COUNTIF($H$7:H152,H152),7)","v":7},1,1,null,null,null,"",":","","0","",""]
[null,147,"","","",null,null,"",null,"","",{"$f":"IF(E153=\"\",\"\",IF(COUNTIF($V$7:V153,V153)=1,\"\",dcall))","v":""},{"$f":"IF(N153>1,COUNTIF($H$7:H153,H153),7)","v":7},1,1,null,null,null,"",":","","0","",""]
[null,148,"","","",null,null,"",null,"","",{"$f":"IF(E154=\"\",\"\",IF(COUNTIF($V$7:V154,V154)=1,\"\",dcall))","v":""},{"$f":"IF(N154>1,COUNTIF($H$7:H154,H154),7)","v":7},1,1,null,null,null,"",":","","0","",""]
[null,149,"","","",null,null,"",null,"","",{"$f":"IF(E155=\"\",\"\",IF(COUNTIF($V$7:V155,V155)=1,\"\",dcall))","v":""},{"$f":"IF(N155>1,COUNTIF($H$7:H155,H155),7)","v":7},1,1,null,null,null,"",":","","0","",""]
[null,150,"","","",null,null,"",null,"","",{"$f":"IF(E156=\"\",\"\",IF(COUNTIF($V$7:V156,V156)=1,\"\",dcall))","v":""},{"$f":"IF(N156>1,COUNTIF($H$7:H156,H156),7)","v":7},1,1,null,null,null,"",":","","0","",""]
[null,151,"","","",null,null,"",null,"","",{"$f":"IF(E157=\"\",\"\",IF(COUNTIF($V$7:V157,V157)=1,\"\",dcall))","v":""},{"$f":"IF(N157>1,COUNTIF($H$7:H157,H157),7)","v":7},1,1,null,null,null,"",":","","0","",""]
[null,152,"","","",null,null,"",null,"","",{"$f":"IF(E158=\"\",\"\",IF(COUNTIF($V$7:V158,V158)=1,\"\",dcall))","v":""},{"$f":"IF(N158>1,COUNTIF($H$7:H158,H158),7)","v":7},1,1,null,null,null,"",":","","0","",""]
[null,153,"","","",null,null,"",null,"","",{"$f":"IF(E159=\"\",\"\",IF(COUNTIF($V$7:V159,V159)=1,\"\",dcall))","v":""},{"$f":"IF(N159>1,COUNTIF($H$7:H159,H159),7)","v":7},1,1,null,null,null,"",":","","0","",""]
[null,154,"","","",null,null,"",null,"","",{"$f":"IF(E160=\"\",\"\",IF(COUNTIF($V$7:V160,V160)=1,\"\",dcall))","v":""},{"$f":"IF(N160>1,COUNTIF($H$7:H160,H160),7)","v":7},1,1,null,null,null,"",":","","0","",""]
[null,155,"","","",null,null,"",null,"","",{"$f":"IF(E161=\"\",\"\",IF(COUNTIF($V$7:V161,V161)=1,\"\",dcall))","v":""},{"$f":"IF(N161>1,COUNTIF($H$7:H161,H161),7)","v":7},1,1,null,null,null,"",":","","0","",""]
[null,156,"","","",null,null,"",null,"","",{"$f":"IF(E162=\"\",\"\",IF(COUNTIF($V$7:V162,V162)=1,\"\",dcall))","v":""},{"$f":"IF(N162>1,COUNTIF($H$7:H162,H162),7)","v":7},1,1,null,null,null,"",":","","0","",""]
[null,157,"","","",null,null,"",null,"","",{"$f":"IF(E163=\"\",\"\",IF(COUNTIF($V$7:V163,V163)=1,\"\",dcall))","v":""},{"$f":"IF(N163>1,COUNTIF($H$7:H163,H163),7)","v":7},1,1,null,null,null,"",":","","0","",""]
[null,158,"","","",null,null,"",null,"","",{"$f":"IF(E164=\"\",\"\",IF(COUNTIF($V$7:V164,V164)=1,\"\",dcall))","v":""},{"$f":"IF(N164>1,COUNTIF($H$7:H164,H164),7)","v":7},1,1,null,null,null,"",":","","0","",""]
[null,159,"","","",null,null,"",null,"","",{"$f":"IF(E165=\"\",\"\",IF(COUNTIF($V$7:V165,V165)=1,\"\",dcall))","v":""},{"$f":"IF(N165>1,COUNTIF($H$7:H165,H165),7)","v":7},1,1,null,null,null,"",":","","0","",""]
[null,160,"","","",null,null,"",null,"","",{"$f":"IF(E166=\"\",\"\",IF(COUNTIF($V$7:V166,V166)=1,\"\",dcall))","v":""},{"$f":"IF(N166>1,COUNTIF($H$7:H166,H166),7)","v":7},1,1,null,null,null,"",":","","0","",""]
[null,161,"","","",null,null,"",null,"","",{"$f":"IF(E167=\"\",\"\",IF(COUNTIF($V$7:V167,V167)=1,\"\",dcall))","v":""},{"$f":"IF(N167>1,COUNTIF($H$7:H167,H167),7)","v":7},1,1,null,null,null,"",":","","0","",""]
[null,162,"","","",null,null,"",null,"","",{"$f":"IF(E168=\"\",\"\",IF(COUNTIF($V$7:V168,V168)=1,\"\",dcall))","v":""},{"$f":"IF(N168>1,COUNTIF($H$7:H168,H168),7)","v":7},1,1,null,null,null,"",":","","0","",""]
[null,163,"","","",null,null,"",null,"","",{"$f":"IF(E169=\"\",\"\",IF(COUNTIF($V$7:V169,V169)=1,\"\",dcall))","v":""},{"$f":"IF(N169>1,COUNTIF($H$7:H169,H169),7)","v":7},1,1,null,null,null,"",":","","0","",""]
[null,164,"","","",null,null,"",null,"","",{"$f":"IF(E170=\"\",\"\",IF(COUNTIF($V$7:V170,V170)=1,\"\",dcall))","v":""},{"$f":"IF(N170>1,COUNTIF($H$7:H170,H170),7)","v":7},1,1,null,null,null,"",":","","0","",""]
[null,165,"","","",null,null,"",null,"","",{"$f":"IF(E171=\"\",\"\",IF(COUNTIF($V$7:V171,V171)=1,\"\",dcall))","v":""},{"$f":"IF(N171>1,COUNTIF($H$7:H171,H171),7)","v":7},1,1,null,null,null,"",":","","0","",""]
[null,166,"","","",null,null,"",null,"","",{"$f":"IF(E172=\"\",\"\",IF(COUNTIF($V$7:V172,V172)=1,\"\",dcall))","v":""},{"$f":"IF(N172>1,COUNTIF($H$7:H172,H172),7)","v":7},1,1,null,null,null,"",":","","0","",""]
[null,167,"","","",null,null,"",null,"","",{"$f":"IF(E173=\"\",\"\",IF(COUNTIF($V$7:V173,V173)=1,\"\",dcall))","v":""},{"$f":"IF(N173>1,COUNTIF($H$7:H173,H173),7)","v":7},1,1,null,null,null,"",":","","0","",""]
[null,168,"","","",null,null,"",null,"","",{"$f":"IF(E174=\"\",\"\",IF(COUNTIF($V$7:V174,V174)=1,\"\",dcall))","v":""},{"$f":"IF(N174>1,COUNTIF($H$7:H174,H174),7)","v":7},1,1,null,null,null,"",":","","0","",""]
[null,169,"","","",null,null,"",null,"","",{"$f":"IF(E175=\"\",\"\",IF(COUNTIF($V$7:V175,V175)=1,\"\",dcall))","v":""},{"$f":"IF(N175>1,COUNTIF($H$7:H175,H175),7)","v":7},1,1,null,null,null,"",":","","0","",""]
[null,170,"","","",null,null,"",null,"","",{"$f":"IF(E176=\"\",\"\",IF(COUNTIF($V$7:V176,V176)=1,\"\",dcall))","v":""},{"$f":"IF(N176>1,COUNTIF($H$7:H176,H176),7)","v":7},1,1,null,null,null,"",":","","0","",""]
[null,171,"","","",null,null,"",null,"","",{"$f":"IF(E177=\"\",\"\",IF(COUNTIF($V$7:V177,V177)=1,\"\",dcall))","v":""},{"$f":"IF(N177>1,COUNTIF($H$7:H177,H177),7)","v":7},1,1,null,null,null,"",":","","0","",""]
[null,172,"","","",null,null,"",null,"","",{"$f":"IF(E178=\"\",\"\",IF(COUNTIF($V$7:V178,V178)=1,\"\",dcall))","v":""},{"$f":"IF(N178>1,COUNTIF($H$7:H178,H178),7)","v":7},1,1,null,null,null,"",":","","0","",""]
[null,173,"","","",null,null,"",null,"","",{"$f":"IF(E179=\"\",\"\",IF(COUNTIF($V$7:V179,V179)=1,\"\",dcall))","v":""},{"$f":"IF(N179>1,COUNTIF($H$7:H179,H179),7)","v":7},1,1,null,null,null,"",":","","0","",""]
[null,174,"","","",null,null,"",null,"","",{"$f":"IF(E180=\"\",\"\",IF(COUNTIF($V$7:V180,V180)=1,\"\",dcall))","v":""},{"$f":"IF(N180>1,COUNTIF($H$7:H180,H180),7)","v":7},1,1,null,null,null,"",":","","0","",""]
[null,175,"","","",null,null,"",null,"","",{"$f":"IF(E181=\"\",\"\",IF(COUNTIF($V$7:V181,V181)=1,\"\",dcall))","v":""},{"$f":"IF(N181>1,COUNTIF($H$7:H181,H181),7)","v":7},1,1,null,null,null,"",":","","0","",""]
[null,176,"","","",null,null,"",null,"","",{"$f":"IF(E182=\"\",\"\",IF(COUNTIF($V$7:V182,V182)=1,\"\",dcall))","v":""},{"$f":"IF(N182>1,COUNTIF($H$7:H182,H182),7)","v":7},1,1,null,null,null,"",":","","0","",""]
[null,177,"","","",null,null,"",null,"","",{"$f":"IF(E183=\"\",\"\",IF(COUNTIF($V$7:V183,V183)=1,\"\",dcall))","v":""},{"$f":"IF(N183>1,COUNTIF($H$7:H183,H183),7)","v":7},1,1,null,null,null,"",":","","0","",""]
[null,178,"","","",null,null,"",null,"","",{"$f":"IF(E184=\"\",\"\",IF(COUNTIF($V$7:V184,V184)=1,\"\",dcall))","v":""},{"$f":"IF(N184>1,COUNTIF($H$7:H184,H184),7)","v":7},1,1,null,null,null,"",":","","0","",""]
[null,179,"","","",null,null,"",null,"","",{"$f":"IF(E185=\"\",\"\",IF(COUNTIF($V$7:V185,V185)=1,\"\",dcall))","v":""},{"$f":"IF(N185>1,COUNTIF($H$7:H185,H185),7)","v":7},1,1,null,null,null,"",":","","0","",""]
[null,180,"","","",null,null,"",null,"","",{"$f":"IF(E186=\"\",\"\",IF(COUNTIF($V$7:V186,V186)=1,\"\",dcall))","v":""},{"$f":"IF(N186>1,COUNTIF($H$7:H186,H186),7)","v":7},1,1,null,null,null,"",":","","0","",""]
[null,181,"","","",null,null,"",null,"","",{"$f":"IF(E187=\"\",\"\",IF(COUNTIF($V$7:V187,V187)=1,\"\",dcall))","v":""},{"$f":"IF(N187>1,COUNTIF($H$7:H187,H187),7)","v":7},1,1,null,null,null,"",":","","0","",""]
[null,182,"","","",null,null,"",null,"","",{"$f":"IF(E188=\"\",\"\",IF(COUNTIF($V$7:V188,V188)=1,\"\",dcall))","v":""},{"$f":"IF(N188>1,COUNTIF($H$7:H188,H188),7)","v":7},1,1,null,null,null,"",":","","0","",""]
[null,183,"","","",null,null,"",null,"","",{"$f":"IF(E189=\"\",\"\",IF(COUNTIF($V$7:V189,V189)=1,\"\",dcall))","v":""},{"$f":"IF(N189>1,COUNTIF($H$7:H189,H189),7)","v":7},1,1,null,null,null,"",":","","0","",""]
[null,184,"","","",null,null,"",null,"","",{"$f":"IF(E190=\"\",\"\",IF(COUNTIF($V$7:V190,V190)=1,\"\",dcall))","v":""},{"$f":"IF(N190>1,COUNTIF($H$7:H190,H190),7)","v":7},1,1,null,null,null,"",":","","0","",""]
[null,185,"","","",null,null,"",null,"","",{"$f":"IF(E191=\"\",\"\",IF(COUNTIF($V$7:V191,V191)=1,\"\",dcall))","v":""},{"$f":"IF(N191>1,COUNTIF($H$7:H191,H191),7)","v":7},1,1,null,null,null,"",":","","0","",""]
[null,186,"","","",null,null,"",null,"","",{"$f":"IF(E192=\"\",\"\",IF(COUNTIF($V$7:V192,V192)=1,\"\",dcall))","v":""},{"$f":"IF(N192>1,COUNTIF($H$7:H192,H192),7)","v":7},1,1,null,null,null,"",":","","0","",""]
[null,187,"","","",null,null,"",null,"","",{"$f":"IF(E193=\"\",\"\",IF(COUNTIF($V$7:V193,V193)=1,\"\",dcall))","v":""},{"$f":"IF(N193>1,COUNTIF($H$7:H193,H193),7)","v":7},1,1,null,null,null,"",":","","0","",""]
[null,188,"","","",null,null,"",null,"","",{"$f":"IF(E194=\"\",\"\",IF(COUNTIF($V$7:V194,V194)=1,\"\",dcall))","v":""},{"$f":"IF(N194>1,COUNTIF($H$7:H194,H194),7)","v":7},1,1,null,null,null,"",":","","0","",""]
[null,189,"","","",null,null,"",null,"","",{"$f":"IF(E195=\"\",\"\",IF(COUNTIF($V$7:V195,V195)=1,\"\",dcall))","v":""},{"$f":"IF(N195>1,COUNTIF($H$7:H195,H195),7)","v":7},1,1,null,null,null,"",":","","0","",""]
[null,190,"","","",null,null,"",null,"","",{"$f":"IF(E196=\"\",\"\",IF(COUNTIF($V$7:V196,V196)=1,\"\",dcall))","v":""},{"$f":"IF(N196>1,COUNTIF($H$7:H196,H196),7)","v":7},1,1,null,null,null,"",":","","0","",""]
[null,191,"","","",null,null,"",null,"","",{"$f":"IF(E197=\"\",\"\",IF(COUNTIF($V$7:V197,V197)=1,\"\",dcall))","v":""},{"$f":"IF(N197>1,COUNTIF($H$7:H197,H197),7)","v":7},1,1,null,null,null,"",":","","0","",""]
[null,192,"","","",null,null,"",null,"","",{"$f":"IF(E198=\"\",\"\",IF(COUNTIF($V$7:V198,V198)=1,\"\",dcall))","v":""},{"$f":"IF(N198>1,COUNTIF($H$7:H198,H198),7)","v":7},1,1,null,null,null,"",":","","0","",""]
[null,193,"","","",null,null,"",null,"","",{"$f":"IF(E199=\"\",\"\",IF(COUNTIF($V$7:V199,V199)=1,\"\",dcall))","v":""},{"$f":"IF(N199>1,COUNTIF($H$7:H199,H199),7)","v":7},1,1,null,null,null,"",":","","0","",""]
[null,194,{"$f":"IF(F200>0,date1,\"\")","v":""},"","",null,null,"",null,"","",{"$f":"IF(E200=\"\",\"\",IF(COUNTIF($V$7:V200,V200)=1,\"\",dcall))","v":""},{"$f":"IF(N200>1,COUNTIF($H$7:H200,H200),7)","v":7},{"$f":"IF(COUNTIF(dokli,H200)>0,5,IF(COUNTIF(vfdbdok,H200)>0,10,1))","v":1},1,null,null,null,"",":",{"$f":"UPPER(E200)","v":""},{"$f":"CONCATENATE(E200,LEN(G200))","v":"0"},"",""]
[null,195,"","","",null,null,"",null,"","",{"$f":"IF(E201=\"\",\"\",IF(COUNTIF($V$7:V201,V201)=1,\"\",dcall))","v":""},{"$f":"IF(N201>1,COUNTIF($H$7:H201,H201),7)","v":7},1,{"$f":"IF(H201=dok,0,N201)","v":1},null,null,null,{"$f":"UPPER(SUBSTITUTE(H201,\" \",\"\",1))","v":""},":","","0","",""]
[null,196,"","","",null,null,"",null,{"$f":"IF(E202=\"\",\"\",IF(L202=\"\",O202,0))","v":""},{"$f":"IF(E202=\"\",\"\",IF(M202=1,1,\"\"))","v":""},{"$f":"IF(E202=\"\",\"\",IF(COUNTIF($V$7:V202,V202)=1,\"\",dcall))","v":""},{"$f":"IF(N202>1,COUNTIF($H$7:H202,H202),7)","v":7},1,1,null,null,null,"",":","","0","",""]
[null,197,"","","",null,null,"",null,"","",{"$f":"IF(E203=\"\",\"\",IF(COUNTIF($V$7:V203,V203)=1,\"\",dcall))","v":""},{"$f":"IF(N203>1,COUNTIF($H$7:H203,H203),7)","v":7},1,1,null,null,null,"",":","","0",{"$f":"IF(X203=\":\",IF(LEN(D203)=4,CONCATENATE(\"0\",LEFT(D203,1),RIGHT(D203,2)),D203),IF(LEN(D203)=3,CONCATENATE(\"0\",D203),D203))","v":""},{"$f":"IF(LEN(D203)=4,MID(D203,2,1),MID(D203,3,1))","v":""}]
[null,198,"","","",null,null,"",null,"","",{"$f":"IF(E204=\"\",\"\",IF(COUNTIF($V$7:V204,V204)=1,\"\",dcall))","v":""},{"$f":"IF(N204>1,COUNTIF($H$7:H204,H204),7)","v":7},1,1,null,null,null,"",{"$f":"IF(W204=0,\"\",IF(W204=5,W204,CONCATENATE(LEFT(W204,2),\":\",RIGHT(W204,2))))","v":":"},"","0","",""]
[null,199,"","","",null,null,"",null,"","",{"$f":"IF(E205=\"\",\"\",IF(COUNTIF($V$7:V205,V205)=1,\"\",dcall))","v":""},{"$f":"IF(N205>1,COUNTIF($H$7:H205,H205),7)","v":7},1,1,null,null,null,"",":","","0","",""]
[null,200,"","","",null,null,"",null,"","",{"$f":"IF(E206=\"\",\"\",IF(COUNTIF($V$7:V206,V206)=1,\"\",dcall))","v":""},{"$f":"IF(N206>1,COUNTIF($H$7:H206,H206),7)","v":7},1,1,null,null,null,"",":","","0","",""]
[null,201,"","","",null,null,"",null,"","",{"$f":"IF(E207=\"\",\"\",IF(COUNTIF($V$7:V207,V207)=1,\"\",dcall))","v":""},{"$f":"IF(N207>1,COUNTIF($H$7:H207,H207),7)","v":7},1,1,null,null,null,"",":","","0","",""]
[null,202,"","","",null,null,"",null,"","",{"$f":"IF(E208=\"\",\"\",IF(COUNTIF($V$7:V208,V208)=1,\"\",dcall))","v":""},{"$f":"IF(N208>1,COUNTIF($H$7:H208,H208),7)","v":7},1,1,null,null,null,"",":","","0","",""]
[null,203,"","","",null,null,"",null,"","",{"$f":"IF(E209=\"\",\"\",IF(COUNTIF($V$7:V209,V209)=1,\"\",dcall))","v":""},{"$f":"IF(N209>1,COUNTIF($H$7:H209,H209),7)","v":7},1,1,null,null,null,"",":","","0","",""]
[null,204,"","","",null,null,"",null,"","",{"$f":"IF(E210=\"\",\"\",IF(COUNTIF($V$7:V210,V210)=1,\"\",dcall))","v":""},{"$f":"IF(N210>1,COUNTIF($H$7:H210,H210),7)","v":7},1,1,null,null,null,"",":","","0","",""]
[null,205,"","","",null,null,"",null,"","",{"$f":"IF(E211=\"\",\"\",IF(COUNTIF($V$7:V211,V211)=1,\"\",dcall))","v":""},{"$f":"IF(N211>1,COUNTIF($H$7:H211,H211),7)","v":7},1,1,null,null,null,"",":","","0","",""]
[null,206,"","","",null,null,"",null,"","",{"$f":"IF(E212=\"\",\"\",IF(COUNTIF($V$7:V212,V212)=1,\"\",dcall))","v":""},{"$f":"IF(N212>1,COUNTIF($H$7:H212,H212),7)","v":7},1,1,null,null,null,"",":","","0","",""]
[null,207,"","","",null,null,"",null,"","",{"$f":"IF(E213=\"\",\"\",IF(COUNTIF($V$7:V213,V213)=1,\"\",dcall))","v":""},{"$f":"IF(N213>1,COUNTIF($H$7:H213,H213),7)","v":7},1,1,null,null,null,"",":","","0","",""]
[null,208,"","","",null,null,"",null,"","",{"$f":"IF(E214=\"\",\"\",IF(COUNTIF($V$7:V214,V214)=1,\"\",dcall))","v":""},{"$f":"IF(N214>1,COUNTIF($H$7:H214,H214),7)","v":7},1,1,null,null,null,"",":","","0","",""]
[null,209,"","","",null,null,"",null,"","",{"$f":"IF(E215=\"\",\"\",IF(COUNTIF($V$7:V215,V215)=1,\"\",dcall))","v":""},{"$f":"IF(N215>1,COUNTIF($H$7:H215,H215),7)","v":7},1,1,null,null,null,"",":","","0","",""]
[null,210,"","","",null,null,"",null,"","",{"$f":"IF(E216=\"\",\"\",IF(COUNTIF($V$7:V216,V216)=1,\"\",dcall))","v":""},{"$f":"IF(N216>1,COUNTIF($H$7:H216,H216),7)","v":7},1,1,null,null,null,"",":","","0","",""]
[null,211,"","","",null,null,"",null,"","",{"$f":"IF(E217=\"\",\"\",IF(COUNTIF($V$7:V217,V217)=1,\"\",dcall))","v":""},{"$f":"IF(N217>1,COUNTIF($H$7:H217,H217),7)","v":7},1,1,null,null,null,"",":","","0","",""]
[null,212,"","","",null,null,"",null,"","",{"$f":"IF(E218=\"\",\"\",IF(COUNTIF($V$7:V218,V218)=1,\"\",dcall))","v":""},{"$f":"IF(N218>1,COUNTIF($H$7:H218,H218),7)","v":7},1,1,null,null,null,"",":","","0","",""]
[null,213,"","","",null,null,"",null,"","",{"$f":"IF(E219=\"\",\"\",IF(COUNTIF($V$7:V219,V219)=1,\"\",dcall))","v":""},{"$f":"IF(N219>1,COUNTIF($H$7:H219,H219),7)","v":7},1,1,null,null,null,"",":","","0","",""]
[null,214,"","","",null,null,"",null,"","",{"$f":"IF(E220=\"\",\"\",IF(COUNTIF($V$7:V220,V220)=1,\"\",dcall))","v":""},{"$f":"IF(N220>1,COUNTIF($H$7:H220,H220),7)","v":7},1,1,null,null,null,"",":","","0","",""]
[null,215,"","","",null,null,"",null,"","",{"$f":"IF(E221=\"\",\"\",IF(COUNTIF($V$7:V221,V221)=1,\"\",dcall))","v":""},{"$f":"IF(N221>1,COUNTIF($H$7:H221,H221),7)","v":7},1,1,null,null,null,"",":","","0","",""]
[null,216,"","","",null,null,"",null,"","",{"$f":"IF(E222=\"\",\"\",IF(COUNTIF($V$7:V222,V222)=1,\"\",dcall))","v":""},{"$f":"IF(N222>1,COUNTIF($H$7:H222,H222),7)","v":7},1,1,null,null,null,"",":","","0","",""]
[null,217,"","","",null,null,"",null,"","",{"$f":"IF(E223=\"\",\"\",IF(COUNTIF($V$7:V223,V223)=1,\"\",dcall))","v":""},{"$f":"IF(N223>1,COUNTIF($H$7:H223,H223),7)","v":7},1,1,null,null,null,"",":","","0","",""]
[null,218,"","","",null,null,"",null,"","",{"$f":"IF(E224=\"\",\"\",IF(COUNTIF($V$7:V224,V224)=1,\"\",dcall))","v":""},{"$f":"IF(N224>1,COUNTIF($H$7:H224,H224),7)","v":7},1,1,null,null,null,"",":","","0","",""]
[null,219,"","","",null,null,"",null,"","",{"$f":"IF(E225=\"\",\"\",IF(COUNTIF($V$7:V225,V225)=1,\"\",dcall))","v":""},{"$f":"IF(N225>1,COUNTIF($H$7:H225,H225),7)","v":7},1,1,null,null,null,"",":","","0","",""]
[null,220,"","","",null,null,"",null,"","",{"$f":"IF(E226=\"\",\"\",IF(COUNTIF($V$7:V226,V226)=1,\"\",dcall))","v":""},{"$f":"IF(N226>1,COUNTIF($H$7:H226,H226),7)","v":7},1,1,null,null,null,"",":","","0","",""]
[null,221,"","","",null,null,"",null,"","",{"$f":"IF(E227=\"\",\"\",IF(COUNTIF($V$7:V227,V227)=1,\"\",dcall))","v":""},{"$f":"IF(N227>1,COUNTIF($H$7:H227,H227),7)","v":7},1,1,null,null,null,"",":","","0","",""]
[null,222,"","","",null,null,"",null,"","",{"$f":"IF(E228=\"\",\"\",IF(COUNTIF($V$7:V228,V228)=1,\"\",dcall))","v":""},{"$f":"IF(N228>1,COUNTIF($H$7:H228,H228),7)","v":7},1,1,null,null,null,"",":","","0","",""]
[null,223,"","","",null,null,"",null,"","",{"$f":"IF(E229=\"\",\"\",IF(COUNTIF($V$7:V229,V229)=1,\"\",dcall))","v":""},{"$f":"IF(N229>1,COUNTIF($H$7:H229,H229),7)","v":7},1,1,null,null,null,"",":","","0","",""]
[null,224,"","","",null,null,"",null,"","",{"$f":"IF(E230=\"\",\"\",IF(COUNTIF($V$7:V230,V230)=1,\"\",dcall))","v":""},{"$f":"IF(N230>1,COUNTIF($H$7:H230,H230),7)","v":7},1,1,null,null,null,"",":","","0","",""]
[null,225,"","","",null,null,"",null,"","",{"$f":"IF(E231=\"\",\"\",IF(COUNTIF($V$7:V231,V231)=1,\"\",dcall))","v":""},{"$f":"IF(N231>1,COUNTIF($H$7:H231,H231),7)","v":7},1,1,null,null,null,"",":","","0","",""]
[null,226,"","","",null,null,"",null,"","",{"$f":"IF(E232=\"\",\"\",IF(COUNTIF($V$7:V232,V232)=1,\"\",dcall))","v":""},{"$f":"IF(N232>1,COUNTIF($H$7:H232,H232),7)","v":7},1,1,null,null,null,"",":","","0","",""]
[null,227,"","","",null,null,"",null,"","",{"$f":"IF(E233=\"\",\"\",IF(COUNTIF($V$7:V233,V233)=1,\"\",dcall))","v":""},{"$f":"IF(N233>1,COUNTIF($H$7:H233,H233),7)","v":7},1,1,null,null,null,"",":","","0","",""]
[null,228,"","","",null,null,"",null,"","",{"$f":"IF(E234=\"\",\"\",IF(COUNTIF($V$7:V234,V234)=1,\"\",dcall))","v":""},{"$f":"IF(N234>1,COUNTIF($H$7:H234,H234),7)","v":7},1,1,null,null,null,"",":","","0","",""]
[null,229,"","","",null,null,"",null,"","",{"$f":"IF(E235=\"\",\"\",IF(COUNTIF($V$7:V235,V235)=1,\"\",dcall))","v":""},{"$f":"IF(N235>1,COUNTIF($H$7:H235,H235),7)","v":7},1,1,null,null,null,"",":","","0","",""]
[null,230,"","","",null,null,"",null,"","",{"$f":"IF(E236=\"\",\"\",IF(COUNTIF($V$7:V236,V236)=1,\"\",dcall))","v":""},{"$f":"IF(N236>1,COUNTIF($H$7:H236,H236),7)","v":7},1,1,null,null,null,"",":","","0","",""]
[null,231,"","","",null,null,"",null,"","",{"$f":"IF(E237=\"\",\"\",IF(COUNTIF($V$7:V237,V237)=1,\"\",dcall))","v":""},{"$f":"IF(N237>1,COUNTIF($H$7:H237,H237),7)","v":7},1,1,null,null,null,"",":","","0","",""]
[null,232,"","","",null,null,"",null,"","",{"$f":"IF(E238=\"\",\"\",IF(COUNTIF($V$7:V238,V238)=1,\"\",dcall))","v":""},{"$f":"IF(N238>1,COUNTIF($H$7:H238,H238),7)","v":7},1,1,null,null,null,"",":","","0","",""]
[null,233,"","","",null,null,"",null,"","",{"$f":"IF(E239=\"\",\"\",IF(COUNTIF($V$7:V239,V239)=1,\"\",dcall))","v":""},{"$f":"IF(N239>1,COUNTIF($H$7:H239,H239),7)","v":7},1,1,null,null,null,"",":","","0","",""]
[null,234,"","","",null,null,"",null,"","",{"$f":"IF(E240=\"\",\"\",IF(COUNTIF($V$7:V240,V240)=1,\"\",dcall))","v":""},{"$f":"IF(N240>1,COUNTIF($H$7:H240,H240),7)","v":7},1,1,null,null,null,"",":","","0","",""]
[null,235,"","","",null,null,"",null,"","",{"$f":"IF(E241=\"\",\"\",IF(COUNTIF($V$7:V241,V241)=1,\"\",dcall))","v":""},{"$f":"IF(N241>1,COUNTIF($H$7:H241,H241),7)","v":7},1,1,null,null,null,"",":","","0","",""]
[null,236,"","","",null,null,"",null,"","",{"$f":"IF(E242=\"\",\"\",IF(COUNTIF($V$7:V242,V242)=1,\"\",dcall))","v":""},{"$f":"IF(N242>1,COUNTIF($H$7:H242,H242),7)","v":7},1,1,null,null,null,"",":","","0","",""]
[null,237,"","","",null,null,"",null,"","",{"$f":"IF(E243=\"\",\"\",IF(COUNTIF($V$7:V243,V243)=1,\"\",dcall))","v":""},{"$f":"IF(N243>1,COUNTIF($H$7:H243,H243),7)","v":7},1,1,null,null,null,"",":","","0","",""]
[null,238,"","","",null,null,"",null,"","",{"$f":"IF(E244=\"\",\"\",IF(COUNTIF($V$7:V244,V244)=1,\"\",dcall))","v":""},{"$f":"IF(N244>1,COUNTIF($H$7:H244,H244),7)","v":7},1,1,null,null,null,"",":","","0","",""]
[null,239,"","","",null,null,"",null,"","",{"$f":"IF(E245=\"\",\"\",IF(COUNTIF($V$7:V245,V245)=1,\"\",dcall))","v":""},{"$f":"IF(N245>1,COUNTIF($H$7:H245,H245),7)","v":7},1,1,null,null,null,"",":","","0","",""]
[null,240,"","","",null,null,"",null,"","",{"$f":"IF(E246=\"\",\"\",IF(COUNTIF($V$7:V246,V246)=1,\"\",dcall))","v":""},{"$f":"IF(N246>1,COUNTIF($H$7:H246,H246),7)","v":7},1,1,null,null,null,"",":","","0","",""]
[null,241,"","","",null,null,"",null,"","",{"$f":"IF(E247=\"\",\"\",IF(COUNTIF($V$7:V247,V247)=1,\"\",dcall))","v":""},{"$f":"IF(N247>1,COUNTIF($H$7:H247,H247),7)","v":7},1,1,null,null,null,"",":","","0","",""]
[null,242,"","","",null,null,"",null,"","",{"$f":"IF(E248=\"\",\"\",IF(COUNTIF($V$7:V248,V248)=1,\"\",dcall))","v":""},{"$f":"IF(N248>1,COUNTIF($H$7:H248,H248),7)","v":7},1,1,null,null,null,"",":","","0","",""]
[null,243,"","","",null,null,"",null,"","",{"$f":"IF(E249=\"\",\"\",IF(COUNTIF($V$7:V249,V249)=1,\"\",dcall))","v":""},{"$f":"IF(N249>1,COUNTIF($H$7:H249,H249),7)","v":7},1,1,null,null,null,"",":","","0","",""]
[null,244,"","","",null,null,"",null,"","",{"$f":"IF(E250=\"\",\"\",IF(COUNTIF($V$7:V250,V250)=1,\"\",dcall))","v":""},{"$f":"IF(N250>1,COUNTIF($H$7:H250,H250),7)","v":7},1,1,null,null,null,"",":","","0","",""]
[null,245,"","","",null,null,"",null,"","",{"$f":"IF(E251=\"\",\"\",IF(COUNTIF($V$7:V251,V251)=1,\"\",dcall))","v":""},{"$f":"IF(N251>1,COUNTIF($H$7:H251,H251),7)","v":7},1,1,null,null,null,"",":","","0","",""]
[null,246,"","","",null,null,"",null,"","",{"$f":"IF(E252=\"\",\"\",IF(COUNTIF($V$7:V252,V252)=1,\"\",dcall))","v":""},{"$f":"IF(N252>1,COUNTIF($H$7:H252,H252),7)","v":7},1,1,null,null,null,"",":","","0","",""]
[null,247,"","","",null,null,"",null,"","",{"$f":"IF(E253=\"\",\"\",IF(COUNTIF($V$7:V253,V253)=1,\"\",dcall))","v":""},{"$f":"IF(N253>1,COUNTIF($H$7:H253,H253),7)","v":7},1,1,null,null,null,"",":","","0","",""]
[null,248,{"$f":"IF(F254>0,date1,\"\")","v":""},"","",null,null,"",null,"","",{"$f":"IF(E254=\"\",\"\",IF(COUNTIF($V$7:V254,V254)=1,\"\",dcall))","v":""},{"$f":"IF(N254>1,COUNTIF($H$7:H254,H254),7)","v":7},1,1,null,null,null,"",":","","0","",""]
[null,249,"","","",null,null,"",null,"","",{"$f":"IF(E255=\"\",\"\",IF(COUNTIF($V$7:V255,V255)=1,\"\",dcall))","v":""},{"$f":"IF(N255>1,COUNTIF($H$7:H255,H255),7)","v":7},1,1,null,null,null,"",":","","0","",""]
[null,250,"","","",null,null,"",null,"","",{"$f":"IF(E256=\"\",\"\",IF(COUNTIF($V$7:V256,V256)=1,\"\",dcall))","v":""},{"$f":"IF(N256>1,COUNTIF($H$7:H256,H256),7)","v":7},1,1,null,null,null,"",":","","0","",""]
[null,251,"",null,null,null,null,null,null,"","",{"$f":"IF(E257=\"\",\"\",IF(COUNTIF($V$7:V257,V257)=1,\"\",dcall))","v":""},{"$f":"IF(N257>1,COUNTIF($H$7:H257,H257),7)","v":7},{"$f":"IF(COUNTIF(dokli,H257)>0,5,IF(COUNTIF(vfdbdok,H257)>0,10,1))","v":1},{"$f":"IF(H257=dok,0,N257)","v":1},null,null,null,{"$f":"UPPER(SUBSTITUTE(H257,\" \",\"\",1))","v":""},"",{"$f":"UPPER(E257)","v":""},{"$f":"CONCATENATE(E257,LEN(G257))","v":"0"},0,""]
[null,252,"",null,null,null,null,null,null,"","",{"$f":"IF(E258=\"\",\"\",IF(COUNTIF($V$7:V258,V258)=1,\"\",dcall))","v":""},{"$f":"IF(N258>1,COUNTIF($H$7:H258,H258),7)","v":7},1,1,null,null,null,"","","","0",0,""]
[null,253,"",null,null,null,null,null,null,"","",{"$f":"IF(E259=\"\",\"\",IF(COUNTIF($V$7:V259,V259)=1,\"\",dcall))","v":""},{"$f":"IF(N259>1,COUNTIF($H$7:H259,H259),7)","v":7},1,1,null,null,null,"","","","0",0,""]
[null,254,"",null,null,null,null,null,null,"","",{"$f":"IF(E260=\"\",\"\",IF(COUNTIF($V$7:V260,V260)=1,\"\",dcall))","v":""},{"$f":"IF(N260>1,COUNTIF($H$7:H260,H260),7)","v":7},1,1,null,null,null,"","","","0",0,""]
[null,255,"",null,null,null,null,null,null,"","",{"$f":"IF(E261=\"\",\"\",IF(COUNTIF($V$7:V261,V261)=1,\"\",dcall))","v":""},{"$f":"IF(N261>1,COUNTIF($H$7:H261,H261),7)","v":7},1,1,null,null,null,"","","","0",0,""]
[null,256,"",null,null,null,null,null,null,"","",{"$f":"IF(E262=\"\",\"\",IF(COUNTIF($V$7:V262,V262)=1,\"\",dcall))","v":""},{"$f":"IF(N262>1,COUNTIF($H$7:H262,H262),7)","v":7},1,1,null,null,null,"","","","0",0,""]
[null,257,"",null,null,null,null,null,null,"","",{"$f":"IF(E263=\"\",\"\",IF(COUNTIF($V$7:V263,V263)=1,\"\",dcall))","v":""},{"$f":"IF(N263>1,COUNTIF($H$7:H263,H263),7)","v":7},1,1,null,null,null,"","","","0",0,""]
[null,258,"",null,null,null,null,null,null,"","",{"$f":"IF(E264=\"\",\"\",IF(COUNTIF($V$7:V264,V264)=1,\"\",dcall))","v":""},{"$f":"IF(N264>1,COUNTIF($H$7:H264,H264),7)","v":7},1,1,null,null,null,"","","","0",0,""]
[null,259,"",null,null,null,null,null,null,"","",{"$f":"IF(E265=\"\",\"\",IF(COUNTIF($V$7:V265,V265)=1,\"\",dcall))","v":""},{"$f":"IF(N265>1,COUNTIF($H$7:H265,H265),7)","v":7},1,1,null,null,null,"","","","0",0,""]
[null,260,"",null,null,null,null,null,null,{"$f":"IF(E266=\"\",\"\",IF(L266=\"\",O266,0))","v":""},{"$f":"IF(E266=\"\",\"\",IF(M266=1,1,\"\"))","v":""},{"$f":"IF(E266=\"\",\"\",IF(COUNTIF($V$7:V266,V266)=1,\"\",dcall))","v":""},{"$f":"IF(N266>1,COUNTIF($H$7:H266,H266),7)","v":7},1,1,null,null,null,"","","","0",0,""]
[null,261,"",null,null,null,null,null,null,"","",{"$f":"IF(E267=\"\",\"\",IF(COUNTIF($V$7:V267,V267)=1,\"\",dcall))","v":""},{"$f":"IF(N267>1,COUNTIF($H$7:H267,H267),7)","v":7},1,1,null,null,null,"","","","0",{"$f":"IF(X267=\":\",IF(LEN(D267)=4,CONCATENATE(\"0\",LEFT(D267,1),RIGHT(D267,2)),D267),IF(LEN(D267)=3,CONCATENATE(\"0\",D267),D267))","v":0},{"$f":"IF(LEN(D267)=4,MID(D267,2,1),MID(D267,3,1))","v":""}]
[null,262,"",null,null,null,null,null,null,"","",{"$f":"IF(E268=\"\",\"\",IF(COUNTIF($V$7:V268,V268)=1,\"\",dcall))","v":""},{"$f":"IF(N268>1,COUNTIF($H$7:H268,H268),7)","v":7},1,1,null,null,null,"",{"$f":"IF(W268=0,\"\",IF(W268=5,W268,CONCATENATE(LEFT(W268,2),\":\",RIGHT(W268,2))))","v":""},"","0",0,""]
[null,263,"",null,null,null,null,null,null,"","",{"$f":"IF(E269=\"\",\"\",IF(COUNTIF($V$7:V269,V269)=1,\"\",dcall))","v":""},{"$f":"IF(N269>1,COUNTIF($H$7:H269,H269),7)","v":7},1,1,null,null,null,"","","","0",0,""]
[null,264,"",null,null,null,null,null,null,"","",{"$f":"IF(E270=\"\",\"\",IF(COUNTIF($V$7:V270,V270)=1,\"\",dcall))","v":""},{"$f":"IF(N270>1,COUNTIF($H$7:H270,H270),7)","v":7},1,1,null,null,null,"","","","0",0,""]
[null,265,"",null,null,null,null,null,null,"","",{"$f":"IF(E271=\"\",\"\",IF(COUNTIF($V$7:V271,V271)=1,\"\",dcall))","v":""},{"$f":"IF(N271>1,COUNTIF($H$7:H271,H271),7)","v":7},1,1,null,null,null,"","","","0",0,""]
[null,266,"",null,null,null,null,null,null,"","",{"$f":"IF(E272=\"\",\"\",IF(COUNTIF($V$7:V272,V272)=1,\"\",dcall))","v":""},{"$f":"IF(N272>1,COUNTIF($H$7:H272,H272),7)","v":7},1,1,null,null,null,"","","","0",0,""]
[null,267,"",null,null,null,null,null,null,"","",{"$f":"IF(E273=\"\",\"\",IF(COUNTIF($V$7:V273,V273)=1,\"\",dcall))","v":""},{"$f":"IF(N273>1,COUNTIF($H$7:H273,H273),7)","v":7},1,1,null,null,null,"","","","0",0,""]
[null,268,"",null,null,null,null,null,null,"","",{"$f":"IF(E274=\"\",\"\",IF(COUNTIF($V$7:V274,V274)=1,\"\",dcall))","v":""},{"$f":"IF(N274>1,COUNTIF($H$7:H274,H274),7)","v":7},1,1,null,null,null,"","","","0",0,""]
[null,269,"",null,null,null,null,null,null,"","",{"$f":"IF(E275=\"\",\"\",IF(COUNTIF($V$7:V275,V275)=1,\"\",dcall))","v":""},{"$f":"IF(N275>1,COUNTIF($H$7:H275,H275),7)","v":7},1,1,null,null,null,"","","","0",0,""]
[null,270,"",null,null,null,null,null,null,"","",{"$f":"IF(E276=\"\",\"\",IF(COUNTIF($V$7:V276,V276)=1,\"\",dcall))","v":""},{"$f":"IF(N276>1,COUNTIF($H$7:H276,H276),7)","v":7},1,1,null,null,null,"","","","0",0,""]
[null,271,"",null,null,null,null,null,null,"","",{"$f":"IF(E277=\"\",\"\",IF(COUNTIF($V$7:V277,V277)=1,\"\",dcall))","v":""},{"$f":"IF(N277>1,COUNTIF($H$7:H277,H277),7)","v":7},1,1,null,null,null,"","","","0",0,""]
[null,272,"",null,null,null,null,null,null,"","",{"$f":"IF(E278=\"\",\"\",IF(COUNTIF($V$7:V278,V278)=1,\"\",dcall))","v":""},{"$f":"IF(N278>1,COUNTIF($H$7:H278,H278),7)","v":7},1,1,null,null,null,"","","","0",0,""]
[null,273,"",null,null,null,null,null,null,"","",{"$f":"IF(E279=\"\",\"\",IF(COUNTIF($V$7:V279,V279)=1,\"\",dcall))","v":""},{"$f":"IF(N279>1,COUNTIF($H$7:H279,H279),7)","v":7},1,1,null,null,null,"","","","0",0,""]
[null,274,"",null,null,null,null,null,null,"","",{"$f":"IF(E280=\"\",\"\",IF(COUNTIF($V$7:V280,V280)=1,\"\",dcall))","v":""},{"$f":"IF(N280>1,COUNTIF($H$7:H280,H280),7)","v":7},1,1,null,null,null,"","","","0",0,""]
[null,275,"",null,null,null,null,null,null,"","",{"$f":"IF(E281=\"\",\"\",IF(COUNTIF($V$7:V281,V281)=1,\"\",dcall))","v":""},{"$f":"IF(N281>1,COUNTIF($H$7:H281,H281),7)","v":7},1,1,null,null,null,"","","","0",0,""]
[null,276,"",null,null,null,null,null,null,"","",{"$f":"IF(E282=\"\",\"\",IF(COUNTIF($V$7:V282,V282)=1,\"\",dcall))","v":""},{"$f":"IF(N282>1,COUNTIF($H$7:H282,H282),7)","v":7},1,1,null,null,null,"","","","0",0,""]
[null,277,"",null,null,null,null,null,null,"","",{"$f":"IF(E283=\"\",\"\",IF(COUNTIF($V$7:V283,V283)=1,\"\",dcall))","v":""},{"$f":"IF(N283>1,COUNTIF($H$7:H283,H283),7)","v":7},1,1,null,null,null,"","","","0",0,""]
[null,278,"",null,null,null,null,null,null,"","",{"$f":"IF(E284=\"\",\"\",IF(COUNTIF($V$7:V284,V284)=1,\"\",dcall))","v":""},{"$f":"IF(N284>1,COUNTIF($H$7:H284,H284),7)","v":7},1,1,null,null,null,"","","","0",0,""]
[null,279,"",null,null,null,null,null,null,"","",{"$f":"IF(E285=\"\",\"\",IF(COUNTIF($V$7:V285,V285)=1,\"\",dcall))","v":""},{"$f":"IF(N285>1,COUNTIF($H$7:H285,H285),7)","v":7},1,1,null,null,null,"","","","0",0,""]
[null,280,"",null,null,null,null,null,null,"","",{"$f":"IF(E286=\"\",\"\",IF(COUNTIF($V$7:V286,V286)=1,\"\",dcall))","v":""},{"$f":"IF(N286>1,COUNTIF($H$7:H286,H286),7)","v":7},1,1,null,null,null,"","","","0",0,""]
[null,281,"",null,null,null,null,null,null,"","",{"$f":"IF(E287=\"\",\"\",IF(COUNTIF($V$7:V287,V287)=1,\"\",dcall))","v":""},{"$f":"IF(N287>1,COUNTIF($H$7:H287,H287),7)","v":7},1,1,null,null,null,"","","","0",0,""]
[null,282,"",null,null,null,null,null,null,"","",{"$f":"IF(E288=\"\",\"\",IF(COUNTIF($V$7:V288,V288)=1,\"\",dcall))","v":""},{"$f":"IF(N288>1,COUNTIF($H$7:H288,H288),7)","v":7},1,1,null,null,null,"","","","0",0,""]
[null,283,"",null,null,null,null,null,null,"","",{"$f":"IF(E289=\"\",\"\",IF(COUNTIF($V$7:V289,V289)=1,\"\",dcall))","v":""},{"$f":"IF(N289>1,COUNTIF($H$7:H289,H289),7)","v":7},1,1,null,null,null,"","","","0",0,""]
[null,284,"",null,null,null,null,null,null,"","",{"$f":"IF(E290=\"\",\"\",IF(COUNTIF($V$7:V290,V290)=1,\"\",dcall))","v":""},{"$f":"IF(N290>1,COUNTIF($H$7:H290,H290),7)","v":7},1,1,null,null,null,"","","","0",0,""]
[null,285,"",null,null,null,null,null,null,"","",{"$f":"IF(E291=\"\",\"\",IF(COUNTIF($V$7:V291,V291)=1,\"\",dcall))","v":""},{"$f":"IF(N291>1,COUNTIF($H$7:H291,H291),7)","v":7},1,1,null,null,null,"","","","0",0,""]
[null,286,"",null,null,null,null,null,null,"","",{"$f":"IF(E292=\"\",\"\",IF(COUNTIF($V$7:V292,V292)=1,\"\",dcall))","v":""},{"$f":"IF(N292>1,COUNTIF($H$7:H292,H292),7)","v":7},1,1,null,null,null,"","","","0",0,""]
[null,287,"",null,null,null,null,null,null,"","",{"$f":"IF(E293=\"\",\"\",IF(COUNTIF($V$7:V293,V293)=1,\"\",dcall))","v":""},{"$f":"IF(N293>1,COUNTIF($H$7:H293,H293),7)","v":7},1,1,null,null,null,"","","","0",0,""]
[null,288,"",null,null,null,null,null,null,"","",{"$f":"IF(E294=\"\",\"\",IF(COUNTIF($V$7:V294,V294)=1,\"\",dcall))","v":""},{"$f":"IF(N294>1,COUNTIF($H$7:H294,H294),7)","v":7},1,1,null,null,null,"","","","0",0,""]
[null,289,"",null,null,null,null,null,null,"","",{"$f":"IF(E295=\"\",\"\",IF(COUNTIF($V$7:V295,V295)=1,\"\",dcall))","v":""},{"$f":"IF(N295>1,COUNTIF($H$7:H295,H295),7)","v":7},1,1,null,null,null,"","","","0",0,""]
[null,290,"",null,null,null,null,null,null,"","",{"$f":"IF(E296=\"\",\"\",IF(COUNTIF($V$7:V296,V296)=1,\"\",dcall))","v":""},{"$f":"IF(N296>1,COUNTIF($H$7:H296,H296),7)","v":7},1,1,null,null,null,"","","","0",0,""]
[null,291,"",null,null,null,null,null,null,"","",{"$f":"IF(E297=\"\",\"\",IF(COUNTIF($V$7:V297,V297)=1,\"\",dcall))","v":""},{"$f":"IF(N297>1,COUNTIF($H$7:H297,H297),7)","v":7},1,1,null,null,null,"","","","0",0,""]
[null,292,"",null,null,null,null,null,null,"","",{"$f":"IF(E298=\"\",\"\",IF(COUNTIF($V$7:V298,V298)=1,\"\",dcall))","v":""},{"$f":"IF(N298>1,COUNTIF($H$7:H298,H298),7)","v":7},1,1,null,null,null,"","","","0",0,""]
[null,293,"",null,null,null,null,null,null,"","",{"$f":"IF(E299=\"\",\"\",IF(COUNTIF($V$7:V299,V299)=1,\"\",dcall))","v":""},{"$f":"IF(N299>1,COUNTIF($H$7:H299,H299),7)","v":7},1,1,null,null,null,"","","","0",0,""]
[null,294,"",null,null,null,null,null,null,"","",{"$f":"IF(E300=\"\",\"\",IF(COUNTIF($V$7:V300,V300)=1,\"\",dcall))","v":""},{"$f":"IF(N300>1,COUNTIF($H$7:H300,H300),7)","v":7},1,1,null,null,null,"","","","0",0,""]
[null,295,"",null,null,null,null,null,null,"","",{"$f":"IF(E301=\"\",\"\",IF(COUNTIF($V$7:V301,V301)=1,\"\",dcall))","v":""},{"$f":"IF(N301>1,COUNTIF($H$7:H301,H301),7)","v":7},1,1,null,null,null,"","","","0",0,""]
[null,296,"",null,null,null,null,null,null,"","",{"$f":"IF(E302=\"\",\"\",IF(COUNTIF($V$7:V302,V302)=1,\"\",dcall))","v":""},{"$f":"IF(N302>1,COUNTIF($H$7:H302,H302),7)","v":7},1,1,null,null,null,"","","","0",0,""]
[null,297,"",null,null,null,null,null,null,"","",{"$f":"IF(E303=\"\",\"\",IF(COUNTIF($V$7:V303,V303)=1,\"\",dcall))","v":""},{"$f":"IF(N303>1,COUNTIF($H$7:H303,H303),7)","v":7},1,1,null,null,null,"","","","0",0,""]
[null,298,"",null,null,null,null,null,null,"","",{"$f":"IF(E304=\"\",\"\",IF(COUNTIF($V$7:V304,V304)=1,\"\",dcall))","v":""},{"$f":"IF(N304>1,COUNTIF($H$7:H304,H304),7)","v":7},1,1,null,null,null,"","","","0",0,""]
[null,299,"",null,null,null,null,null,null,"","",{"$f":"IF(E305=\"\",\"\",IF(COUNTIF($V$7:V305,V305)=1,\"\",dcall))","v":""},{"$f":"IF(N305>1,COUNTIF($H$7:H305,H305),7)","v":7},1,1,null,null,null,"","","","0",0,""]
[null,300,"",null,null,null,null,null,null,"","",{"$f":"IF(E306=\"\",\"\",IF(COUNTIF($V$7:V306,V306)=1,\"\",dcall))","v":""},{"$f":"IF(N306>1,COUNTIF($H$7:H306,H306),7)","v":7},1,1,null,null,null,"","","","0",0,""]
[null,301,"",null,null,null,null,null,null,"","",{"$f":"IF(E307=\"\",\"\",IF(COUNTIF($V$7:V307,V307)=1,\"\",dcall))","v":""},{"$f":"IF(N307>1,COUNTIF($H$7:H307,H307),7)","v":7},1,1,null,null,null,"","","","0",0,""]
[null,302,"",null,null,null,null,null,null,"","",{"$f":"IF(E308=\"\",\"\",IF(COUNTIF($V$7:V308,V308)=1,\"\",dcall))","v":""},{"$f":"IF(N308>1,COUNTIF($H$7:H308,H308),7)","v":7},1,1,null,null,null,"","","","0",0,""]
[null,303,"",null,null,null,null,null,null,"","",{"$f":"IF(E309=\"\",\"\",IF(COUNTIF($V$7:V309,V309)=1,\"\",dcall))","v":""},{"$f":"IF(N309>1,COUNTIF($H$7:H309,H309),7)","v":7},1,1,null,null,null,"","","","0",0,""]
[null,304,"",null,null,null,null,null,null,"","",{"$f":"IF(E310=\"\",\"\",IF(COUNTIF($V$7:V310,V310)=1,\"\",dcall))","v":""},{"$f":"IF(N310>1,COUNTIF($H$7:H310,H310),7)","v":7},1,1,null,null,null,"","","","0",0,""]
[null,305,"",null,null,null,null,null,null,"","",{"$f":"IF(E311=\"\",\"\",IF(COUNTIF($V$7:V311,V311)=1,\"\",dcall))","v":""},{"$f":"IF(N311>1,COUNTIF($H$7:H311,H311),7)","v":7},1,1,null,null,null,"","","","0",0,""]
[null,306,"",null,null,null,null,null,null,"","",{"$f":"IF(E312=\"\",\"\",IF(COUNTIF($V$7:V312,V312)=1,\"\",dcall))","v":""},{"$f":"IF(N312>1,COUNTIF($H$7:H312,H312),7)","v":7},1,1,null,null,null,"","","","0",0,""]
[null,307,"",null,null,null,null,null,null,"","",{"$f":"IF(E313=\"\",\"\",IF(COUNTIF($V$7:V313,V313)=1,\"\",dcall))","v":""},{"$f":"IF(N313>1,COUNTIF($H$7:H313,H313),7)","v":7},1,1,null,null,null,"","","","0",0,""]
[null,308,"",null,null,null,null,null,null,"","",{"$f":"IF(E314=\"\",\"\",IF(COUNTIF($V$7:V314,V314)=1,\"\",dcall))","v":""},{"$f":"IF(N314>1,COUNTIF($H$7:H314,H314),7)","v":7},1,1,null,null,null,"","","","0",0,""]
[null,309,"",null,null,null,null,null,null,"","",{"$f":"IF(E315=\"\",\"\",IF(COUNTIF($V$7:V315,V315)=1,\"\",dcall))","v":""},{"$f":"IF(N315>1,COUNTIF($H$7:H315,H315),7)","v":7},1,1,null,null,null,"","","","0",0,""]
[null,310,"",null,null,null,null,null,null,"","",{"$f":"IF(E316=\"\",\"\",IF(COUNTIF($V$7:V316,V316)=1,\"\",dcall))","v":""},{"$f":"IF(N316>1,COUNTIF($H$7:H316,H316),7)","v":7},1,1,null,null,null,"","","","0",0,""]
[null,311,"",null,null,null,null,null,null,"","",{"$f":"IF(E317=\"\",\"\",IF(COUNTIF($V$7:V317,V317)=1,\"\",dcall))","v":""},{"$f":"IF(N317>1,COUNTIF($H$7:H317,H317),7)","v":7},1,1,null,null,null,"","","","0",0,""]
[null,312,{"$f":"IF(F318>0,date1,\"\")","v":""},null,null,null,null,null,null,"","",{"$f":"IF(E318=\"\",\"\",IF(COUNTIF($V$7:V318,V318)=1,\"\",dcall))","v":""},{"$f":"IF(N318>1,COUNTIF($H$7:H318,H318),7)","v":7},1,1,null,null,null,"","","","0",0,""]
[null,313,"",null,null,null,null,null,null,"","",{"$f":"IF(E319=\"\",\"\",IF(COUNTIF($V$7:V319,V319)=1,\"\",dcall))","v":""},{"$f":"IF(N319>1,COUNTIF($H$7:H319,H319),7)","v":7},1,1,null,null,null,"","","","0",0,""]
[null,314,"",null,null,null,null,null,null,"","",{"$f":"IF(E320=\"\",\"\",IF(COUNTIF($V$7:V320,V320)=1,\"\",dcall))","v":""},{"$f":"IF(N320>1,COUNTIF($H$7:H320,H320),7)","v":7},1,1,null,null,null,"","","","0",0,""]
[null,315,"",null,null,null,null,null,null,"","",{"$f":"IF(E321=\"\",\"\",IF(COUNTIF($V$7:V321,V321)=1,\"\",dcall))","v":""},{"$f":"IF(N321>1,COUNTIF($H$7:H321,H321),7)","v":7},{"$f":"IF(COUNTIF(dokli,H321)>0,5,IF(COUNTIF(vfdbdok,H321)>0,10,1))","v":1},{"$f":"IF(H321=dok,0,N321)","v":1},null,null,null,{"$f":"UPPER(SUBSTITUTE(H321,\" \",\"\",1))","v":""},"",{"$f":"UPPER(E321)","v":""},{"$f":"CONCATENATE(E321,LEN(G321))","v":"0"},0,""]
[null,316,"",null,null,null,null,null,null,"","",{"$f":"IF(E322=\"\",\"\",IF(COUNTIF($V$7:V322,V322)=1,\"\",dcall))","v":""},{"$f":"IF(N322>1,COUNTIF($H$7:H322,H322),7)","v":7},1,1,null,null,null,"","","","0",0,""]
[null,317,"",null,null,null,null,null,null,"","",{"$f":"IF(E323=\"\",\"\",IF(COUNTIF($V$7:V323,V323)=1,\"\",dcall))","v":""},{"$f":"IF(N323>1,COUNTIF($H$7:H323,H323),7)","v":7},1,1,null,null,null,"","","","0",0,""]
[null,318,"",null,null,null,null,null,null,"","",{"$f":"IF(E324=\"\",\"\",IF(COUNTIF($V$7:V324,V324)=1,\"\",dcall))","v":""},{"$f":"IF(N324>1,COUNTIF($H$7:H324,H324),7)","v":7},1,1,null,null,null,"","","","0",0,""]
[null,319,"",null,null,null,null,null,null,"","",{"$f":"IF(E325=\"\",\"\",IF(COUNTIF($V$7:V325,V325)=1,\"\",dcall))","v":""},{"$f":"IF(N325>1,COUNTIF($H$7:H325,H325),7)","v":7},1,1,null,null,null,"","","","0",0,""]
[null,320,"",null,null,null,null,null,null,"","",{"$f":"IF(E326=\"\",\"\",IF(COUNTIF($V$7:V326,V326)=1,\"\",dcall))","v":""},{"$f":"IF(N326>1,COUNTIF($H$7:H326,H326),7)","v":7},1,1,null,null,null,"","","","0",0,""]
[null,321,"",null,null,null,null,null,null,"","",{"$f":"IF(E327=\"\",\"\",IF(COUNTIF($V$7:V327,V327)=1,\"\",dcall))","v":""},{"$f":"IF(N327>1,COUNTIF($H$7:H327,H327),7)","v":7},1,1,null,null,null,"","","","0",0,""]
[null,322,"",null,null,null,null,null,null,"","",{"$f":"IF(E328=\"\",\"\",IF(COUNTIF($V$7:V328,V328)=1,\"\",dcall))","v":""},{"$f":"IF(N328>1,COUNTIF($H$7:H328,H328),7)","v":7},1,1,null,null,null,"","","","0",0,""]
[null,323,"",null,null,null,null,null,null,"","",{"$f":"IF(E329=\"\",\"\",IF(COUNTIF($V$7:V329,V329)=1,\"\",dcall))","v":""},{"$f":"IF(N329>1,COUNTIF($H$7:H329,H329),7)","v":7},1,1,null,null,null,"","","","0",0,""]
[null,324,"",null,null,null,null,null,null,{"$f":"IF(E330=\"\",\"\",IF(L330=\"\",O330,0))","v":""},{"$f":"IF(E330=\"\",\"\",IF(M330=1,1,\"\"))","v":""},{"$f":"IF(E330=\"\",\"\",IF(COUNTIF($V$7:V330,V330)=1,\"\",dcall))","v":""},{"$f":"IF(N330>1,COUNTIF($H$7:H330,H330),7)","v":7},1,1,null,null,null,"","","","0",0,""]
[null,325,"",null,null,null,null,null,null,"","",{"$f":"IF(E331=\"\",\"\",IF(COUNTIF($V$7:V331,V331)=1,\"\",dcall))","v":""},{"$f":"IF(N331>1,COUNTIF($H$7:H331,H331),7)","v":7},1,1,null,null,null,"","","","0",{"$f":"IF(X331=\":\",IF(LEN(D331)=4,CONCATENATE(\"0\",LEFT(D331,1),RIGHT(D331,2)),D331),IF(LEN(D331)=3,CONCATENATE(\"0\",D331),D331))","v":0},{"$f":"IF(LEN(D331)=4,MID(D331,2,1),MID(D331,3,1))","v":""}]
[null,326,"",null,null,null,null,null,null,"","",{"$f":"IF(E332=\"\",\"\",IF(COUNTIF($V$7:V332,V332)=1,\"\",dcall))","v":""},{"$f":"IF(N332>1,COUNTIF($H$7:H332,H332),7)","v":7},1,1,null,null,null,"",{"$f":"IF(W332=0,\"\",IF(W332=5,W332,CONCATENATE(LEFT(W332,2),\":\",RIGHT(W332,2))))","v":""},"","0",0,""]
[null,327,"",null,null,null,null,null,null,"","",{"$f":"IF(E333=\"\",\"\",IF(COUNTIF($V$7:V333,V333)=1,\"\",dcall))","v":""},{"$f":"IF(N333>1,COUNTIF($H$7:H333,H333),7)","v":7},1,1,null,null,null,"","","","0",0,""]
[null,328,"",null,null,null,null,null,null,"","",{"$f":"IF(E334=\"\",\"\",IF(COUNTIF($V$7:V334,V334)=1,\"\",dcall))","v":""},{"$f":"IF(N334>1,COUNTIF($H$7:H334,H334),7)","v":7},1,1,null,null,null,"","","","0",0,""]
[null,329,"",null,null,null,null,null,null,"","",{"$f":"IF(E335=\"\",\"\",IF(COUNTIF($V$7:V335,V335)=1,\"\",dcall))","v":""},{"$f":"IF(N335>1,COUNTIF($H$7:H335,H335),7)","v":7},1,1,null,null,null,"","","","0",0,""]
[null,330,"",null,null,null,null,null,null,"","",{"$f":"IF(E336=\"\",\"\",IF(COUNTIF($V$7:V336,V336)=1,\"\",dcall))","v":""},{"$f":"IF(N336>1,COUNTIF($H$7:H336,H336),7)","v":7},1,1,null,null,null,"","","","0",0,""]
[null,331,"",null,null,null,null,null,null,"","",{"$f":"IF(E337=\"\",\"\",IF(COUNTIF($V$7:V337,V337)=1,\"\",dcall))","v":""},{"$f":"IF(N337>1,COUNTIF($H$7:H337,H337),7)","v":7},1,1,null,null,null,"","","","0",0,""]
[null,332,"",null,null,null,null,null,null,"","",{"$f":"IF(E338=\"\",\"\",IF(COUNTIF($V$7:V338,V338)=1,\"\",dcall))","v":""},{"$f":"IF(N338>1,COUNTIF($H$7:H338,H338),7)","v":7},1,1,null,null,null,"","","","0",0,""]
[null,333,"",null,null,null,null,null,null,"","",{"$f":"IF(E339=\"\",\"\",IF(COUNTIF($V$7:V339,V339)=1,\"\",dcall))","v":""},{"$f":"IF(N339>1,COUNTIF($H$7:H339,H339),7)","v":7},1,1,null,null,null,"","","","0",0,""]
[null,334,"",null,null,null,null,null,null,"","",{"$f":"IF(E340=\"\",\"\",IF(COUNTIF($V$7:V340,V340)=1,\"\",dcall))","v":""},{"$f":"IF(N340>1,COUNTIF($H$7:H340,H340),7)","v":7},1,1,null,null,null,"","","","0",0,""]
[null,335,"",null,null,null,null,null,null,"","",{"$f":"IF(E341=\"\",\"\",IF(COUNTIF($V$7:V341,V341)=1,\"\",dcall))","v":""},{"$f":"IF(N341>1,COUNTIF($H$7:H341,H341),7)","v":7},1,1,null,null,null,"","","","0",0,""]
[null,336,"",null,null,null,null,null,null,"","",{"$f":"IF(E342=\"\",\"\",IF(COUNTIF($V$7:V342,V342)=1,\"\",dcall))","v":""},{"$f":"IF(N342>1,COUNTIF($H$7:H342,H342),7)","v":7},1,1,null,null,null,"","","","0",0,""]
[null,337,"",null,null,null,null,null,null,"","",{"$f":"IF(E343=\"\",\"\",IF(COUNTIF($V$7:V343,V343)=1,\"\",dcall))","v":""},{"$f":"IF(N343>1,COUNTIF($H$7:H343,H343),7)","v":7},1,1,null,null,null,"","","","0",0,""]
[null,338,"",null,null,null,null,null,null,"","",{"$f":"IF(E344=\"\",\"\",IF(COUNTIF($V$7:V344,V344)=1,\"\",dcall))","v":""},{"$f":"IF(N344>1,COUNTIF($H$7:H344,H344),7)","v":7},1,1,null,null,null,"","","","0",0,""]
[null,339,"",null,null,null,null,null,null,"","",{"$f":"IF(E345=\"\",\"\",IF(COUNTIF($V$7:V345,V345)=1,\"\",dcall))","v":""},{"$f":"IF(N345>1,COUNTIF($H$7:H345,H345),7)","v":7},1,1,null,null,null,"","","","0",0,""]
[null,340,"",null,null,null,null,null,null,"","",{"$f":"IF(E346=\"\",\"\",IF(COUNTIF($V$7:V346,V346)=1,\"\",dcall))","v":""},{"$f":"IF(N346>1,COUNTIF($H$7:H346,H346),7)","v":7},1,1,null,null,null,"","","","0",0,""]
[null,341,"",null,null,null,null,null,null,"","",{"$f":"IF(E347=\"\",\"\",IF(COUNTIF($V$7:V347,V347)=1,\"\",dcall))","v":""},{"$f":"IF(N347>1,COUNTIF($H$7:H347,H347),7)","v":7},1,1,null,null,null,"","","","0",0,""]
[null,342,"",null,null,null,null,null,null,"","",{"$f":"IF(E348=\"\",\"\",IF(COUNTIF($V$7:V348,V348)=1,\"\",dcall))","v":""},{"$f":"IF(N348>1,COUNTIF($H$7:H348,H348),7)","v":7},1,1,null,null,null,"","","","0",0,""]
[null,343,"",null,null,null,null,null,null,"","",{"$f":"IF(E349=\"\",\"\",IF(COUNTIF($V$7:V349,V349)=1,\"\",dcall))","v":""},{"$f":"IF(N349>1,COUNTIF($H$7:H349,H349),7)","v":7},1,1,null,null,null,"","","","0",0,""]
[null,344,"",null,null,null,null,null,null,"","",{"$f":"IF(E350=\"\",\"\",IF(COUNTIF($V$7:V350,V350)=1,\"\",dcall))","v":""},{"$f":"IF(N350>1,COUNTIF($H$7:H350,H350),7)","v":7},1,1,null,null,null,"","","","0",0,""]
[null,345,"",null,null,null,null,null,null,"","",{"$f":"IF(E351=\"\",\"\",IF(COUNTIF($V$7:V351,V351)=1,\"\",dcall))","v":""},{"$f":"IF(N351>1,COUNTIF($H$7:H351,H351),7)","v":7},1,1,null,null,null,"","","","0",0,""]
[null,346,"",null,null,null,null,null,null,"","",{"$f":"IF(E352=\"\",\"\",IF(COUNTIF($V$7:V352,V352)=1,\"\",dcall))","v":""},{"$f":"IF(N352>1,COUNTIF($H$7:H352,H352),7)","v":7},1,1,null,null,null,"","","","0",0,""]
[null,347,"",null,null,null,null,null,null,"","",{"$f":"IF(E353=\"\",\"\",IF(COUNTIF($V$7:V353,V353)=1,\"\",dcall))","v":""},{"$f":"IF(N353>1,COUNTIF($H$7:H353,H353),7)","v":7},1,1,null,null,null,"","","","0",0,""]
[null,348,"",null,null,null,null,null,null,"","",{"$f":"IF(E354=\"\",\"\",IF(COUNTIF($V$7:V354,V354)=1,\"\",dcall))","v":""},{"$f":"IF(N354>1,COUNTIF($H$7:H354,H354),7)","v":7},1,1,null,null,null,"","","","0",0,""]
[null,349,"",null,null,null,null,null,null,"","",{"$f":"IF(E355=\"\",\"\",IF(COUNTIF($V$7:V355,V355)=1,\"\",dcall))","v":""},{"$f":"IF(N355>1,COUNTIF($H$7:H355,H355),7)","v":7},1,1,null,null,null,"","","","0",0,""]
[null,350,"",null,null,null,null,null,null,"","",{"$f":"IF(E356=\"\",\"\",IF(COUNTIF($V$7:V356,V356)=1,\"\",dcall))","v":""},{"$f":"IF(N356>1,COUNTIF($H$7:H356,H356),7)","v":7},1,1,null,null,null,"","","","0",0,""]
[null,351,"",null,null,null,null,null,null,"","",{"$f":"IF(E357=\"\",\"\",IF(COUNTIF($V$7:V357,V357)=1,\"\",dcall))","v":""},{"$f":"IF(N357>1,COUNTIF($H$7:H357,H357),7)","v":7},1,1,null,null,null,"","","","0",0,""]
[null,352,"",null,null,null,null,null,null,"","",{"$f":"IF(E358=\"\",\"\",IF(COUNTIF($V$7:V358,V358)=1,\"\",dcall))","v":""},{"$f":"IF(N358>1,COUNTIF($H$7:H358,H358),7)","v":7},1,1,null,null,null,"","","","0",0,""]
[null,353,"",null,null,null,null,null,null,"","",{"$f":"IF(E359=\"\",\"\",IF(COUNTIF($V$7:V359,V359)=1,\"\",dcall))","v":""},{"$f":"IF(N359>1,COUNTIF($H$7:H359,H359),7)","v":7},1,1,null,null,null,"","","","0",0,""]
[null,354,"",null,null,null,null,null,null,"","",{"$f":"IF(E360=\"\",\"\",IF(COUNTIF($V$7:V360,V360)=1,\"\",dcall))","v":""},{"$f":"IF(N360>1,COUNTIF($H$7:H360,H360),7)","v":7},1,1,null,null,null,"","","","0",0,""]
[null,355,"",null,null,null,null,null,null,"","",{"$f":"IF(E361=\"\",\"\",IF(COUNTIF($V$7:V361,V361)=1,\"\",dcall))","v":""},{"$f":"IF(N361>1,COUNTIF($H$7:H361,H361),7)","v":7},1,1,null,null,null,"","","","0",0,""]
[null,356,"",null,null,null,null,null,null,"","",{"$f":"IF(E362=\"\",\"\",IF(COUNTIF($V$7:V362,V362)=1,\"\",dcall))","v":""},{"$f":"IF(N362>1,COUNTIF($H$7:H362,H362),7)","v":7},1,1,null,null,null,"","","","0",0,""]
[null,357,"",null,null,null,null,null,null,"","",{"$f":"IF(E363=\"\",\"\",IF(COUNTIF($V$7:V363,V363)=1,\"\",dcall))","v":""},{"$f":"IF(N363>1,COUNTIF($H$7:H363,H363),7)","v":7},1,1,null,null,null,"","","","0",0,""]
[null,358,"",null,null,null,null,null,null,"","",{"$f":"IF(E364=\"\",\"\",IF(COUNTIF($V$7:V364,V364)=1,\"\",dcall))","v":""},{"$f":"IF(N364>1,COUNTIF($H$7:H364,H364),7)","v":7},1,1,null,null,null,"","","","0",0,""]
[null,359,"",null,null,null,null,null,null,"","",{"$f":"IF(E365=\"\",\"\",IF(COUNTIF($V$7:V365,V365)=1,\"\",dcall))","v":""},{"$f":"IF(N365>1,COUNTIF($H$7:H365,H365),7)","v":7},1,1,null,null,null,"","","","0",0,""]
[null,360,"",null,null,null,null,null,null,"","",{"$f":"IF(E366=\"\",\"\",IF(COUNTIF($V$7:V366,V366)=1,\"\",dcall))","v":""},{"$f":"IF(N366>1,COUNTIF($H$7:H366,H366),7)","v":7},1,1,null,null,null,"","","","0",0,""]
[null,361,"",null,null,null,null,null,null,"","",{"$f":"IF(E367=\"\",\"\",IF(COUNTIF($V$7:V367,V367)=1,\"\",dcall))","v":""},{"$f":"IF(N367>1,COUNTIF($H$7:H367,H367),7)","v":7},1,1,null,null,null,"","","","0",0,""]
[null,362,"",null,null,null,null,null,null,"","",{"$f":"IF(E368=\"\",\"\",IF(COUNTIF($V$7:V368,V368)=1,\"\",dcall))","v":""},{"$f":"IF(N368>1,COUNTIF($H$7:H368,H368),7)","v":7},1,1,null,null,null,"","","","0",0,""]
[null,363,"",null,null,null,null,null,null,"","",{"$f":"IF(E369=\"\",\"\",IF(COUNTIF($V$7:V369,V369)=1,\"\",dcall))","v":""},{"$f":"IF(N369>1,COUNTIF($H$7:H369,H369),7)","v":7},1,1,null,null,null,"","","","0",0,""]
[null,364,"",null,null,null,null,null,null,"","",{"$f":"IF(E370=\"\",\"\",IF(COUNTIF($V$7:V370,V370)=1,\"\",dcall))","v":""},{"$f":"IF(N370>1,COUNTIF($H$7:H370,H370),7)","v":7},1,1,null,null,null,"","","","0",0,""]
[null,365,"",null,null,null,null,null,null,"","",{"$f":"IF(E371=\"\",\"\",IF(COUNTIF($V$7:V371,V371)=1,\"\",dcall))","v":""},{"$f":"IF(N371>1,COUNTIF($H$7:H371,H371),7)","v":7},1,1,null,null,null,"","","","0",0,""]
[null,366,"",null,null,null,null,null,null,"","",{"$f":"IF(E372=\"\",\"\",IF(COUNTIF($V$7:V372,V372)=1,\"\",dcall))","v":""},{"$f":"IF(N372>1,COUNTIF($H$7:H372,H372),7)","v":7},1,1,null,null,null,"","","","0",0,""]
[null,367,"",null,null,null,null,null,null,"","",{"$f":"IF(E373=\"\",\"\",IF(COUNTIF($V$7:V373,V373)=1,\"\",dcall))","v":""},{"$f":"IF(N373>1,COUNTIF($H$7:H373,H373),7)","v":7},1,1,null,null,null,"","","","0",0,""]
[null,368,"",null,null,null,null,null,null,"","",{"$f":"IF(E374=\"\",\"\",IF(COUNTIF($V$7:V374,V374)=1,\"\",dcall))","v":""},{"$f":"IF(N374>1,COUNTIF($H$7:H374,H374),7)","v":7},1,1,null,null,null,"","","","0",0,""]
[null,369,"",null,null,null,null,null,null,"","",{"$f":"IF(E375=\"\",\"\",IF(COUNTIF($V$7:V375,V375)=1,\"\",dcall))","v":""},{"$f":"IF(N375>1,COUNTIF($H$7:H375,H375),7)","v":7},1,1,null,null,null,"","","","0",0,""]
[null,370,"",null,null,null,null,null,null,"","",{"$f":"IF(E376=\"\",\"\",IF(COUNTIF($V$7:V376,V376)=1,\"\",dcall))","v":""},{"$f":"IF(N376>1,COUNTIF($H$7:H376,H376),7)","v":7},1,1,null,null,null,"","","","0",0,""]
[null,371,"",null,null,null,null,null,null,"","",{"$f":"IF(E377=\"\",\"\",IF(COUNTIF($V$7:V377,V377)=1,\"\",dcall))","v":""},{"$f":"IF(N377>1,COUNTIF($H$7:H377,H377),7)","v":7},1,1,null,null,null,"","","","0",0,""]
[null,372,"",null,null,null,null,null,null,"","",{"$f":"IF(E378=\"\",\"\",IF(COUNTIF($V$7:V378,V378)=1,\"\",dcall))","v":""},{"$f":"IF(N378>1,COUNTIF($H$7:H378,H378),7)","v":7},1,1,null,null,null,"","","","0",0,""]
[null,373,"",null,null,null,null,null,null,"","",{"$f":"IF(E379=\"\",\"\",IF(COUNTIF($V$7:V379,V379)=1,\"\",dcall))","v":""},{"$f":"IF(N379>1,COUNTIF($H$7:H379,H379),7)","v":7},1,1,null,null,null,"","","","0",0,""]
[null,374,"",null,null,null,null,null,null,"","",{"$f":"IF(E380=\"\",\"\",IF(COUNTIF($V$7:V380,V380)=1,\"\",dcall))","v":""},{"$f":"IF(N380>1,COUNTIF($H$7:H380,H380),7)","v":7},1,1,null,null,null,"","","","0",0,""]
[null,375,"",null,null,null,null,null,null,"","",{"$f":"IF(E381=\"\",\"\",IF(COUNTIF($V$7:V381,V381)=1,\"\",dcall))","v":""},{"$f":"IF(N381>1,COUNTIF($H$7:H381,H381),7)","v":7},1,1,null,null,null,"","","","0",0,""]
[null,376,{"$f":"IF(F382>0,date1,\"\")","v":""},null,null,null,null,null,null,"","",{"$f":"IF(E382=\"\",\"\",IF(COUNTIF($V$7:V382,V382)=1,\"\",dcall))","v":""},{"$f":"IF(N382>1,COUNTIF($H$7:H382,H382),7)","v":7},1,1,null,null,null,"","","","0",0,""]
[null,377,"",null,null,null,null,null,null,"","",{"$f":"IF(E383=\"\",\"\",IF(COUNTIF($V$7:V383,V383)=1,\"\",dcall))","v":""},{"$f":"IF(N383>1,COUNTIF($H$7:H383,H383),7)","v":7},1,1,null,null,null,"","","","0",0,""]
[null,378,"",null,null,null,null,null,null,"","",{"$f":"IF(E384=\"\",\"\",IF(COUNTIF($V$7:V384,V384)=1,\"\",dcall))","v":""},{"$f":"IF(N384>1,COUNTIF($H$7:H384,H384),7)","v":7},1,1,null,null,null,"","","","0",0,""]
[null,379,"",null,null,null,null,null,null,"","",{"$f":"IF(E385=\"\",\"\",IF(COUNTIF($V$7:V385,V385)=1,\"\",dcall))","v":""},{"$f":"IF(N385>1,COUNTIF($H$7:H385,H385),7)","v":7},{"$f":"IF(COUNTIF(dokli,H385)>0,5,IF(COUNTIF(vfdbdok,H385)>0,10,1))","v":1},{"$f":"IF(H385=dok,0,N385)","v":1},null,null,null,{"$f":"UPPER(SUBSTITUTE(H385,\" \",\"\",1))","v":""},"",{"$f":"UPPER(E385)","v":""},{"$f":"CONCATENATE(E385,LEN(G385))","v":"0"},0,""]
[null,380,"",null,null,null,null,null,null,"","",{"$f":"IF(E386=\"\",\"\",IF(COUNTIF($V$7:V386,V386)=1,\"\",dcall))","v":""},{"$f":"IF(N386>1,COUNTIF($H$7:H386,H386),7)","v":7},1,1,null,null,null,"","","","0",0,""]
[null,381,"",null,null,null,null,null,null,"","",{"$f":"IF(E387=\"\",\"\",IF(COUNTIF($V$7:V387,V387)=1,\"\",dcall))","v":""},{"$f":"IF(N387>1,COUNTIF($H$7:H387,H387),7)","v":7},1,1,null,null,null,"","","","0",0,""]
[null,382,"",null,null,null,null,null,null,"","",{"$f":"IF(E388=\"\",\"\",IF(COUNTIF($V$7:V388,V388)=1,\"\",dcall))","v":""},{"$f":"IF(N388>1,COUNTIF($H$7:H388,H388),7)","v":7},1,1,null,null,null,"","","","0",0,""]
[null,383,"",null,"",null,null,"",null,"","",{"$f":"IF(E389=\"\",\"\",IF(COUNTIF($V$7:V389,V389)=1,\"\",dcall))","v":""},{"$f":"IF(N389>1,COUNTIF($H$7:H389,H389),7)","v":7},1,1,null,null,null,"","","","0",0,""]
[null,384,"",null,"",null,null,"",null,"","",{"$f":"IF(E390=\"\",\"\",IF(COUNTIF($V$7:V390,V390)=1,\"\",dcall))","v":""},{"$f":"IF(N390>1,COUNTIF($H$7:H390,H390),7)","v":7},1,1,null,null,null,"","","","0",0,""]
[null,385,"",null,"",null,null,"",null,"","",{"$f":"IF(E391=\"\",\"\",IF(COUNTIF($V$7:V391,V391)=1,\"\",dcall))","v":""},{"$f":"IF(N391>1,COUNTIF($H$7:H391,H391),7)","v":7},1,1,null,null,null,"","","","0",0,""]
[null,386,"",null,"",null,null,"",null,"","",{"$f":"IF(E392=\"\",\"\",IF(COUNTIF($V$7:V392,V392)=1,\"\",dcall))","v":""},{"$f":"IF(N392>1,COUNTIF($H$7:H392,H392),7)","v":7},1,1,null,null,null,"","","","0",0,""]
[null,387,"",null,"",null,null,"",null,"","",{"$f":"IF(E393=\"\",\"\",IF(COUNTIF($V$7:V393,V393)=1,\"\",dcall))","v":""},{"$f":"IF(N393>1,COUNTIF($H$7:H393,H393),7)","v":7},1,1,null,null,null,"","","","0",0,""]
[null,388,"",null,"",null,null,"",null,{"$f":"IF(E394=\"\",\"\",IF(L394=\"\",O394,0))","v":""},{"$f":"IF(E394=\"\",\"\",IF(M394=1,1,\"\"))","v":""},{"$f":"IF(E394=\"\",\"\",IF(COUNTIF($V$7:V394,V394)=1,\"\",dcall))","v":""},{"$f":"IF(N394>1,COUNTIF($H$7:H394,H394),7)","v":7},1,1,null,null,null,"","","","0",0,""]
[null,389,"",null,"",null,null,"",null,"","",{"$f":"IF(E395=\"\",\"\",IF(COUNTIF($V$7:V395,V395)=1,\"\",dcall))","v":""},{"$f":"IF(N395>1,COUNTIF($H$7:H395,H395),7)","v":7},1,1,null,null,null,"","","","0",{"$f":"IF(X395=\":\",IF(LEN(D395)=4,CONCATENATE(\"0\",LEFT(D395,1),RIGHT(D395,2)),D395),IF(LEN(D395)=3,CONCATENATE(\"0\",D395),D395))","v":0},{"$f":"IF(LEN(D395)=4,MID(D395,2,1),MID(D395,3,1))","v":""}]
[null,390,"",null,"",null,null,"",null,"","",{"$f":"IF(E396=\"\",\"\",IF(COUNTIF($V$7:V396,V396)=1,\"\",dcall))","v":""},{"$f":"IF(N396>1,COUNTIF($H$7:H396,H396),7)","v":7},1,1,null,null,null,"",{"$f":"IF(W396=0,\"\",IF(W396=5,W396,CONCATENATE(LEFT(W396,2),\":\",RIGHT(W396,2))))","v":""},"","0",0,""]
[null,391,"",null,"",null,null,"",null,"","",{"$f":"IF(E397=\"\",\"\",IF(COUNTIF($V$7:V397,V397)=1,\"\",dcall))","v":""},{"$f":"IF(N397>1,COUNTIF($H$7:H397,H397),7)","v":7},1,1,null,null,null,"","","","0",0,""]
[null,392,"",null,"",null,null,"",null,"","",{"$f":"IF(E398=\"\",\"\",IF(COUNTIF($V$7:V398,V398)=1,\"\",dcall))","v":""},{"$f":"IF(N398>1,COUNTIF($H$7:H398,H398),7)","v":7},1,1,null,null,null,"","","","0",0,""]
[null,393,"",null,"",null,null,"",null,"","",{"$f":"IF(E399=\"\",\"\",IF(COUNTIF($V$7:V399,V399)=1,\"\",dcall))","v":""},{"$f":"IF(N399>1,COUNTIF($H$7:H399,H399),7)","v":7},1,1,null,null,null,"","","","0",0,""]
[null,394,"",null,"",null,null,"",null,"","",{"$f":"IF(E400=\"\",\"\",IF(COUNTIF($V$7:V400,V400)=1,\"\",dcall))","v":""},{"$f":"IF(N400>1,COUNTIF($H$7:H400,H400),7)","v":7},1,1,null,null,null,"","","","0",0,""]
[null,395,"",null,"",null,null,"",null,"","",{"$f":"IF(E401=\"\",\"\",IF(COUNTIF($V$7:V401,V401)=1,\"\",dcall))","v":""},{"$f":"IF(N401>1,COUNTIF($H$7:H401,H401),7)","v":7},1,1,null,null,null,"","","","0",0,""]
[null,396,"",null,"",null,null,"",null,"","",{"$f":"IF(E402=\"\",\"\",IF(COUNTIF($V$7:V402,V402)=1,\"\",dcall))","v":""},{"$f":"IF(N402>1,COUNTIF($H$7:H402,H402),7)","v":7},1,1,null,null,null,"","","","0",0,""]
[null,397,"",null,"",null,null,"",null,"","",{"$f":"IF(E403=\"\",\"\",IF(COUNTIF($V$7:V403,V403)=1,\"\",dcall))","v":""},{"$f":"IF(N403>1,COUNTIF($H$7:H403,H403),7)","v":7},1,1,null,null,null,"","","","0",0,""]
[null,398,"",null,"",null,null,"",null,"","",{"$f":"IF(E404=\"\",\"\",IF(COUNTIF($V$7:V404,V404)=1,\"\",dcall))","v":""},{"$f":"IF(N404>1,COUNTIF($H$7:H404,H404),7)","v":7},1,1,null,null,null,"","","","0",0,""]
[null,399,"",null,"",null,null,"",null,"","",{"$f":"IF(E405=\"\",\"\",IF(COUNTIF($V$7:V405,V405)=1,\"\",dcall))","v":""},{"$f":"IF(N405>1,COUNTIF($H$7:H405,H405),7)","v":7},1,1,null,null,null,"","","","0",0,""]
[null,400,"",null,"",null,null,"",null,"","",{"$f":"IF(E406=\"\",\"\",IF(COUNTIF($V$7:V406,V406)=1,\"\",dcall))","v":""},{"$f":"IF(N406>1,COUNTIF($H$7:H406,H406),7)","v":7},1,1,null,null,null,"","","","0",0,""]
[null,401,"",null,"",null,null,"",null,"","",{"$f":"IF(E407=\"\",\"\",IF(COUNTIF($V$7:V407,V407)=1,\"\",dcall))","v":""},{"$f":"IF(N407>1,COUNTIF($H$7:H407,H407),7)","v":7},1,1,null,null,null,"","","","0",0,""]
[null,402,"",null,"",null,null,"",null,"","",{"$f":"IF(E408=\"\",\"\",IF(COUNTIF($V$7:V408,V408)=1,\"\",dcall))","v":""},{"$f":"IF(N408>1,COUNTIF($H$7:H408,H408),7)","v":7},1,1,null,null,null,"","","","0",0,""]
[null,403,"",null,"",null,null,"",null,"","",{"$f":"IF(E409=\"\",\"\",IF(COUNTIF($V$7:V409,V409)=1,\"\",dcall))","v":""},{"$f":"IF(N409>1,COUNTIF($H$7:H409,H409),7)","v":7},1,1,null,null,null,"","","","0",0,""]
[null,404,"",null,"",null,null,"",null,"","",{"$f":"IF(E410=\"\",\"\",IF(COUNTIF($V$7:V410,V410)=1,\"\",dcall))","v":""},{"$f":"IF(N410>1,COUNTIF($H$7:H410,H410),7)","v":7},1,1,null,null,null,"","","","0",0,""]
[null,405,"",null,"",null,null,"",null,"","",{"$f":"IF(E411=\"\",\"\",IF(COUNTIF($V$7:V411,V411)=1,\"\",dcall))","v":""},{"$f":"IF(N411>1,COUNTIF($H$7:H411,H411),7)","v":7},1,1,null,null,null,"","","","0",0,""]
[null,406,"",null,"",null,null,"",null,"","",{"$f":"IF(E412=\"\",\"\",IF(COUNTIF($V$7:V412,V412)=1,\"\",dcall))","v":""},{"$f":"IF(N412>1,COUNTIF($H$7:H412,H412),7)","v":7},1,1,null,null,null,"","","","0",0,""]
[null,407,"",null,"",null,null,"",null,"","",{"$f":"IF(E413=\"\",\"\",IF(COUNTIF($V$7:V413,V413)=1,\"\",dcall))","v":""},{"$f":"IF(N413>1,COUNTIF($H$7:H413,H413),7)","v":7},1,1,null,null,null,"","","","0",0,""]
[null,408,"",null,"",null,null,"",null,"","",{"$f":"IF(E414=\"\",\"\",IF(COUNTIF($V$7:V414,V414)=1,\"\",dcall))","v":""},{"$f":"IF(N414>1,COUNTIF($H$7:H414,H414),7)","v":7},1,1,null,null,null,"","","","0",0,""]
[null,409,"",null,"",null,null,"",null,"","",{"$f":"IF(E415=\"\",\"\",IF(COUNTIF($V$7:V415,V415)=1,\"\",dcall))","v":""},{"$f":"IF(N415>1,COUNTIF($H$7:H415,H415),7)","v":7},1,1,null,null,null,"","","","0",0,""]
[null,410,"",null,"",null,null,"",null,"","",{"$f":"IF(E416=\"\",\"\",IF(COUNTIF($V$7:V416,V416)=1,\"\",dcall))","v":""},{"$f":"IF(N416>1,COUNTIF($H$7:H416,H416),7)","v":7},1,1,null,null,null,"","","","0",0,""]
[null,411,"",null,"",null,null,"",null,"","",{"$f":"IF(E417=\"\",\"\",IF(COUNTIF($V$7:V417,V417)=1,\"\",dcall))","v":""},{"$f":"IF(N417>1,COUNTIF($H$7:H417,H417),7)","v":7},1,1,null,null,null,"","","","0",0,""]
[null,412,"",null,"",null,null,"",null,"","",{"$f":"IF(E418=\"\",\"\",IF(COUNTIF($V$7:V418,V418)=1,\"\",dcall))","v":""},{"$f":"IF(N418>1,COUNTIF($H$7:H418,H418),7)","v":7},1,1,null,null,null,"","","","0",0,""]
[null,413,"",null,"",null,null,"",null,"","",{"$f":"IF(E419=\"\",\"\",IF(COUNTIF($V$7:V419,V419)=1,\"\",dcall))","v":""},{"$f":"IF(N419>1,COUNTIF($H$7:H419,H419),7)","v":7},1,1,null,null,null,"","","","0",0,""]
[null,414,"",null,"",null,null,"",null,"","",{"$f":"IF(E420=\"\",\"\",IF(COUNTIF($V$7:V420,V420)=1,\"\",dcall))","v":""},{"$f":"IF(N420>1,COUNTIF($H$7:H420,H420),7)","v":7},1,1,null,null,null,"","","","0",0,""]
[null,415,"",null,"",null,null,"",null,"","",{"$f":"IF(E421=\"\",\"\",IF(COUNTIF($V$7:V421,V421)=1,\"\",dcall))","v":""},{"$f":"IF(N421>1,COUNTIF($H$7:H421,H421),7)","v":7},1,1,null,null,null,"","","","0",0,""]
[null,416,"",null,"",null,null,"",null,"","",{"$f":"IF(E422=\"\",\"\",IF(COUNTIF($V$7:V422,V422)=1,\"\",dcall))","v":""},{"$f":"IF(N422>1,COUNTIF($H$7:H422,H422),7)","v":7},1,1,null,null,null,"","","","0",0,""]
[null,417,"",null,"",null,null,"",null,"","",{"$f":"IF(E423=\"\",\"\",IF(COUNTIF($V$7:V423,V423)=1,\"\",dcall))","v":""},{"$f":"IF(N423>1,COUNTIF($H$7:H423,H423),7)","v":7},1,1,null,null,null,"","","","0",0,""]
[null,418,"",null,"",null,null,"",null,"","",{"$f":"IF(E424=\"\",\"\",IF(COUNTIF($V$7:V424,V424)=1,\"\",dcall))","v":""},{"$f":"IF(N424>1,COUNTIF($H$7:H424,H424),7)","v":7},1,1,null,null,null,"","","","0",0,""]
[null,419,"",null,"",null,null,"",null,"","",{"$f":"IF(E425=\"\",\"\",IF(COUNTIF($V$7:V425,V425)=1,\"\",dcall))","v":""},{"$f":"IF(N425>1,COUNTIF($H$7:H425,H425),7)","v":7},1,1,null,null,null,"","","","0",0,""]
[null,420,"",null,"",null,null,"",null,"","",{"$f":"IF(E426=\"\",\"\",IF(COUNTIF($V$7:V426,V426)=1,\"\",dcall))","v":""},{"$f":"IF(N426>1,COUNTIF($H$7:H426,H426),7)","v":7},1,1,null,null,null,"","","","0",0,""]
[null,421,"",null,"",null,null,"",null,"","",{"$f":"IF(E427=\"\",\"\",IF(COUNTIF($V$7:V427,V427)=1,\"\",dcall))","v":""},{"$f":"IF(N427>1,COUNTIF($H$7:H427,H427),7)","v":7},1,1,null,null,null,"","","","0",0,""]
[null,422,"",null,"",null,null,"",null,"","",{"$f":"IF(E428=\"\",\"\",IF(COUNTIF($V$7:V428,V428)=1,\"\",dcall))","v":""},{"$f":"IF(N428>1,COUNTIF($H$7:H428,H428),7)","v":7},1,1,null,null,null,"","","","0",0,""]
[null,423,"",null,"",null,null,"",null,"","",{"$f":"IF(E429=\"\",\"\",IF(COUNTIF($V$7:V429,V429)=1,\"\",dcall))","v":""},{"$f":"IF(N429>1,COUNTIF($H$7:H429,H429),7)","v":7},1,1,null,null,null,"","","","0",0,""]
[null,424,"",null,"",null,null,"",null,"","",{"$f":"IF(E430=\"\",\"\",IF(COUNTIF($V$7:V430,V430)=1,\"\",dcall))","v":""},{"$f":"IF(N430>1,COUNTIF($H$7:H430,H430),7)","v":7},1,1,null,null,null,"","","","0",0,""]
[null,425,"",null,"",null,null,"",null,"","",{"$f":"IF(E431=\"\",\"\",IF(COUNTIF($V$7:V431,V431)=1,\"\",dcall))","v":""},{"$f":"IF(N431>1,COUNTIF($H$7:H431,H431),7)","v":7},1,1,null,null,null,"","","","0",0,""]
[null,426,"",null,"",null,null,"",null,"","",{"$f":"IF(E432=\"\",\"\",IF(COUNTIF($V$7:V432,V432)=1,\"\",dcall))","v":""},{"$f":"IF(N432>1,COUNTIF($H$7:H432,H432),7)","v":7},1,1,null,null,null,"","","","0",0,""]
[null,427,"",null,"",null,null,"",null,"","",{"$f":"IF(E433=\"\",\"\",IF(COUNTIF($V$7:V433,V433)=1,\"\",dcall))","v":""},{"$f":"IF(N433>1,COUNTIF($H$7:H433,H433),7)","v":7},1,1,null,null,null,"","","","0",0,""]
[null,428,"",null,"",null,null,"",null,"","",{"$f":"IF(E434=\"\",\"\",IF(COUNTIF($V$7:V434,V434)=1,\"\",dcall))","v":""},{"$f":"IF(N434>1,COUNTIF($H$7:H434,H434),7)","v":7},1,1,null,null,null,"","","","0",0,""]
[null,429,"",null,"",null,null,"",null,"","",{"$f":"IF(E435=\"\",\"\",IF(COUNTIF($V$7:V435,V435)=1,\"\",dcall))","v":""},{"$f":"IF(N435>1,COUNTIF($H$7:H435,H435),7)","v":7},1,1,null,null,null,"","","","0",0,""]
[null,430,"",null,"",null,null,"",null,"","",{"$f":"IF(E436=\"\",\"\",IF(COUNTIF($V$7:V436,V436)=1,\"\",dcall))","v":""},{"$f":"IF(N436>1,COUNTIF($H$7:H436,H436),7)","v":7},1,1,null,null,null,"","","","0",0,""]
[null,431,"",null,"",null,null,"",null,"","",{"$f":"IF(E437=\"\",\"\",IF(COUNTIF($V$7:V437,V437)=1,\"\",dcall))","v":""},{"$f":"IF(N437>1,COUNTIF($H$7:H437,H437),7)","v":7},1,1,null,null,null,"","","","0",0,""]
[null,432,"",null,"",null,null,"",null,"","",{"$f":"IF(E438=\"\",\"\",IF(COUNTIF($V$7:V438,V438)=1,\"\",dcall))","v":""},{"$f":"IF(N438>1,COUNTIF($H$7:H438,H438),7)","v":7},1,1,null,null,null,"","","","0",0,""]
[null,433,"",null,"",null,null,"",null,"","",{"$f":"IF(E439=\"\",\"\",IF(COUNTIF($V$7:V439,V439)=1,\"\",dcall))","v":""},{"$f":"IF(N439>1,COUNTIF($H$7:H439,H439),7)","v":7},1,1,null,null,null,"","","","0",0,""]
[null,434,"",null,"",null,null,"",null,"","",{"$f":"IF(E440=\"\",\"\",IF(COUNTIF($V$7:V440,V440)=1,\"\",dcall))","v":""},{"$f":"IF(N440>1,COUNTIF($H$7:H440,H440),7)","v":7},1,1,null,null,null,"","","","0",0,""]
[null,435,"",null,"",null,null,"",null,"","",{"$f":"IF(E441=\"\",\"\",IF(COUNTIF($V$7:V441,V441)=1,\"\",dcall))","v":""},{"$f":"IF(N441>1,COUNTIF($H$7:H441,H441),7)","v":7},1,1,null,null,null,"","","","0",0,""]
[null,436,"",null,"",null,null,"",null,"","",{"$f":"IF(E442=\"\",\"\",IF(COUNTIF($V$7:V442,V442)=1,\"\",dcall))","v":""},{"$f":"IF(N442>1,COUNTIF($H$7:H442,H442),7)","v":7},1,1,null,null,null,"","","","0",0,""]
[null,437,"",null,"",null,null,"",null,"","",{"$f":"IF(E443=\"\",\"\",IF(COUNTIF($V$7:V443,V443)=1,\"\",dcall))","v":""},{"$f":"IF(N443>1,COUNTIF($H$7:H443,H443),7)","v":7},1,1,null,null,null,"","","","0",0,""]
[null,438,"",null,"",null,null,"",null,"","",{"$f":"IF(E444=\"\",\"\",IF(COUNTIF($V$7:V444,V444)=1,\"\",dcall))","v":""},{"$f":"IF(N444>1,COUNTIF($H$7:H444,H444),7)","v":7},1,1,null,null,null,"","","","0",0,""]
[null,439,"",null,"",null,null,"",null,"","",{"$f":"IF(E445=\"\",\"\",IF(COUNTIF($V$7:V445,V445)=1,\"\",dcall))","v":""},{"$f":"IF(N445>1,COUNTIF($H$7:H445,H445),7)","v":7},1,1,null,null,null,"","","","0",0,""]
[null,440,{"$f":"IF(F446>0,date1,\"\")","v":""},null,"",null,null,"",null,"","",{"$f":"IF(E446=\"\",\"\",IF(COUNTIF($V$7:V446,V446)=1,\"\",dcall))","v":""},{"$f":"IF(N446>1,COUNTIF($H$7:H446,H446),7)","v":7},1,1,null,null,null,"","","","0",0,""]
[null,441,"",null,"",null,null,"",null,"","",{"$f":"IF(E447=\"\",\"\",IF(COUNTIF($V$7:V447,V447)=1,\"\",dcall))","v":""},{"$f":"IF(N447>1,COUNTIF($H$7:H447,H447),7)","v":7},1,1,null,null,null,"","","","0",0,""]
[null,442,"",null,"",null,null,"",null,"","",{"$f":"IF(E448=\"\",\"\",IF(COUNTIF($V$7:V448,V448)=1,\"\",dcall))","v":""},{"$f":"IF(N448>1,COUNTIF($H$7:H448,H448),7)","v":7},1,1,null,null,null,"","","","0",0,""]
[null,443,"",null,"",null,null,"",null,"","",{"$f":"IF(E449=\"\",\"\",IF(COUNTIF($V$7:V449,V449)=1,\"\",dcall))","v":""},{"$f":"IF(N449>1,COUNTIF($H$7:H449,H449),7)","v":7},{"$f":"IF(COUNTIF(dokli,H449)>0,5,IF(COUNTIF(vfdbdok,H449)>0,10,1))","v":1},{"$f":"IF(H449=dok,0,N449)","v":1},null,null,null,{"$f":"UPPER(SUBSTITUTE(H449,\" \",\"\",1))","v":""},"",{"$f":"UPPER(E449)","v":""},{"$f":"CONCATENATE(E449,LEN(G449))","v":"0"},0,""]
[null,444,"",null,"",null,null,"",null,"","",{"$f":"IF(E450=\"\",\"\",IF(COUNTIF($V$7:V450,V450)=1,\"\",dcall))","v":""},{"$f":"IF(N450>1,COUNTIF($H$7:H450,H450),7)","v":7},1,1,null,null,null,"","","","0",0,""]
[null,445,"",null,"",null,null,"",null,"","",{"$f":"IF(E451=\"\",\"\",IF(COUNTIF($V$7:V451,V451)=1,\"\",dcall))","v":""},{"$f":"IF(N451>1,COUNTIF($H$7:H451,H451),7)","v":7},1,1,null,null,null,"","","","0",0,""]
[null,446,"",null,"",null,null,"",null,"","",{"$f":"IF(E452=\"\",\"\",IF(COUNTIF($V$7:V452,V452)=1,\"\",dcall))","v":""},{"$f":"IF(N452>1,COUNTIF($H$7:H452,H452),7)","v":7},1,1,null,null,null,"","","","0",0,""]
[null,447,"",null,"",null,null,"",null,"","",{"$f":"IF(E453=\"\",\"\",IF(COUNTIF($V$7:V453,V453)=1,\"\",dcall))","v":""},{"$f":"IF(N453>1,COUNTIF($H$7:H453,H453),7)","v":7},1,1,null,null,null,"","","","0",0,""]
[null,448,"",null,"",null,null,"",null,"","",{"$f":"IF(E454=\"\",\"\",IF(COUNTIF($V$7:V454,V454)=1,\"\",dcall))","v":""},{"$f":"IF(N454>1,COUNTIF($H$7:H454,H454),7)","v":7},1,1,null,null,null,"","","","0",0,""]
[null,449,"",null,"",null,null,"",null,"","",{"$f":"IF(E455=\"\",\"\",IF(COUNTIF($V$7:V455,V455)=1,\"\",dcall))","v":""},{"$f":"IF(N455>1,COUNTIF($H$7:H455,H455),7)","v":7},1,1,null,null,null,"","","","0",0,""]
[null,450,"",null,"",null,null,"",null,"","",{"$f":"IF(E456=\"\",\"\",IF(COUNTIF($V$7:V456,V456)=1,\"\",dcall))","v":""},{"$f":"IF(N456>1,COUNTIF($H$7:H456,H456),7)","v":7},1,1,null,null,null,"","","","0",0,""]
[null,451,"",null,"",null,null,"",null,"","",{"$f":"IF(E457=\"\",\"\",IF(COUNTIF($V$7:V457,V457)=1,\"\",dcall))","v":""},{"$f":"IF(N457>1,COUNTIF($H$7:H457,H457),7)","v":7},1,1,null,null,null,"","","","0",0,""]
[null,452,"",null,"",null,null,"",null,{"$f":"IF(E458=\"\",\"\",IF(L458=\"\",O458,0))","v":""},{"$f":"IF(E458=\"\",\"\",IF(M458=1,1,\"\"))","v":""},{"$f":"IF(E458=\"\",\"\",IF(COUNTIF($V$7:V458,V458)=1,\"\",dcall))","v":""},{"$f":"IF(N458>1,COUNTIF($H$7:H458,H458),7)","v":7},1,1,null,null,null,"","","","0",0,""]
[null,453,"",null,"",null,null,"",null,"","",{"$f":"IF(E459=\"\",\"\",IF(COUNTIF($V$7:V459,V459)=1,\"\",dcall))","v":""},{"$f":"IF(N459>1,COUNTIF($H$7:H459,H459),7)","v":7},1,1,null,null,null,"","","","0",{"$f":"IF(X459=\":\",IF(LEN(D459)=4,CONCATENATE(\"0\",LEFT(D459,1),RIGHT(D459,2)),D459),IF(LEN(D459)=3,CONCATENATE(\"0\",D459),D459))","v":0},{"$f":"IF(LEN(D459)=4,MID(D459,2,1),MID(D459,3,1))","v":""}]
[null,454,"",null,"",null,null,"",null,"","",{"$f":"IF(E460=\"\",\"\",IF(COUNTIF($V$7:V460,V460)=1,\"\",dcall))","v":""},{"$f":"IF(N460>1,COUNTIF($H$7:H460,H460),7)","v":7},1,1,null,null,null,"",{"$f":"IF(W460=0,\"\",IF(W460=5,W460,CONCATENATE(LEFT(W460,2),\":\",RIGHT(W460,2))))","v":""},"","0",0,""]
[null,455,"",null,"",null,null,"",null,"","",{"$f":"IF(E461=\"\",\"\",IF(COUNTIF($V$7:V461,V461)=1,\"\",dcall))","v":""},{"$f":"IF(N461>1,COUNTIF($H$7:H461,H461),7)","v":7},1,1,null,null,null,"","","","0",0,""]
[null,456,"",null,"",null,null,"",null,"","",{"$f":"IF(E462=\"\",\"\",IF(COUNTIF($V$7:V462,V462)=1,\"\",dcall))","v":""},{"$f":"IF(N462>1,COUNTIF($H$7:H462,H462),7)","v":7},1,1,null,null,null,"","","","0",0,""]
[null,457,"",null,"",null,null,"",null,"","",{"$f":"IF(E463=\"\",\"\",IF(COUNTIF($V$7:V463,V463)=1,\"\",dcall))","v":""},{"$f":"IF(N463>1,COUNTIF($H$7:H463,H463),7)","v":7},1,1,null,null,null,"","","","0",0,""]
[null,458,"",null,"",null,null,"",null,"","",{"$f":"IF(E464=\"\",\"\",IF(COUNTIF($V$7:V464,V464)=1,\"\",dcall))","v":""},{"$f":"IF(N464>1,COUNTIF($H$7:H464,H464),7)","v":7},1,1,null,null,null,"","","","0",0,""]
[null,459,"",null,"",null,null,"",null,"","",{"$f":"IF(E465=\"\",\"\",IF(COUNTIF($V$7:V465,V465)=1,\"\",dcall))","v":""},{"$f":"IF(N465>1,COUNTIF($H$7:H465,H465),7)","v":7},1,1,null,null,null,"","","","0",0,""]
[null,460,"",null,"",null,null,"",null,"","",{"$f":"IF(E466=\"\",\"\",IF(COUNTIF($V$7:V466,V466)=1,\"\",dcall))","v":""},{"$f":"IF(N466>1,COUNTIF($H$7:H466,H466),7)","v":7},1,1,null,null,null,"","","","0",0,""]
[null,461,"",null,"",null,null,"",null,"","",{"$f":"IF(E467=\"\",\"\",IF(COUNTIF($V$7:V467,V467)=1,\"\",dcall))","v":""},{"$f":"IF(N467>1,COUNTIF($H$7:H467,H467),7)","v":7},1,1,null,null,null,"","","","0",0,""]
[null,462,"",null,"",null,null,"",null,"","",{"$f":"IF(E468=\"\",\"\",IF(COUNTIF($V$7:V468,V468)=1,\"\",dcall))","v":""},{"$f":"IF(N468>1,COUNTIF($H$7:H468,H468),7)","v":7},1,1,null,null,null,"","","","0",0,""]
[null,463,"",null,"",null,null,"",null,"","",{"$f":"IF(E469=\"\",\"\",IF(COUNTIF($V$7:V469,V469)=1,\"\",dcall))","v":""},{"$f":"IF(N469>1,COUNTIF($H$7:H469,H469),7)","v":7},1,1,null,null,null,"","","","0",0,""]
[null,464,"",null,"",null,null,"",null,"","",{"$f":"IF(E470=\"\",\"\",IF(COUNTIF($V$7:V470,V470)=1,\"\",dcall))","v":""},{"$f":"IF(N470>1,COUNTIF($H$7:H470,H470),7)","v":7},1,1,null,null,null,"","","","0",0,""]
[null,465,"",null,"",null,null,"",null,"","",{"$f":"IF(E471=\"\",\"\",IF(COUNTIF($V$7:V471,V471)=1,\"\",dcall))","v":""},{"$f":"IF(N471>1,COUNTIF($H$7:H471,H471),7)","v":7},1,1,null,null,null,"","","","0",0,""]
[null,466,"",null,"",null,null,"",null,"","",{"$f":"IF(E472=\"\",\"\",IF(COUNTIF($V$7:V472,V472)=1,\"\",dcall))","v":""},{"$f":"IF(N472>1,COUNTIF($H$7:H472,H472),7)","v":7},1,1,null,null,null,"","","","0",0,""]
[null,467,"",null,"",null,null,"",null,"","",{"$f":"IF(E473=\"\",\"\",IF(COUNTIF($V$7:V473,V473)=1,\"\",dcall))","v":""},{"$f":"IF(N473>1,COUNTIF($H$7:H473,H473),7)","v":7},1,1,null,null,null,"","","","0",0,""]
[null,468,"",null,"",null,null,"",null,"","",{"$f":"IF(E474=\"\",\"\",IF(COUNTIF($V$7:V474,V474)=1,\"\",dcall))","v":""},{"$f":"IF(N474>1,COUNTIF($H$7:H474,H474),7)","v":7},1,1,null,null,null,"","","","0",0,""]
[null,469,"",null,"",null,null,"",null,"","",{"$f":"IF(E475=\"\",\"\",IF(COUNTIF($V$7:V475,V475)=1,\"\",dcall))","v":""},{"$f":"IF(N475>1,COUNTIF($H$7:H475,H475),7)","v":7},1,1,null,null,null,"","","","0",0,""]
[null,470,"",null,"",null,null,"",null,"","",{"$f":"IF(E476=\"\",\"\",IF(COUNTIF($V$7:V476,V476)=1,\"\",dcall))","v":""},{"$f":"IF(N476>1,COUNTIF($H$7:H476,H476),7)","v":7},1,1,null,null,null,"","","","0",0,""]
[null,471,"",null,"",null,null,"",null,"","",{"$f":"IF(E477=\"\",\"\",IF(COUNTIF($V$7:V477,V477)=1,\"\",dcall))","v":""},{"$f":"IF(N477>1,COUNTIF($H$7:H477,H477),7)","v":7},1,1,null,null,null,"","","","0",0,""]
[null,472,"",null,"",null,null,"",null,"","",{"$f":"IF(E478=\"\",\"\",IF(COUNTIF($V$7:V478,V478)=1,\"\",dcall))","v":""},{"$f":"IF(N478>1,COUNTIF($H$7:H478,H478),7)","v":7},1,1,null,null,null,"","","","0",0,""]
[null,473,"",null,"",null,null,"",null,"","",{"$f":"IF(E479=\"\",\"\",IF(COUNTIF($V$7:V479,V479)=1,\"\",dcall))","v":""},{"$f":"IF(N479>1,COUNTIF($H$7:H479,H479),7)","v":7},1,1,null,null,null,"","","","0",0,""]
[null,474,"",null,"",null,null,"",null,"","",{"$f":"IF(E480=\"\",\"\",IF(COUNTIF($V$7:V480,V480)=1,\"\",dcall))","v":""},{"$f":"IF(N480>1,COUNTIF($H$7:H480,H480),7)","v":7},1,1,null,null,null,"","","","0",0,""]
[null,475,"",null,"",null,null,"",null,"","",{"$f":"IF(E481=\"\",\"\",IF(COUNTIF($V$7:V481,V481)=1,\"\",dcall))","v":""},{"$f":"IF(N481>1,COUNTIF($H$7:H481,H481),7)","v":7},1,1,null,null,null,"","","","0",0,""]
[null,476,"",null,"",null,null,"",null,"","",{"$f":"IF(E482=\"\",\"\",IF(COUNTIF($V$7:V482,V482)=1,\"\",dcall))","v":""},{"$f":"IF(N482>1,COUNTIF($H$7:H482,H482),7)","v":7},1,1,null,null,null,"","","","0",0,""]
[null,477,"",null,"",null,null,"",null,"","",{"$f":"IF(E483=\"\",\"\",IF(COUNTIF($V$7:V483,V483)=1,\"\",dcall))","v":""},{"$f":"IF(N483>1,COUNTIF($H$7:H483,H483),7)","v":7},1,1,null,null,null,"","","","0",0,""]
[null,478,"",null,"",null,null,"",null,"","",{"$f":"IF(E484=\"\",\"\",IF(COUNTIF($V$7:V484,V484)=1,\"\",dcall))","v":""},{"$f":"IF(N484>1,COUNTIF($H$7:H484,H484),7)","v":7},1,1,null,null,null,"","","","0",0,""]
[null,479,"",null,"",null,null,"",null,"","",{"$f":"IF(E485=\"\",\"\",IF(COUNTIF($V$7:V485,V485)=1,\"\",dcall))","v":""},{"$f":"IF(N485>1,COUNTIF($H$7:H485,H485),7)","v":7},1,1,null,null,null,"","","","0",0,""]
[null,480,"",null,"",null,null,"",null,"","",{"$f":"IF(E486=\"\",\"\",IF(COUNTIF($V$7:V486,V486)=1,\"\",dcall))","v":""},{"$f":"IF(N486>1,COUNTIF($H$7:H486,H486),7)","v":7},1,1,null,null,null,"","","","0",0,""]
[null,481,"",null,"",null,null,"",null,"","",{"$f":"IF(E487=\"\",\"\",IF(COUNTIF($V$7:V487,V487)=1,\"\",dcall))","v":""},{"$f":"IF(N487>1,COUNTIF($H$7:H487,H487),7)","v":7},1,1,null,null,null,"","","","0",0,""]
[null,482,"",null,"",null,null,"",null,"","",{"$f":"IF(E488=\"\",\"\",IF(COUNTIF($V$7:V488,V488)=1,\"\",dcall))","v":""},{"$f":"IF(N488>1,COUNTIF($H$7:H488,H488),7)","v":7},1,1,null,null,null,"","","","0",0,""]
[null,483,"",null,"",null,null,"",null,"","",{"$f":"IF(E489=\"\",\"\",IF(COUNTIF($V$7:V489,V489)=1,\"\",dcall))","v":""},{"$f":"IF(N489>1,COUNTIF($H$7:H489,H489),7)","v":7},1,1,null,null,null,"","","","0",0,""]
[null,484,"",null,"",null,null,"",null,"","",{"$f":"IF(E490=\"\",\"\",IF(COUNTIF($V$7:V490,V490)=1,\"\",dcall))","v":""},{"$f":"IF(N490>1,COUNTIF($H$7:H490,H490),7)","v":7},1,1,null,null,null,"","","","0",0,""]
[null,485,"",null,"",null,null,"",null,"","",{"$f":"IF(E491=\"\",\"\",IF(COUNTIF($V$7:V491,V491)=1,\"\",dcall))","v":""},{"$f":"IF(N491>1,COUNTIF($H$7:H491,H491),7)","v":7},1,1,null,null,null,"","","","0",0,""]
[null,486,"",null,"",null,null,"",null,"","",{"$f":"IF(E492=\"\",\"\",IF(COUNTIF($V$7:V492,V492)=1,\"\",dcall))","v":""},{"$f":"IF(N492>1,COUNTIF($H$7:H492,H492),7)","v":7},1,1,null,null,null,"","","","0",0,""]
[null,487,"",null,"",null,null,"",null,"","",{"$f":"IF(E493=\"\",\"\",IF(COUNTIF($V$7:V493,V493)=1,\"\",dcall))","v":""},{"$f":"IF(N493>1,COUNTIF($H$7:H493,H493),7)","v":7},1,1,null,null,null,"","","","0",0,""]
[null,488,"",null,"",null,null,"",null,"","",{"$f":"IF(E494=\"\",\"\",IF(COUNTIF($V$7:V494,V494)=1,\"\",dcall))","v":""},{"$f":"IF(N494>1,COUNTIF($H$7:H494,H494),7)","v":7},1,1,null,null,null,"","","","0",0,""]
[null,489,"",null,"",null,null,"",null,"","",{"$f":"IF(E495=\"\",\"\",IF(COUNTIF($V$7:V495,V495)=1,\"\",dcall))","v":""},{"$f":"IF(N495>1,COUNTIF($H$7:H495,H495),7)","v":7},1,1,null,null,null,"","","","0",0,""]
[null,490,"",null,"",null,null,"",null,"","",{"$f":"IF(E496=\"\",\"\",IF(COUNTIF($V$7:V496,V496)=1,\"\",dcall))","v":""},{"$f":"IF(N496>1,COUNTIF($H$7:H496,H496),7)","v":7},1,1,null,null,null,"","","","0",0,""]
[null,491,"",null,"",null,null,"",null,"","",{"$f":"IF(E497=\"\",\"\",IF(COUNTIF($V$7:V497,V497)=1,\"\",dcall))","v":""},{"$f":"IF(N497>1,COUNTIF($H$7:H497,H497),7)","v":7},1,1,null,null,null,"","","","0",0,""]
[null,492,"",null,"",null,null,"",null,"","",{"$f":"IF(E498=\"\",\"\",IF(COUNTIF($V$7:V498,V498)=1,\"\",dcall))","v":""},{"$f":"IF(N498>1,COUNTIF($H$7:H498,H498),7)","v":7},1,1,null,null,null,"","","","0",0,""]
[null,493,"",null,"",null,null,"",null,"","",{"$f":"IF(E499=\"\",\"\",IF(COUNTIF($V$7:V499,V499)=1,\"\",dcall))","v":""},{"$f":"IF(N499>1,COUNTIF($H$7:H499,H499),7)","v":7},1,1,null,null,null,"","","","0",0,""]
[null,494,"",null,"",null,null,"",null,"","",{"$f":"IF(E500=\"\",\"\",IF(COUNTIF($V$7:V500,V500)=1,\"\",dcall))","v":""},{"$f":"IF(N500>1,COUNTIF($H$7:H500,H500),7)","v":7},1,1,null,null,null,"","","","0",0,""]
[null,495,"",null,"",null,null,"",null,"","",{"$f":"IF(E501=\"\",\"\",IF(COUNTIF($V$7:V501,V501)=1,\"\",dcall))","v":""},{"$f":"IF(N501>1,COUNTIF($H$7:H501,H501),7)","v":7},1,1,null,null,null,"","","","0",0,""]
[null,496,"",null,"",null,null,"",null,"","",{"$f":"IF(E502=\"\",\"\",IF(COUNTIF($V$7:V502,V502)=1,\"\",dcall))","v":""},{"$f":"IF(N502>1,COUNTIF($H$7:H502,H502),7)","v":7},1,1,null,null,null,"","","","0",0,""]
[null,497,"",null,"",null,null,"",null,"","",{"$f":"IF(E503=\"\",\"\",IF(COUNTIF($V$7:V503,V503)=1,\"\",dcall))","v":""},{"$f":"IF(N503>1,COUNTIF($H$7:H503,H503),7)","v":7},1,1,null,null,null,"","","","0",0,""]
[null,498,"",null,"",null,null,"",null,"","",{"$f":"IF(E504=\"\",\"\",IF(COUNTIF($V$7:V504,V504)=1,\"\",dcall))","v":""},{"$f":"IF(N504>1,COUNTIF($H$7:H504,H504),7)","v":7},1,1,null,null,null,"","","","0",0,""]
[null,499,"",null,"",null,null,"",null,"","",{"$f":"IF(E505=\"\",\"\",IF(COUNTIF($V$7:V505,V505)=1,\"\",dcall))","v":""},{"$f":"IF(N505>1,COUNTIF($H$7:H505,H505),7)","v":7},1,1,null,null,null,"","","","0",0,""]
[null,500,"",null,null,null,null,null,null,"","",{"$f":"IF(E506=\"\",\"\",IF(COUNTIF($V$7:V506,V506)=1,\"\",dcall))","v":""},{"$f":"IF(N506>1,COUNTIF($H$7:H506,H506),7)","v":7},1,1,null,null,null,"","","","0",0,""]

{"sheet":"Blatt 2","index":3,"n_rows":506,"n_cols":24,"rows_kept":506,"cut":false,"hidden":false,"merged":[]}
[null,null,null,null,null,"VFDB-Contest Teil ",{"$f":"Allg_Angaben!C7","v":4}]
[null,null,"Call der Station  : ",null,{"$f":"Allg_Angaben!C12","v":" "},null,null,"Datum : ",{"$f":"date1","v":"2026-06-13"}]
[null,null,"Wertungsgruppe : ",null,{"$f":"Allg_Angaben!F12","v":"S"},null,null,"Band : ",{"$f":"band2","v":"70 cm"},null,"Mode :",{"$f":"mode2","v":"SSB/CW"}]
[]
[null,"lfd.","Date","UTC","CALL","RST","RST","DOK","LOC","QSO","Multi","Bemerkung",null,null,null,null,null,null,null,"UTC","Call",null,"Hilf_UTC2","Hilf_UTC"]
[null,"Nr.",null,"[hmm]",null,"geg.","erh.","lfd.Nr."," ","Pkt","Pkt",null,null,null,null,null,null,null,null,"[hmm]"]
[null,1,{"$f":"date1","v":"2026-06-13"},null,"",null,null,"",null,{"$f":"IF(E7=\"\",\"\",IF(L7=\"\",O7,0))","v":""},{"$f":"IF(E7=\"\",\"\",IF(M7=1,1,\"\"))","v":""},{"$f":"IF(E7=\"\",\"\",IF(COUNTIF(V$7:$V7,V7)=1,\"\",dcall))","v":""},{"$f":"IF(N7>1,COUNTIF($H$7:H7,H7),7)","v":7},{"$f":"IF(COUNTIF(dokli,H7)>0,5,IF(COUNTIF(vfdbdok,H7)>0,10,1))","v":1},{"$f":"IF(H7=dok,0,N7)","v":1},null,null,null,{"$f":"UPPER(SUBSTITUTE(H7,\" \",\"\",1))","v":""},{"$f":"IF(W7=0,\"\",IF(W7=5,W7,CONCATENATE(LEFT(W7,2),\":\",RIGHT(W7,2))))","v":""},{"$f":"UPPER(E7)","v":""},{"$f":"CONCATENATE(E7,LEN(G7))","v":"0"},{"$f":"IF(X7=\":\",IF(LEN(D7)=4,CONCATENATE(\"0\",LEFT(D7,1),RIGHT(D7,2)),D7),IF(LEN(D7)=3,CONCATENATE(\"0\",D7),D7))","v":0},{"$f":"IF(LEN(D7)=4,MID(D7,2,1),MID(D7,3,1))","v":""}]
[null,2,{"$f":"IF(F8>0,date1,\"\")","v":""},"","",null,null,"",null,{"$f":"IF(E8=\"\",\"\",IF(L8=\"\",O8,0))","v":""},"",{"$f":"IF(E8=\"\",\"\",IF(COUNTIF(V$7:$V8,V8)=1,\"\",dcall))","v":""},{"$f":"IF(N8>1,COUNTIF($H$7:H8,H8),7)","v":7},{"$f":"IF(COUNTIF(dokli,H8)>0,5,IF(COUNTIF(vfdbdok,H8)>0,10,1))","v":1},{"$f":"IF(H8=dok,0,N8)","v":1},null,null,null,{"$f":"UPPER(SUBSTITUTE(H8,\" \",\"\",1))","v":""},":",{"$f":"UPPER(E8)","v":""},{"$f":"CONCATENATE(E8,LEN(G8))","v":"0"},{"$f":"IF(X8=\":\",IF(LEN(D8)=4,CONCATENATE(\"0\",LEFT(D8,1),RIGHT(D8,2)),D8),IF(LEN(D8)=3,CONCATENATE(\"0\",D8),D8))","v":""},{"$f":"IF(LEN(D8)=4,MID(D8,2,1),MID(D8,3,1))","v":""}]
[null,3,"","","",null,null,"",null,"","",{"$f":"IF(E9=\"\",\"\",IF(COUNTIF(V$7:$V9,V9)=1,\"\",dcall))","v":""},{"$f":"IF(N9>1,COUNTIF($H$7:H9,H9),7)","v":7},1,1,null,null,null,"",":","","0","",""]
[null,4,"","","",null,null,"",null,"","",{"$f":"IF(E10=\"\",\"\",IF(COUNTIF(V$7:$V10,V10)=1,\"\",dcall))","v":""},{"$f":"IF(N10>1,COUNTIF($H$7:H10,H10),7)","v":7},1,1,null,null,null,"",":","","0","",""]
[null,5,"","","",null,null,"",null,"","",{"$f":"IF(E11=\"\",\"\",IF(COUNTIF(V$7:$V11,V11)=1,\"\",dcall))","v":""},{"$f":"IF(N11>1,COUNTIF($H$7:H11,H11),7)","v":7},1,1,null,null,null,"",":","","0","",""]
[null,6,"","","",null,null,"",null,"","",{"$f":"IF(E12=\"\",\"\",IF(COUNTIF(V$7:$V12,V12)=1,\"\",dcall))","v":""},{"$f":"IF(N12>1,COUNTIF($H$7:H12,H12),7)","v":7},1,1,null,null,null,"",":","","0","",""]
[null,7,"","","",null,null,"",null,"","",{"$f":"IF(E13=\"\",\"\",IF(COUNTIF(V$7:$V13,V13)=1,\"\",dcall))","v":""},{"$f":"IF(N13>1,COUNTIF($H$7:H13,H13),7)","v":7},1,1,null,null,null,"",":","","0","",""]
[null,8,"","","",null,null,"",null,"","",{"$f":"IF(E14=\"\",\"\",IF(COUNTIF(V$7:$V14,V14)=1,\"\",dcall))","v":""},{"$f":"IF(N14>1,COUNTIF($H$7:H14,H14),7)","v":7},1,1,null,null,null,"",":","","0","",""]
[null,9,"","","",null,null,"",null,"","",{"$f":"IF(E15=\"\",\"\",IF(COUNTIF(V$7:$V15,V15)=1,\"\",dcall))","v":""},{"$f":"IF(N15>1,COUNTIF($H$7:H15,H15),7)","v":7},1,1,null,null,null,"",":","","0","",""]
[null,10,"","","",null,null,"",null,"","",{"$f":"IF(E16=\"\",\"\",IF(COUNTIF(V$7:$V16,V16)=1,\"\",dcall))","v":""},{"$f":"IF(N16>1,COUNTIF($H$7:H16,H16),7)","v":7},1,1,null,null,null,"",":","","0","",""]
[null,11,"","","",null,null,"",null,"","",{"$f":"IF(E17=\"\",\"\",IF(COUNTIF(V$7:$V17,V17)=1,\"\",dcall))","v":""},{"$f":"IF(N17>1,COUNTIF($H$7:H17,H17),7)","v":7},1,1,null,null,null,"",":","","0","",""]
[null,12,"","","",null,null,"",null,"","",{"$f":"IF(E18=\"\",\"\",IF(COUNTIF(V$7:$V18,V18)=1,\"\",dcall))","v":""},{"$f":"IF(N18>1,COUNTIF($H$7:H18,H18),7)","v":7},1,1,null,null,null,"",":","","0","",""]
[null,13,"","","",null,null,"",null,"","",{"$f":"IF(E19=\"\",\"\",IF(COUNTIF(V$7:$V19,V19)=1,\"\",dcall))","v":""},{"$f":"IF(N19>1,COUNTIF($H$7:H19,H19),7)","v":7},1,1,null,null,null,"",":","","0","",""]
[null,14,"","","",null,null,"",null,"","",{"$f":"IF(E20=\"\",\"\",IF(COUNTIF(V$7:$V20,V20)=1,\"\",dcall))","v":""},{"$f":"IF(N20>1,COUNTIF($H$7:H20,H20),7)","v":7},1,1,null,null,null,"",":","","0","",""]
[null,15,"","","",null,null,"",null,"",{"$f":"IF(E21=\"\",\"\",IF(M21=1,1,\"\"))","v":""},{"$f":"IF(E21=\"\",\"\",IF(COUNTIF(V$7:$V21,V21)=1,\"\",dcall))","v":""},{"$f":"IF(N21>1,COUNTIF($H$7:H21,H21),7)","v":7},1,1,null,null,null,"",":","","0","",""]
[null,16,"","","",null,null,"",null,"","",{"$f":"IF(E22=\"\",\"\",IF(COUNTIF(V$7:$V22,V22)=1,\"\",dcall))","v":""},{"$f":"IF(N22>1,COUNTIF($H$7:H22,H22),7)","v":7},1,1,null,null,null,"",":","","0","",""]
[null,17,"","","",null,null,"",null,"","",{"$f":"IF(E23=\"\",\"\",IF(COUNTIF(V$7:$V23,V23)=1,\"\",dcall))","v":""},{"$f":"IF(N23>1,COUNTIF($H$7:H23,H23),7)","v":7},1,1,null,null,null,"",":","","0","",""]
[null,18,"","","",null,null,"",null,"","",{"$f":"IF(E24=\"\",\"\",IF(COUNTIF(V$7:$V24,V24)=1,\"\",dcall))","v":""},{"$f":"IF(N24>1,COUNTIF($H$7:H24,H24),7)","v":7},1,1,null,null,null,"",":","","0","",""]
[null,19,"","","",null,null,"",null,"","",{"$f":"IF(E25=\"\",\"\",IF(COUNTIF(V$7:$V25,V25)=1,\"\",dcall))","v":""},{"$f":"IF(N25>1,COUNTIF($H$7:H25,H25),7)","v":7},1,1,null,null,null,"",":","","0","",""]
[null,20,"","","",null,null,"",null,"","",{"$f":"IF(E26=\"\",\"\",IF(COUNTIF(V$7:$V26,V26)=1,\"\",dcall))","v":""},{"$f":"IF(N26>1,COUNTIF($H$7:H26,H26),7)","v":7},1,1,null,null,null,"",":","","0","",""]
[null,21,"","","",null,null,"",null,"","",{"$f":"IF(E27=\"\",\"\",IF(COUNTIF(V$7:$V27,V27)=1,\"\",dcall))","v":""},{"$f":"IF(N27>1,COUNTIF($H$7:H27,H27),7)","v":7},1,1,null,null,null,"",":","","0","",""]
[null,22,"","","",null,null,"",null,"","",{"$f":"IF(E28=\"\",\"\",IF(COUNTIF(V$7:$V28,V28)=1,\"\",dcall))","v":""},{"$f":"IF(N28>1,COUNTIF($H$7:H28,H28),7)","v":7},1,1,null,null,null,"",":","","0","",""]
[null,23,"","","",null,null,"",null,"","",{"$f":"IF(E29=\"\",\"\",IF(COUNTIF(V$7:$V29,V29)=1,\"\",dcall))","v":""},{"$f":"IF(N29>1,COUNTIF($H$7:H29,H29),7)","v":7},1,1,null,null,null,"",":","","0","",""]
[null,24,"","","",null,null,"",null,"","",{"$f":"IF(E30=\"\",\"\",IF(COUNTIF(V$7:$V30,V30)=1,\"\",dcall))","v":""},{"$f":"IF(N30>1,COUNTIF($H$7:H30,H30),7)","v":7},1,1,null,null,null,"",":","","0","",""]
[null,25,"","","",null,null,"",null,"","",{"$f":"IF(E31=\"\",\"\",IF(COUNTIF(V$7:$V31,V31)=1,\"\",dcall))","v":""},{"$f":"IF(N31>1,COUNTIF($H$7:H31,H31),7)","v":7},1,1,null,null,null,"",":","","0","",""]
[null,26,"","","",null,null,"",null,"","",{"$f":"IF(E32=\"\",\"\",IF(COUNTIF(V$7:$V32,V32)=1,\"\",dcall))","v":""},{"$f":"IF(N32>1,COUNTIF($H$7:H32,H32),7)","v":7},1,1,null,null,null,"",":","","0","",""]
[null,27,"","","",null,null,"",null,"","",{"$f":"IF(E33=\"\",\"\",IF(COUNTIF(V$7:$V33,V33)=1,\"\",dcall))","v":""},{"$f":"IF(N33>1,COUNTIF($H$7:H33,H33),7)","v":7},1,1,null,null,null,"",":","","0","",""]
[null,28,"","","",null,null,"",null,"","",{"$f":"IF(E34=\"\",\"\",IF(COUNTIF(V$7:$V34,V34)=1,\"\",dcall))","v":""},{"$f":"IF(N34>1,COUNTIF($H$7:H34,H34),7)","v":7},1,1,null,null,null,"",":","","0","",""]
[null,29,"","","",null,null,"",null,"","",{"$f":"IF(E35=\"\",\"\",IF(COUNTIF(V$7:$V35,V35)=1,\"\",dcall))","v":""},{"$f":"IF(N35>1,COUNTIF($H$7:H35,H35),7)","v":7},1,1,null,null,null,"",":","","0","",""]
[null,30,"","","",null,null,"",null,"","",{"$f":"IF(E36=\"\",\"\",IF(COUNTIF(V$7:$V36,V36)=1,\"\",dcall))","v":""},{"$f":"IF(N36>1,COUNTIF($H$7:H36,H36),7)","v":7},1,1,null,null,null,"",":","","0","",""]
[null,31,"","","",null,null,"",null,"","",{"$f":"IF(E37=\"\",\"\",IF(COUNTIF(V$7:$V37,V37)=1,\"\",dcall))","v":""},{"$f":"IF(N37>1,COUNTIF($H$7:H37,H37),7)","v":7},1,1,null,null,null,"",":","","0","",""]
[null,32,"","","",null,null,"",null,"","",{"$f":"IF(E38=\"\",\"\",IF(COUNTIF(V$7:$V38,V38)=1,\"\",dcall))","v":""},{"$f":"IF(N38>1,COUNTIF($H$7:H38,H38),7)","v":7},1,1,null,null,null,"",":","","0","",""]
[null,33,"","","",null,null,"",null,"","",{"$f":"IF(E39=\"\",\"\",IF(COUNTIF(V$7:$V39,V39)=1,\"\",dcall))","v":""},{"$f":"IF(N39>1,COUNTIF($H$7:H39,H39),7)","v":7},1,1,null,null,null,"",":","","0","",""]
[null,34,"","","",null,null,"",null,"","",{"$f":"IF(E40=\"\",\"\",IF(COUNTIF(V$7:$V40,V40)=1,\"\",dcall))","v":""},{"$f":"IF(N40>1,COUNTIF($H$7:H40,H40),7)","v":7},1,1,null,null,null,"",":","","0","",""]
[null,35,"","","",null,null,"",null,"","",{"$f":"IF(E41=\"\",\"\",IF(COUNTIF(V$7:$V41,V41)=1,\"\",dcall))","v":""},{"$f":"IF(N41>1,COUNTIF($H$7:H41,H41),7)","v":7},1,1,null,null,null,"",":","","0","",""]
[null,36,"","","",null,null,"",null,"","",{"$f":"IF(E42=\"\",\"\",IF(COUNTIF(V$7:$V42,V42)=1,\"\",dcall))","v":""},{"$f":"IF(N42>1,COUNTIF($H$7:H42,H42),7)","v":7},1,1,null,null,null,"",":","","0","",""]
[null,37,"","","",null,null,"",null,"","",{"$f":"IF(E43=\"\",\"\",IF(COUNTIF(V$7:$V43,V43)=1,\"\",dcall))","v":""},{"$f":"IF(N43>1,COUNTIF($H$7:H43,H43),7)","v":7},1,1,null,null,null,"",":","","0","",""]
[null,38,"","","",null,null,"",null,"","",{"$f":"IF(E44=\"\",\"\",IF(COUNTIF(V$7:$V44,V44)=1,\"\",dcall))","v":""},{"$f":"IF(N44>1,COUNTIF($H$7:H44,H44),7)","v":7},1,1,null,null,null,"",":","","0","",""]
[null,39,"","","",null,null,"",null,"","",{"$f":"IF(E45=\"\",\"\",IF(COUNTIF(V$7:$V45,V45)=1,\"\",dcall))","v":""},{"$f":"IF(N45>1,COUNTIF($H$7:H45,H45),7)","v":7},1,1,null,null,null,"",":","","0","",""]
[null,40,"","","",null,null,"",null,"","",{"$f":"IF(E46=\"\",\"\",IF(COUNTIF(V$7:$V46,V46)=1,\"\",dcall))","v":""},{"$f":"IF(N46>1,COUNTIF($H$7:H46,H46),7)","v":7},1,1,null,null,null,"",":","","0","",""]
[null,41,"","","",null,null,"",null,"","",{"$f":"IF(E47=\"\",\"\",IF(COUNTIF(V$7:$V47,V47)=1,\"\",dcall))","v":""},{"$f":"IF(N47>1,COUNTIF($H$7:H47,H47),7)","v":7},1,1,null,null,null,"",":","","0","",""]
[null,42,"","","",null,null,"",null,"","",{"$f":"IF(E48=\"\",\"\",IF(COUNTIF(V$7:$V48,V48)=1,\"\",dcall))","v":""},{"$f":"IF(N48>1,COUNTIF($H$7:H48,H48),7)","v":7},1,1,null,null,null,"",":","","0","",""]
[null,43,"","","",null,null,"",null,"","",{"$f":"IF(E49=\"\",\"\",IF(COUNTIF(V$7:$V49,V49)=1,\"\",dcall))","v":""},{"$f":"IF(N49>1,COUNTIF($H$7:H49,H49),7)","v":7},1,1,null,null,null,"",":","","0","",""]
[null,44,"","","",null,null,"",null,"","",{"$f":"IF(E50=\"\",\"\",IF(COUNTIF(V$7:$V50,V50)=1,\"\",dcall))","v":""},{"$f":"IF(N50>1,COUNTIF($H$7:H50,H50),7)","v":7},1,1,null,null,null,"",":","","0","",""]
[null,45,"","","",null,null,"",null,"","",{"$f":"IF(E51=\"\",\"\",IF(COUNTIF(V$7:$V51,V51)=1,\"\",dcall))","v":""},{"$f":"IF(N51>1,COUNTIF($H$7:H51,H51),7)","v":7},1,1,null,null,null,"",":","","0","",""]
[null,46,"","","",null,null,"",null,"","",{"$f":"IF(E52=\"\",\"\",IF(COUNTIF(V$7:$V52,V52)=1,\"\",dcall))","v":""},{"$f":"IF(N52>1,COUNTIF($H$7:H52,H52),7)","v":7},1,1,null,null,null,"",":","","0","",""]
[null,47,"","","",null,null,"",null,"","",{"$f":"IF(E53=\"\",\"\",IF(COUNTIF(V$7:$V53,V53)=1,\"\",dcall))","v":""},{"$f":"IF(N53>1,COUNTIF($H$7:H53,H53),7)","v":7},1,1,null,null,null,"",":","","0","",""]
[null,48,"","","",null,null,"",null,"","",{"$f":"IF(E54=\"\",\"\",IF(COUNTIF(V$7:$V54,V54)=1,\"\",dcall))","v":""},{"$f":"IF(N54>1,COUNTIF($H$7:H54,H54),7)","v":7},1,1,null,null,null,"",":","","0","",""]
[null,49,"","","",null,null,"",null,"","",{"$f":"IF(E55=\"\",\"\",IF(COUNTIF(V$7:$V55,V55)=1,\"\",dcall))","v":""},{"$f":"IF(N55>1,COUNTIF($H$7:H55,H55),7)","v":7},1,1,null,null,null,"",":","","0","",""]
[null,50,"","","",null,null,"",null,"","",{"$f":"IF(E56=\"\",\"\",IF(COUNTIF(V$7:$V56,V56)=1,\"\",dcall))","v":""},{"$f":"IF(N56>1,COUNTIF($H$7:H56,H56),7)","v":7},1,1,null,null,null,"",":","","0","",""]
[null,51,"","","",null,null,"",null,"","",{"$f":"IF(E57=\"\",\"\",IF(COUNTIF(V$7:$V57,V57)=1,\"\",dcall))","v":""},{"$f":"IF(N57>1,COUNTIF($H$7:H57,H57),7)","v":7},1,1,null,null,null,"",":","","0","",""]
[null,52,"","","",null,null,"",null,"","",{"$f":"IF(E58=\"\",\"\",IF(COUNTIF(V$7:$V58,V58)=1,\"\",dcall))","v":""},{"$f":"IF(N58>1,COUNTIF($H$7:H58,H58),7)","v":7},1,1,null,null,null,"",":","","0","",""]
[null,53,"","","",null,null,"",null,"","",{"$f":"IF(E59=\"\",\"\",IF(COUNTIF(V$7:$V59,V59)=1,\"\",dcall))","v":""},{"$f":"IF(N59>1,COUNTIF($H$7:H59,H59),7)","v":7},1,1,null,null,null,"",":","","0","",""]
[null,54,"","","",null,null,"",null,"","",{"$f":"IF(E60=\"\",\"\",IF(COUNTIF(V$7:$V60,V60)=1,\"\",dcall))","v":""},{"$f":"IF(N60>1,COUNTIF($H$7:H60,H60),7)","v":7},1,1,null,null,null,"",":","","0","",""]
[null,55,"","","",null,null,"",null,"","",{"$f":"IF(E61=\"\",\"\",IF(COUNTIF(V$7:$V61,V61)=1,\"\",dcall))","v":""},{"$f":"IF(N61>1,COUNTIF($H$7:H61,H61),7)","v":7},1,1,null,null,null,"",":","","0","",""]
[null,56,"","","",null,null,"",null,"","",{"$f":"IF(E62=\"\",\"\",IF(COUNTIF(V$7:$V62,V62)=1,\"\",dcall))","v":""},{"$f":"IF(N62>1,COUNTIF($H$7:H62,H62),7)","v":7},1,1,null,null,null,"",":","","0","",""]
[null,57,"","","",null,null,"",null,"","",{"$f":"IF(E63=\"\",\"\",IF(COUNTIF(V$7:$V63,V63)=1,\"\",dcall))","v":""},{"$f":"IF(N63>1,COUNTIF($H$7:H63,H63),7)","v":7},1,1,null,null,null,"",":","","0","",""]
[null,58,"","","",null,null,"",null,"","",{"$f":"IF(E64=\"\",\"\",IF(COUNTIF(V$7:$V64,V64)=1,\"\",dcall))","v":""},{"$f":"IF(N64>1,COUNTIF($H$7:H64,H64),7)","v":7},1,1,null,null,null,"",":","","0","",""]
[null,59,"","","",null,null,"",null,"","",{"$f":"IF(E65=\"\",\"\",IF(COUNTIF(V$7:$V65,V65)=1,\"\",dcall))","v":""},{"$f":"IF(N65>1,COUNTIF($H$7:H65,H65),7)","v":7},1,1,null,null,null,"",":","","0","",""]
[null,60,"","","",null,null,"",null,"","",{"$f":"IF(E66=\"\",\"\",IF(COUNTIF(V$7:$V66,V66)=1,\"\",dcall))","v":""},{"$f":"IF(N66>1,COUNTIF($H$7:H66,H66),7)","v":7},1,1,null,null,null,"",":","","0","",""]
[null,61,"","","",null,null,"",null,"","",{"$f":"IF(E67=\"\",\"\",IF(COUNTIF(V$7:$V67,V67)=1,\"\",dcall))","v":""},{"$f":"IF(N67>1,COUNTIF($H$7:H67,H67),7)","v":7},1,1,null,null,null,"",":","","0","",""]
[null,62,"","","",null,null,"",null,"","",{"$f":"IF(E68=\"\",\"\",IF(COUNTIF(V$7:$V68,V68)=1,\"\",dcall))","v":""},{"$f":"IF(N68>1,COUNTIF($H$7:H68,H68),7)","v":7},1,1,null,null,null,"",":","","0","",""]
[null,63,"","","",null,null,"",null,"","",{"$f":"IF(E69=\"\",\"\",IF(COUNTIF(V$7:$V69,V69)=1,\"\",dcall))","v":""},{"$f":"IF(N69>1,COUNTIF($H$7:H69,H69),7)","v":7},1,1,null,null,null,"",":","","0","",""]
[null,64,"","","",null,null,"",null,"","",{"$f":"IF(E70=\"\",\"\",IF(COUNTIF(V$7:$V70,V70)=1,\"\",dcall))","v":""},{"$f":"IF(N70>1,COUNTIF($H$7:H70,H70),7)","v":7},1,1,null,null,null,"",":","","0","",""]
[null,65,"","","",null,null,"",null,"","",{"$f":"IF(E71=\"\",\"\",IF(COUNTIF(V$7:$V71,V71)=1,\"\",dcall))","v":""},{"$f":"IF(N71>1,COUNTIF($H$7:H71,H71),7)","v":7},1,1,null,null,null,"",{"$f":"IF(W71=0,\"\",IF(W71=5,W71,CONCATENATE(LEFT(W71,2),\":\",RIGHT(W71,2))))","v":":"},"","0","",""]
[null,66,{"$f":"IF(F72>0,date1,\"\")","v":""},"","",null,null,"",null,{"$f":"IF(E72=\"\",\"\",IF(L72=\"\",O72,0))","v":""},"",{"$f":"IF(E72=\"\",\"\",IF(COUNTIF(V$7:$V72,V72)=1,\"\",dcall))","v":""},{"$f":"IF(N72>1,COUNTIF($H$7:H72,H72),7)","v":7},{"$f":"IF(COUNTIF(dokli,H72)>0,5,IF(COUNTIF(vfdbdok,H72)>0,10,1))","v":1},{"$f":"IF(H72=dok,0,N72)","v":1},null,null,null,{"$f":"UPPER(SUBSTITUTE(H72,\" \",\"\",1))","v":""},":",{"$f":"UPPER(E72)","v":""},{"$f":"CONCATENATE(E72,LEN(G72))","v":"0"},{"$f":"IF(X72=\":\",IF(LEN(D72)=4,CONCATENATE(\"0\",LEFT(D72,1),RIGHT(D72,2)),D72),IF(LEN(D72)=3,CONCATENATE(\"0\",D72),D72))","v":""},{"$f":"IF(LEN(D72)=4,MID(D72,2,1),MID(D72,3,1))","v":""}]
[null,67,"","","",null,null,"",null,"","",{"$f":"IF(E73=\"\",\"\",IF(COUNTIF(V$7:$V73,V73)=1,\"\",dcall))","v":""},{"$f":"IF(N73>1,COUNTIF($H$7:H73,H73),7)","v":7},1,1,null,null,null,"",":","","0","",""]
[null,68,"","","",null,null,"",null,"","",{"$f":"IF(E74=\"\",\"\",IF(COUNTIF(V$7:$V74,V74)=1,\"\",dcall))","v":""},{"$f":"IF(N74>1,COUNTIF($H$7:H74,H74),7)","v":7},1,1,null,null,null,"",":","","0","",""]
[null,69,"","","",null,null,"",null,"","",{"$f":"IF(E75=\"\",\"\",IF(COUNTIF(V$7:$V75,V75)=1,\"\",dcall))","v":""},{"$f":"IF(N75>1,COUNTIF($H$7:H75,H75),7)","v":7},1,1,null,null,null,"",":","","0","",""]
[null,70,"","","",null,null,"",null,"","",{"$f":"IF(E76=\"\",\"\",IF(COUNTIF(V$7:$V76,V76)=1,\"\",dcall))","v":""},{"$f":"IF(N76>1,COUNTIF($H$7:H76,H76),7)","v":7},1,1,null,null,null,"",":","","0","",""]
[null,71,"","","",null,null,"",null,"","",{"$f":"IF(E77=\"\",\"\",IF(COUNTIF(V$7:$V77,V77)=1,\"\",dcall))","v":""},{"$f":"IF(N77>1,COUNTIF($H$7:H77,H77),7)","v":7},1,1,null,null,null,"",":","","0","",""]
[null,72,"","","",null,null,"",null,"","",{"$f":"IF(E78=\"\",\"\",IF(COUNTIF(V$7:$V78,V78)=1,\"\",dcall))","v":""},{"$f":"IF(N78>1,COUNTIF($H$7:H78,H78),7)","v":7},1,1,null,null,null,"",":","","0","",""]
[null,73,"","","",null,null,"",null,"","",{"$f":"IF(E79=\"\",\"\",IF(COUNTIF(V$7:$V79,V79)=1,\"\",dcall))","v":""},{"$f":"IF(N79>1,COUNTIF($H$7:H79,H79),7)","v":7},1,1,null,null,null,"",":","","0","",""]
[null,74,"","","",null,null,"",null,"","",{"$f":"IF(E80=\"\",\"\",IF(COUNTIF(V$7:$V80,V80)=1,\"\",dcall))","v":""},{"$f":"IF(N80>1,COUNTIF($H$7:H80,H80),7)","v":7},1,1,null,null,null,"",":","","0","",""]
[null,75,"","","",null,null,"",null,"","",{"$f":"IF(E81=\"\",\"\",IF(COUNTIF(V$7:$V81,V81)=1,\"\",dcall))","v":""},{"$f":"IF(N81>1,COUNTIF($H$7:H81,H81),7)","v":7},1,1,null,null,null,"",":","","0","",""]
[null,76,"","","",null,null,"",null,"","",{"$f":"IF(E82=\"\",\"\",IF(COUNTIF(V$7:$V82,V82)=1,\"\",dcall))","v":""},{"$f":"IF(N82>1,COUNTIF($H$7:H82,H82),7)","v":7},1,1,null,null,null,"",":","","0","",""]
[null,77,"","","",null,null,"",null,"","",{"$f":"IF(E83=\"\",\"\",IF(COUNTIF(V$7:$V83,V83)=1,\"\",dcall))","v":""},{"$f":"IF(N83>1,COUNTIF($H$7:H83,H83),7)","v":7},1,1,null,null,null,"",":","","0","",""]
[null,78,"","","",null,null,"",null,"","",{"$f":"IF(E84=\"\",\"\",IF(COUNTIF(V$7:$V84,V84)=1,\"\",dcall))","v":""},{"$f":"IF(N84>1,COUNTIF($H$7:H84,H84),7)","v":7},1,1,null,null,null,"",":","","0","",""]
[null,79,"","","",null,null,"",null,"",{"$f":"IF(E85=\"\",\"\",IF(M85=1,1,\"\"))","v":""},{"$f":"IF(E85=\"\",\"\",IF(COUNTIF(V$7:$V85,V85)=1,\"\",dcall))","v":""},{"$f":"IF(N85>1,COUNTIF($H$7:H85,H85),7)","v":7},1,1,null,null,null,"",":","","0","",""]
[null,80,"","","",null,null,"",null,"","",{"$f":"IF(E86=\"\",\"\",IF(COUNTIF(V$7:$V86,V86)=1,\"\",dcall))","v":""},{"$f":"IF(N86>1,COUNTIF($H$7:H86,H86),7)","v":7},1,1,null,null,null,"",":","","0","",""]
[null,81,"","","",null,null,"",null,"","",{"$f":"IF(E87=\"\",\"\",IF(COUNTIF(V$7:$V87,V87)=1,\"\",dcall))","v":""},{"$f":"IF(N87>1,COUNTIF($H$7:H87,H87),7)","v":7},1,1,null,null,null,"",":","","0","",""]
[null,82,"","","",null,null,"",null,"","",{"$f":"IF(E88=\"\",\"\",IF(COUNTIF(V$7:$V88,V88)=1,\"\",dcall))","v":""},{"$f":"IF(N88>1,COUNTIF($H$7:H88,H88),7)","v":7},1,1,null,null,null,"",":","","0","",""]
[null,83,"","","",null,null,"",null,"","",{"$f":"IF(E89=\"\",\"\",IF(COUNTIF(V$7:$V89,V89)=1,\"\",dcall))","v":""},{"$f":"IF(N89>1,COUNTIF($H$7:H89,H89),7)","v":7},1,1,null,null,null,"",":","","0","",""]
[null,84,"","","",null,null,"",null,"","",{"$f":"IF(E90=\"\",\"\",IF(COUNTIF(V$7:$V90,V90)=1,\"\",dcall))","v":""},{"$f":"IF(N90>1,COUNTIF($H$7:H90,H90),7)","v":7},1,1,null,null,null,"",":","","0","",""]
[null,85,"","","",null,null,"",null,"","",{"$f":"IF(E91=\"\",\"\",IF(COUNTIF(V$7:$V91,V91)=1,\"\",dcall))","v":""},{"$f":"IF(N91>1,COUNTIF($H$7:H91,H91),7)","v":7},1,1,null,null,null,"",":","","0","",""]
[null,86,"","","",null,null,"",null,"","",{"$f":"IF(E92=\"\",\"\",IF(COUNTIF(V$7:$V92,V92)=1,\"\",dcall))","v":""},{"$f":"IF(N92>1,COUNTIF($H$7:H92,H92),7)","v":7},1,1,null,null,null,"",":","","0","",""]
[null,87,"","","",null,null,"",null,"","",{"$f":"IF(E93=\"\",\"\",IF(COUNTIF(V$7:$V93,V93)=1,\"\",dcall))","v":""},{"$f":"IF(N93>1,COUNTIF($H$7:H93,H93),7)","v":7},1,1,null,null,null,"",":","","0","",""]
[null,88,"","","",null,null,"",null,"","",{"$f":"IF(E94=\"\",\"\",IF(COUNTIF(V$7:$V94,V94)=1,\"\",dcall))","v":""},{"$f":"IF(N94>1,COUNTIF($H$7:H94,H94),7)","v":7},1,1,null,null,null,"",":","","0","",""]
[null,89,"","","",null,null,"",null,"","",{"$f":"IF(E95=\"\",\"\",IF(COUNTIF(V$7:$V95,V95)=1,\"\",dcall))","v":""},{"$f":"IF(N95>1,COUNTIF($H$7:H95,H95),7)","v":7},1,1,null,null,null,"",":","","0","",""]
[null,90,"","","",null,null,"",null,"","",{"$f":"IF(E96=\"\",\"\",IF(COUNTIF(V$7:$V96,V96)=1,\"\",dcall))","v":""},{"$f":"IF(N96>1,COUNTIF($H$7:H96,H96),7)","v":7},1,1,null,null,null,"",":","","0","",""]
[null,91,"","","",null,null,"",null,"","",{"$f":"IF(E97=\"\",\"\",IF(COUNTIF(V$7:$V97,V97)=1,\"\",dcall))","v":""},{"$f":"IF(N97>1,COUNTIF($H$7:H97,H97),7)","v":7},1,1,null,null,null,"",":","","0","",""]
[null,92,"","","",null,null,"",null,"","",{"$f":"IF(E98=\"\",\"\",IF(COUNTIF(V$7:$V98,V98)=1,\"\",dcall))","v":""},{"$f":"IF(N98>1,COUNTIF($H$7:H98,H98),7)","v":7},1,1,null,null,null,"",":","","0","",""]
[null,93,"","","",null,null,"",null,"","",{"$f":"IF(E99=\"\",\"\",IF(COUNTIF(V$7:$V99,V99)=1,\"\",dcall))","v":""},{"$f":"IF(N99>1,COUNTIF($H$7:H99,H99),7)","v":7},1,1,null,null,null,"",":","","0","",""]
[null,94,"","","",null,null,"",null,"","",{"$f":"IF(E100=\"\",\"\",IF(COUNTIF(V$7:$V100,V100)=1,\"\",dcall))","v":""},{"$f":"IF(N100>1,COUNTIF($H$7:H100,H100),7)","v":7},1,1,null,null,null,"",":","","0","",""]
[null,95,"","","",null,null,"",null,"","",{"$f":"IF(E101=\"\",\"\",IF(COUNTIF(V$7:$V101,V101)=1,\"\",dcall))","v":""},{"$f":"IF(N101>1,COUNTIF($H$7:H101,H101),7)","v":7},1,1,null,null,null,"",":","","0","",""]
[null,96,"","","",null,null,"",null,"","",{"$f":"IF(E102=\"\",\"\",IF(COUNTIF(V$7:$V102,V102)=1,\"\",dcall))","v":""},{"$f":"IF(N102>1,COUNTIF($H$7:H102,H102),7)","v":7},1,1,null,null,null,"",":","","0","",""]
[null,97,"","","",null,null,"",null,"","",{"$f":"IF(E103=\"\",\"\",IF(COUNTIF(V$7:$V103,V103)=1,\"\",dcall))","v":""},{"$f":"IF(N103>1,COUNTIF($H$7:H103,H103),7)","v":7},1,1,null,null,null,"",":","","0","",""]
[null,98,"","","",null,null,"",null,"","",{"$f":"IF(E104=\"\",\"\",IF(COUNTIF(V$7:$V104,V104)=1,\"\",dcall))","v":""},{"$f":"IF(N104>1,COUNTIF($H$7:H104,H104),7)","v":7},1,1,null,null,null,"",":","","0","",""]
[null,99,"","","",null,null,"",null,"","",{"$f":"IF(E105=\"\",\"\",IF(COUNTIF(V$7:$V105,V105)=1,\"\",dcall))","v":""},{"$f":"IF(N105>1,COUNTIF($H$7:H105,H105),7)","v":7},1,1,null,null,null,"",":","","0","",""]
[null,100,"","","",null,null,"",null,"","",{"$f":"IF(E106=\"\",\"\",IF(COUNTIF(V$7:$V106,V106)=1,\"\",dcall))","v":""},{"$f":"IF(N106>1,COUNTIF($H$7:H106,H106),7)","v":7},1,1,null,null,null,"",":","","0","",""]
[null,101,"","","",null,null,"",null,"","",{"$f":"IF(E107=\"\",\"\",IF(COUNTIF(V$7:$V107,V107)=1,\"\",dcall))","v":""},{"$f":"IF(N107>1,COUNTIF($H$7:H107,H107),7)","v":7},1,1,null,null,null,"",":","","0","",""]
[null,102,"","","",null,null,"",null,"","",{"$f":"IF(E108=\"\",\"\",IF(COUNTIF(V$7:$V108,V108)=1,\"\",dcall))","v":""},{"$f":"IF(N108>1,COUNTIF($H$7:H108,H108),7)","v":7},1,1,null,null,null,"",":","","0","",""]
[null,103,"","","",null,null,"",null,"","",{"$f":"IF(E109=\"\",\"\",IF(COUNTIF(V$7:$V109,V109)=1,\"\",dcall))","v":""},{"$f":"IF(N109>1,COUNTIF($H$7:H109,H109),7)","v":7},1,1,null,null,null,"",":","","0","",""]
[null,104,"","","",null,null,"",null,"","",{"$f":"IF(E110=\"\",\"\",IF(COUNTIF(V$7:$V110,V110)=1,\"\",dcall))","v":""},{"$f":"IF(N110>1,COUNTIF($H$7:H110,H110),7)","v":7},1,1,null,null,null,"",":","","0","",""]
[null,105,"","","",null,null,"",null,"","",{"$f":"IF(E111=\"\",\"\",IF(COUNTIF(V$7:$V111,V111)=1,\"\",dcall))","v":""},{"$f":"IF(N111>1,COUNTIF($H$7:H111,H111),7)","v":7},1,1,null,null,null,"",":","","0","",""]
[null,106,"","","",null,null,"",null,"","",{"$f":"IF(E112=\"\",\"\",IF(COUNTIF(V$7:$V112,V112)=1,\"\",dcall))","v":""},{"$f":"IF(N112>1,COUNTIF($H$7:H112,H112),7)","v":7},1,1,null,null,null,"",":","","0","",""]
[null,107,"","","",null,null,"",null,"","",{"$f":"IF(E113=\"\",\"\",IF(COUNTIF(V$7:$V113,V113)=1,\"\",dcall))","v":""},{"$f":"IF(N113>1,COUNTIF($H$7:H113,H113),7)","v":7},1,1,null,null,null,"",":","","0","",""]
[null,108,"","","",null,null,"",null,"","",{"$f":"IF(E114=\"\",\"\",IF(COUNTIF(V$7:$V114,V114)=1,\"\",dcall))","v":""},{"$f":"IF(N114>1,COUNTIF($H$7:H114,H114),7)","v":7},1,1,null,null,null,"",":","","0","",""]
[null,109,"","","",null,null,"",null,"","",{"$f":"IF(E115=\"\",\"\",IF(COUNTIF(V$7:$V115,V115)=1,\"\",dcall))","v":""},{"$f":"IF(N115>1,COUNTIF($H$7:H115,H115),7)","v":7},1,1,null,null,null,"",":","","0","",""]
[null,110,"","","",null,null,"",null,"","",{"$f":"IF(E116=\"\",\"\",IF(COUNTIF(V$7:$V116,V116)=1,\"\",dcall))","v":""},{"$f":"IF(N116>1,COUNTIF($H$7:H116,H116),7)","v":7},1,1,null,null,null,"",":","","0","",""]
[null,111,"","","",null,null,"",null,"","",{"$f":"IF(E117=\"\",\"\",IF(COUNTIF(V$7:$V117,V117)=1,\"\",dcall))","v":""},{"$f":"IF(N117>1,COUNTIF($H$7:H117,H117),7)","v":7},1,1,null,null,null,"",":","","0","",""]
[null,112,"","","",null,null,"",null,"","",{"$f":"IF(E118=\"\",\"\",IF(COUNTIF(V$7:$V118,V118)=1,\"\",dcall))","v":""},{"$f":"IF(N118>1,COUNTIF($H$7:H118,H118),7)","v":7},1,1,null,null,null,"",":","","0","",""]
[null,113,"","","",null,null,"",null,"","",{"$f":"IF(E119=\"\",\"\",IF(COUNTIF(V$7:$V119,V119)=1,\"\",dcall))","v":""},{"$f":"IF(N119>1,COUNTIF($H$7:H119,H119),7)","v":7},1,1,null,null,null,"",":","","0","",""]
[null,114,"","","",null,null,"",null,"","",{"$f":"IF(E120=\"\",\"\",IF(COUNTIF(V$7:$V120,V120)=1,\"\",dcall))","v":""},{"$f":"IF(N120>1,COUNTIF($H$7:H120,H120),7)","v":7},1,1,null,null,null,"",":","","0","",""]
[null,115,"","","",null,null,"",null,"","",{"$f":"IF(E121=\"\",\"\",IF(COUNTIF(V$7:$V121,V121)=1,\"\",dcall))","v":""},{"$f":"IF(N121>1,COUNTIF($H$7:H121,H121),7)","v":7},1,1,null,null,null,"",":","","0","",""]
[null,116,"","","",null,null,"",null,"","",{"$f":"IF(E122=\"\",\"\",IF(COUNTIF(V$7:$V122,V122)=1,\"\",dcall))","v":""},{"$f":"IF(N122>1,COUNTIF($H$7:H122,H122),7)","v":7},1,1,null,null,null,"",":","","0","",""]
[null,117,"","","",null,null,"",null,"","",{"$f":"IF(E123=\"\",\"\",IF(COUNTIF(V$7:$V123,V123)=1,\"\",dcall))","v":""},{"$f":"IF(N123>1,COUNTIF($H$7:H123,H123),7)","v":7},1,1,null,null,null,"",":","","0","",""]
[null,118,"","","",null,null,"",null,"","",{"$f":"IF(E124=\"\",\"\",IF(COUNTIF(V$7:$V124,V124)=1,\"\",dcall))","v":""},{"$f":"IF(N124>1,COUNTIF($H$7:H124,H124),7)","v":7},1,1,null,null,null,"",":","","0","",""]
[null,119,"","","",null,null,"",null,"","",{"$f":"IF(E125=\"\",\"\",IF(COUNTIF(V$7:$V125,V125)=1,\"\",dcall))","v":""},{"$f":"IF(N125>1,COUNTIF($H$7:H125,H125),7)","v":7},1,1,null,null,null,"",":","","0","",""]
[null,120,"","","",null,null,"",null,"","",{"$f":"IF(E126=\"\",\"\",IF(COUNTIF(V$7:$V126,V126)=1,\"\",dcall))","v":""},{"$f":"IF(N126>1,COUNTIF($H$7:H126,H126),7)","v":7},1,1,null,null,null,"",":","","0","",""]
[null,121,"","","",null,null,"",null,"","",{"$f":"IF(E127=\"\",\"\",IF(COUNTIF(V$7:$V127,V127)=1,\"\",dcall))","v":""},{"$f":"IF(N127>1,COUNTIF($H$7:H127,H127),7)","v":7},1,1,null,null,null,"",":","","0","",""]
[null,122,"","","",null,null,"",null,"","",{"$f":"IF(E128=\"\",\"\",IF(COUNTIF(V$7:$V128,V128)=1,\"\",dcall))","v":""},{"$f":"IF(N128>1,COUNTIF($H$7:H128,H128),7)","v":7},1,1,null,null,null,"",":","","0","",""]
[null,123,"","","",null,null,"",null,"","",{"$f":"IF(E129=\"\",\"\",IF(COUNTIF(V$7:$V129,V129)=1,\"\",dcall))","v":""},{"$f":"IF(N129>1,COUNTIF($H$7:H129,H129),7)","v":7},1,1,null,null,null,"",":","","0","",""]
[null,124,"","","",null,null,"",null,"","",{"$f":"IF(E130=\"\",\"\",IF(COUNTIF(V$7:$V130,V130)=1,\"\",dcall))","v":""},{"$f":"IF(N130>1,COUNTIF($H$7:H130,H130),7)","v":7},1,1,null,null,null,"",":","","0","",""]
[null,125,"","","",null,null,"",null,"","",{"$f":"IF(E131=\"\",\"\",IF(COUNTIF(V$7:$V131,V131)=1,\"\",dcall))","v":""},{"$f":"IF(N131>1,COUNTIF($H$7:H131,H131),7)","v":7},1,1,null,null,null,"",":","","0","",""]
[null,126,"","","",null,null,"",null,"","",{"$f":"IF(E132=\"\",\"\",IF(COUNTIF(V$7:$V132,V132)=1,\"\",dcall))","v":""},{"$f":"IF(N132>1,COUNTIF($H$7:H132,H132),7)","v":7},1,1,null,null,null,"",":","","0","",""]
[null,127,"","","",null,null,"",null,"","",{"$f":"IF(E133=\"\",\"\",IF(COUNTIF(V$7:$V133,V133)=1,\"\",dcall))","v":""},{"$f":"IF(N133>1,COUNTIF($H$7:H133,H133),7)","v":7},1,1,null,null,null,"",":","","0","",""]
[null,128,"","","",null,null,"",null,"","",{"$f":"IF(E134=\"\",\"\",IF(COUNTIF(V$7:$V134,V134)=1,\"\",dcall))","v":""},{"$f":"IF(N134>1,COUNTIF($H$7:H134,H134),7)","v":7},1,1,null,null,null,"",":","","0","",""]
[null,129,"","","",null,null,"",null,"","",{"$f":"IF(E135=\"\",\"\",IF(COUNTIF(V$7:$V135,V135)=1,\"\",dcall))","v":""},{"$f":"IF(N135>1,COUNTIF($H$7:H135,H135),7)","v":7},1,1,null,null,null,"",{"$f":"IF(W135=0,\"\",IF(W135=5,W135,CONCATENATE(LEFT(W135,2),\":\",RIGHT(W135,2))))","v":":"},"","0","",""]
[null,130,{"$f":"IF(F136>0,date1,\"\")","v":""},"","",null,null,"",null,{"$f":"IF(E136=\"\",\"\",IF(L136=\"\",O136,0))","v":""},"",{"$f":"IF(E136=\"\",\"\",IF(COUNTIF(V$7:$V136,V136)=1,\"\",dcall))","v":""},{"$f":"IF(N136>1,COUNTIF($H$7:H136,H136),7)","v":7},{"$f":"IF(COUNTIF(dokli,H136)>0,5,IF(COUNTIF(vfdbdok,H136)>0,10,1))","v":1},{"$f":"IF(H136=dok,0,N136)","v":1},null,null,null,{"$f":"UPPER(SUBSTITUTE(H136,\" \",\"\",1))","v":""},":",{"$f":"UPPER(E136)","v":""},{"$f":"CONCATENATE(E136,LEN(G136))","v":"0"},{"$f":"IF(X136=\":\",IF(LEN(D136)=4,CONCATENATE(\"0\",LEFT(D136,1),RIGHT(D136,2)),D136),IF(LEN(D136)=3,CONCATENATE(\"0\",D136),D136))","v":""},{"$f":"IF(LEN(D136)=4,MID(D136,2,1),MID(D136,3,1))","v":""}]
[null,131,"","","",null,null,"",null,"","",{"$f":"IF(E137=\"\",\"\",IF(COUNTIF(V$7:$V137,V137)=1,\"\",dcall))","v":""},{"$f":"IF(N137>1,COUNTIF($H$7:H137,H137),7)","v":7},1,1,null,null,null,"",":","","0","",""]
[null,132,"","","",null,null,"",null,"","",{"$f":"IF(E138=\"\",\"\",IF(COUNTIF(V$7:$V138,V138)=1,\"\",dcall))","v":""},{"$f":"IF(N138>1,COUNTIF($H$7:H138,H138),7)","v":7},1,1,null,null,null,"",":","","0","",""]
[null,133,"","","",null,null,"",null,"","",{"$f":"IF(E139=\"\",\"\",IF(COUNTIF(V$7:$V139,V139)=1,\"\",dcall))","v":""},{"$f":"IF(N139>1,COUNTIF($H$7:H139,H139),7)","v":7},1,1,null,null,null,"",":","","0","",""]
[null,134,"","","",null,null,"",null,"","",{"$f":"IF(E140=\"\",\"\",IF(COUNTIF(V$7:$V140,V140)=1,\"\",dcall))","v":""},{"$f":"IF(N140>1,COUNTIF($H$7:H140,H140),7)","v":7},1,1,null,null,null,"",":","","0","",""]
[null,135,"","","",null,null,"",null,"","",{"$f":"IF(E141=\"\",\"\",IF(COUNTIF(V$7:$V141,V141)=1,\"\",dcall))","v":""},{"$f":"IF(N141>1,COUNTIF($H$7:H141,H141),7)","v":7},1,1,null,null,null,"",":","","0","",""]
[null,136,"","","",null,null,"",null,"","",{"$f":"IF(E142=\"\",\"\",IF(COUNTIF(V$7:$V142,V142)=1,\"\",dcall))","v":""},{"$f":"IF(N142>1,COUNTIF($H$7:H142,H142),7)","v":7},1,1,null,null,null,"",":","","0","",""]
[null,137,"","","",null,null,"",null,"","",{"$f":"IF(E143=\"\",\"\",IF(COUNTIF(V$7:$V143,V143)=1,\"\",dcall))","v":""},{"$f":"IF(N143>1,COUNTIF($H$7:H143,H143),7)","v":7},1,1,null,null,null,"",":","","0","",""]
[null,138,"","","",null,null,"",null,"","",{"$f":"IF(E144=\"\",\"\",IF(COUNTIF(V$7:$V144,V144)=1,\"\",dcall))","v":""},{"$f":"IF(N144>1,COUNTIF($H$7:H144,H144),7)","v":7},1,1,null,null,null,"",":","","0","",""]
[null,139,"","","",null,null,"",null,"","",{"$f":"IF(E145=\"\",\"\",IF(COUNTIF(V$7:$V145,V145)=1,\"\",dcall))","v":""},{"$f":"IF(N145>1,COUNTIF($H$7:H145,H145),7)","v":7},1,1,null,null,null,"",":","","0","",""]
[null,140,"","","",null,null,"",null,"","",{"$f":"IF(E146=\"\",\"\",IF(COUNTIF(V$7:$V146,V146)=1,\"\",dcall))","v":""},{"$f":"IF(N146>1,COUNTIF($H$7:H146,H146),7)","v":7},1,1,null,null,null,"",":","","0","",""]
[null,141,"","","",null,null,"",null,"","",{"$f":"IF(E147=\"\",\"\",IF(COUNTIF(V$7:$V147,V147)=1,\"\",dcall))","v":""},{"$f":"IF(N147>1,COUNTIF($H$7:H147,H147),7)","v":7},1,1,null,null,null,"",":","","0","",""]
[null,142,"","","",null,null,"",null,"","",{"$f":"IF(E148=\"\",\"\",IF(COUNTIF(V$7:$V148,V148)=1,\"\",dcall))","v":""},{"$f":"IF(N148>1,COUNTIF($H$7:H148,H148),7)","v":7},1,1,null,null,null,"",":","","0","",""]
[null,143,"","","",null,null,"",null,"",{"$f":"IF(E149=\"\",\"\",IF(M149=1,1,\"\"))","v":""},{"$f":"IF(E149=\"\",\"\",IF(COUNTIF(V$7:$V149,V149)=1,\"\",dcall))","v":""},{"$f":"IF(N149>1,COUNTIF($H$7:H149,H149),7)","v":7},1,1,null,null,null,"",":","","0","",""]
[null,144,"","","",null,null,"",null,"","",{"$f":"IF(E150=\"\",\"\",IF(COUNTIF(V$7:$V150,V150)=1,\"\",dcall))","v":""},{"$f":"IF(N150>1,COUNTIF($H$7:H150,H150),7)","v":7},1,1,null,null,null,"",":","","0","",""]
[null,145,"","","",null,null,"",null,"","",{"$f":"IF(E151=\"\",\"\",IF(COUNTIF(V$7:$V151,V151)=1,\"\",dcall))","v":""},{"$f":"IF(N151>1,COUNTIF($H$7:H151,H151),7)","v":7},1,1,null,null,null,"",":","","0","",""]
[null,146,"","","",null,null,"",null,"","",{"$f":"IF(E152=\"\",\"\",IF(COUNTIF(V$7:$V152,V152)=1,\"\",dcall))","v":""},{"$f":"IF(N152>1,COUNTIF($H$7:H152,H152),7)","v":7},1,1,null,null,null,"",":","","0","",""]
[null,147,"","","",null,null,"",null,"","",{"$f":"IF(E153=\"\",\"\",IF(COUNTIF(V$7:$V153,V153)=1,\"\",dcall))","v":""},{"$f":"IF(N153>1,COUNTIF($H$7:H153,H153),7)","v":7},1,1,null,null,null,"",":","","0","",""]
[null,148,"","","",null,null,"",null,"","",{"$f":"IF(E154=\"\",\"\",IF(COUNTIF(V$7:$V154,V154)=1,\"\",dcall))","v":""},{"$f":"IF(N154>1,COUNTIF($H$7:H154,H154),7)","v":7},1,1,null,null,null,"",":","","0","",""]
[null,149,"","","",null,null,"",null,"","",{"$f":"IF(E155=\"\",\"\",IF(COUNTIF(V$7:$V155,V155)=1,\"\",dcall))","v":""},{"$f":"IF(N155>1,COUNTIF($H$7:H155,H155),7)","v":7},1,1,null,null,null,"",":","","0","",""]
[null,150,"","","",null,null,"",null,"","",{"$f":"IF(E156=\"\",\"\",IF(COUNTIF(V$7:$V156,V156)=1,\"\",dcall))","v":""},{"$f":"IF(N156>1,COUNTIF($H$7:H156,H156),7)","v":7},1,1,null,null,null,"",":","","0","",""]
[null,151,"","","",null,null,"",null,"","",{"$f":"IF(E157=\"\",\"\",IF(COUNTIF(V$7:$V157,V157)=1,\"\",dcall))","v":""},{"$f":"IF(N157>1,COUNTIF($H$7:H157,H157),7)","v":7},1,1,null,null,null,"",":","","0","",""]
[null,152,"","","",null,null,"",null,"","",{"$f":"IF(E158=\"\",\"\",IF(COUNTIF(V$7:$V158,V158)=1,\"\",dcall))","v":""},{"$f":"IF(N158>1,COUNTIF($H$7:H158,H158),7)","v":7},1,1,null,null,null,"",":","","0","",""]
[null,153,"","","",null,null,"",null,"","",{"$f":"IF(E159=\"\",\"\",IF(COUNTIF(V$7:$V159,V159)=1,\"\",dcall))","v":""},{"$f":"IF(N159>1,COUNTIF($H$7:H159,H159),7)","v":7},1,1,null,null,null,"",":","","0","",""]
[null,154,"","","",null,null,"",null,"","",{"$f":"IF(E160=\"\",\"\",IF(COUNTIF(V$7:$V160,V160)=1,\"\",dcall))","v":""},{"$f":"IF(N160>1,COUNTIF($H$7:H160,H160),7)","v":7},1,1,null,null,null,"",":","","0","",""]
[null,155,"","","",null,null,"",null,"","",{"$f":"IF(E161=\"\",\"\",IF(COUNTIF(V$7:$V161,V161)=1,\"\",dcall))","v":""},{"$f":"IF(N161>1,COUNTIF($H$7:H161,H161),7)","v":7},1,1,null,null,null,"",":","","0","",""]
[null,156,"","","",null,null,"",null,"","",{"$f":"IF(E162=\"\",\"\",IF(COUNTIF(V$7:$V162,V162)=1,\"\",dcall))","v":""},{"$f":"IF(N162>1,COUNTIF($H$7:H162,H162),7)","v":7},1,1,null,null,null,"",":","","0","",""]
[null,157,"","","",null,null,"",null,"","",{"$f":"IF(E163=\"\",\"\",IF(COUNTIF(V$7:$V163,V163)=1,\"\",dcall))","v":""},{"$f":"IF(N163>1,COUNTIF($H$7:H163,H163),7)","v":7},1,1,null,null,null,"",":","","0","",""]
[null,158,"","","",null,null,"",null,"","",{"$f":"IF(E164=\"\",\"\",IF(COUNTIF(V$7:$V164,V164)=1,\"\",dcall))","v":""},{"$f":"IF(N164>1,COUNTIF($H$7:H164,H164),7)","v":7},1,1,null,null,null,"",":","","0","",""]
[null,159,"","","",null,null,"",null,"","",{"$f":"IF(E165=\"\",\"\",IF(COUNTIF(V$7:$V165,V165)=1,\"\",dcall))","v":""},{"$f":"IF(N165>1,COUNTIF($H$7:H165,H165),7)","v":7},1,1,null,null,null,"",":","","0","",""]
[null,160,"","","",null,null,"",null,"","",{"$f":"IF(E166=\"\",\"\",IF(COUNTIF(V$7:$V166,V166)=1,\"\",dcall))","v":""},{"$f":"IF(N166>1,COUNTIF($H$7:H166,H166),7)","v":7},1,1,null,null,null,"",":","","0","",""]
[null,161,"","","",null,null,"",null,"","",{"$f":"IF(E167=\"\",\"\",IF(COUNTIF(V$7:$V167,V167)=1,\"\",dcall))","v":""},{"$f":"IF(N167>1,COUNTIF($H$7:H167,H167),7)","v":7},1,1,null,null,null,"",":","","0","",""]
[null,162,"","","",null,null,"",null,"","",{"$f":"IF(E168=\"\",\"\",IF(COUNTIF(V$7:$V168,V168)=1,\"\",dcall))","v":""},{"$f":"IF(N168>1,COUNTIF($H$7:H168,H168),7)","v":7},1,1,null,null,null,"",":","","0","",""]
[null,163,"","","",null,null,"",null,"","",{"$f":"IF(E169=\"\",\"\",IF(COUNTIF(V$7:$V169,V169)=1,\"\",dcall))","v":""},{"$f":"IF(N169>1,COUNTIF($H$7:H169,H169),7)","v":7},1,1,null,null,null,"",":","","0","",""]
[null,164,"","","",null,null,"",null,"","",{"$f":"IF(E170=\"\",\"\",IF(COUNTIF(V$7:$V170,V170)=1,\"\",dcall))","v":""},{"$f":"IF(N170>1,COUNTIF($H$7:H170,H170),7)","v":7},1,1,null,null,null,"",":","","0","",""]
[null,165,"","","",null,null,"",null,"","",{"$f":"IF(E171=\"\",\"\",IF(COUNTIF(V$7:$V171,V171)=1,\"\",dcall))","v":""},{"$f":"IF(N171>1,COUNTIF($H$7:H171,H171),7)","v":7},1,1,null,null,null,"",":","","0","",""]
[null,166,"","","",null,null,"",null,"","",{"$f":"IF(E172=\"\",\"\",IF(COUNTIF(V$7:$V172,V172)=1,\"\",dcall))","v":""},{"$f":"IF(N172>1,COUNTIF($H$7:H172,H172),7)","v":7},1,1,null,null,null,"",":","","0","",""]
[null,167,"","","",null,null,"",null,"","",{"$f":"IF(E173=\"\",\"\",IF(COUNTIF(V$7:$V173,V173)=1,\"\",dcall))","v":""},{"$f":"IF(N173>1,COUNTIF($H$7:H173,H173),7)","v":7},1,1,null,null,null,"",":","","0","",""]
[null,168,"","","",null,null,"",null,"","",{"$f":"IF(E174=\"\",\"\",IF(COUNTIF(V$7:$V174,V174)=1,\"\",dcall))","v":""},{"$f":"IF(N174>1,COUNTIF($H$7:H174,H174),7)","v":7},1,1,null,null,null,"",":","","0","",""]
[null,169,"","","",null,null,"",null,"","",{"$f":"IF(E175=\"\",\"\",IF(COUNTIF(V$7:$V175,V175)=1,\"\",dcall))","v":""},{"$f":"IF(N175>1,COUNTIF($H$7:H175,H175),7)","v":7},1,1,null,null,null,"",":","","0","",""]
[null,170,"","","",null,null,"",null,"","",{"$f":"IF(E176=\"\",\"\",IF(COUNTIF(V$7:$V176,V176)=1,\"\",dcall))","v":""},{"$f":"IF(N176>1,COUNTIF($H$7:H176,H176),7)","v":7},1,1,null,null,null,"",":","","0","",""]
[null,171,"","","",null,null,"",null,"","",{"$f":"IF(E177=\"\",\"\",IF(COUNTIF(V$7:$V177,V177)=1,\"\",dcall))","v":""},{"$f":"IF(N177>1,COUNTIF($H$7:H177,H177),7)","v":7},1,1,null,null,null,"",":","","0","",""]
[null,172,"","","",null,null,"",null,"","",{"$f":"IF(E178=\"\",\"\",IF(COUNTIF(V$7:$V178,V178)=1,\"\",dcall))","v":""},{"$f":"IF(N178>1,COUNTIF($H$7:H178,H178),7)","v":7},1,1,null,null,null,"",":","","0","",""]
[null,173,"","","",null,null,"",null,"","",{"$f":"IF(E179=\"\",\"\",IF(COUNTIF(V$7:$V179,V179)=1,\"\",dcall))","v":""},{"$f":"IF(N179>1,COUNTIF($H$7:H179,H179),7)","v":7},1,1,null,null,null,"",":","","0","",""]
[null,174,"","","",null,null,"",null,"","",{"$f":"IF(E180=\"\",\"\",IF(COUNTIF(V$7:$V180,V180)=1,\"\",dcall))","v":""},{"$f":"IF(N180>1,COUNTIF($H$7:H180,H180),7)","v":7},1,1,null,null,null,"",":","","0","",""]
[null,175,"","","",null,null,"",null,"","",{"$f":"IF(E181=\"\",\"\",IF(COUNTIF(V$7:$V181,V181)=1,\"\",dcall))","v":""},{"$f":"IF(N181>1,COUNTIF($H$7:H181,H181),7)","v":7},1,1,null,null,null,"",":","","0","",""]
[null,176,"","","",null,null,"",null,"","",{"$f":"IF(E182=\"\",\"\",IF(COUNTIF(V$7:$V182,V182)=1,\"\",dcall))","v":""},{"$f":"IF(N182>1,COUNTIF($H$7:H182,H182),7)","v":7},1,1,null,null,null,"",":","","0","",""]
[null,177,"","","",null,null,"",null,"","",{"$f":"IF(E183=\"\",\"\",IF(COUNTIF(V$7:$V183,V183)=1,\"\",dcall))","v":""},{"$f":"IF(N183>1,COUNTIF($H$7:H183,H183),7)","v":7},1,1,null,null,null,"",":","","0","",""]
[null,178,"","","",null,null,"",null,"","",{"$f":"IF(E184=\"\",\"\",IF(COUNTIF(V$7:$V184,V184)=1,\"\",dcall))","v":""},{"$f":"IF(N184>1,COUNTIF($H$7:H184,H184),7)","v":7},1,1,null,null,null,"",":","","0","",""]
[null,179,"","","",null,null,"",null,"","",{"$f":"IF(E185=\"\",\"\",IF(COUNTIF(V$7:$V185,V185)=1,\"\",dcall))","v":""},{"$f":"IF(N185>1,COUNTIF($H$7:H185,H185),7)","v":7},1,1,null,null,null,"",":","","0","",""]
[null,180,"","","",null,null,"",null,"","",{"$f":"IF(E186=\"\",\"\",IF(COUNTIF(V$7:$V186,V186)=1,\"\",dcall))","v":""},{"$f":"IF(N186>1,COUNTIF($H$7:H186,H186),7)","v":7},1,1,null,null,null,"",":","","0","",""]
[null,181,"","","",null,null,"",null,"","",{"$f":"IF(E187=\"\",\"\",IF(COUNTIF(V$7:$V187,V187)=1,\"\",dcall))","v":""},{"$f":"IF(N187>1,COUNTIF($H$7:H187,H187),7)","v":7},1,1,null,null,null,"",":","","0","",""]
[null,182,"","","",null,null,"",null,"","",{"$f":"IF(E188=\"\",\"\",IF(COUNTIF(V$7:$V188,V188)=1,\"\",dcall))","v":""},{"$f":"IF(N188>1,COUNTIF($H$7:H188,H188),7)","v":7},1,1,null,null,null,"",":","","0","",""]
[null,183,"","","",null,null,"",null,"","",{"$f":"IF(E189=\"\",\"\",IF(COUNTIF(V$7:$V189,V189)=1,\"\",dcall))","v":""},{"$f":"IF(N189>1,COUNTIF($H$7:H189,H189),7)","v":7},1,1,null,null,null,"",":","","0","",""]
[null,184,"","","",null,null,"",null,"","",{"$f":"IF(E190=\"\",\"\",IF(COUNTIF(V$7:$V190,V190)=1,\"\",dcall))","v":""},{"$f":"IF(N190>1,COUNTIF($H$7:H190,H190),7)","v":7},1,1,null,null,null,"",":","","0","",""]
[null,185,"","","",null,null,"",null,"","",{"$f":"IF(E191=\"\",\"\",IF(COUNTIF(V$7:$V191,V191)=1,\"\",dcall))","v":""},{"$f":"IF(N191>1,COUNTIF($H$7:H191,H191),7)","v":7},1,1,null,null,null,"",":","","0","",""]
[null,186,"","","",null,null,"",null,"","",{"$f":"IF(E192=\"\",\"\",IF(COUNTIF(V$7:$V192,V192)=1,\"\",dcall))","v":""},{"$f":"IF(N192>1,COUNTIF($H$7:H192,H192),7)","v":7},1,1,null,null,null,"",":","","0","",""]
[null,187,"","","",null,null,"",null,"","",{"$f":"IF(E193=\"\",\"\",IF(COUNTIF(V$7:$V193,V193)=1,\"\",dcall))","v":""},{"$f":"IF(N193>1,COUNTIF($H$7:H193,H193),7)","v":7},1,1,null,null,null,"",":","","0","",""]
[null,188,"","","",null,null,"",null,"","",{"$f":"IF(E194=\"\",\"\",IF(COUNTIF(V$7:$V194,V194)=1,\"\",dcall))","v":""},{"$f":"IF(N194>1,COUNTIF($H$7:H194,H194),7)","v":7},1,1,null,null,null,"",":","","0","",""]
[null,189,"","","",null,null,"",null,"","",{"$f":"IF(E195=\"\",\"\",IF(COUNTIF(V$7:$V195,V195)=1,\"\",dcall))","v":""},{"$f":"IF(N195>1,COUNTIF($H$7:H195,H195),7)","v":7},1,1,null,null,null,"",":","","0","",""]
[null,190,"","","",null,null,"",null,"","",{"$f":"IF(E196=\"\",\"\",IF(COUNTIF(V$7:$V196,V196)=1,\"\",dcall))","v":""},{"$f":"IF(N196>1,COUNTIF($H$7:H196,H196),7)","v":7},1,1,null,null,null,"",":","","0","",""]
[null,191,"","","",null,null,"",null,"","",{"$f":"IF(E197=\"\",\"\",IF(COUNTIF(V$7:$V197,V197)=1,\"\",dcall))","v":""},{"$f":"IF(N197>1,COUNTIF($H$7:H197,H197),7)","v":7},1,1,null,null,null,"",":","","0","",""]
[null,192,"","","",null,null,"",null,"","",{"$f":"IF(E198=\"\",\"\",IF(COUNTIF(V$7:$V198,V198)=1,\"\",dcall))","v":""},{"$f":"IF(N198>1,COUNTIF($H$7:H198,H198),7)","v":7},1,1,null,null,null,"",":","","0","",""]
[null,193,"","","",null,null,"",null,"","",{"$f":"IF(E199=\"\",\"\",IF(COUNTIF(V$7:$V199,V199)=1,\"\",dcall))","v":""},{"$f":"IF(N199>1,COUNTIF($H$7:H199,H199),7)","v":7},1,1,null,null,null,"",{"$f":"IF(W199=0,\"\",IF(W199=5,W199,CONCATENATE(LEFT(W199,2),\":\",RIGHT(W199,2))))","v":":"},"","0","",""]
[null,194,{"$f":"IF(F200>0,date1,\"\")","v":""},"","",null,null,"",null,{"$f":"IF(E200=\"\",\"\",IF(L200=\"\",O200,0))","v":""},"",{"$f":"IF(E200=\"\",\"\",IF(COUNTIF(V$7:$V200,V200)=1,\"\",dcall))","v":""},{"$f":"IF(N200>1,COUNTIF($H$7:H200,H200),7)","v":7},{"$f":"IF(COUNTIF(dokli,H200)>0,5,IF(COUNTIF(vfdbdok,H200)>0,10,1))","v":1},{"$f":"IF(H200=dok,0,N200)","v":1},null,null,null,{"$f":"UPPER(SUBSTITUTE(H200,\" \",\"\",1))","v":""},":",{"$f":"UPPER(E200)","v":""},{"$f":"CONCATENATE(E200,LEN(G200))","v":"0"},{"$f":"IF(X200=\":\",IF(LEN(D200)=4,CONCATENATE(\"0\",LEFT(D200,1),RIGHT(D200,2)),D200),IF(LEN(D200)=3,CONCATENATE(\"0\",D200),D200))","v":""},{"$f":"IF(LEN(D200)=4,MID(D200,2,1),MID(D200,3,1))","v":""}]
[null,195,"","","",null,null,"",null,"","",{"$f":"IF(E201=\"\",\"\",IF(COUNTIF(V$7:$V201,V201)=1,\"\",dcall))","v":""},{"$f":"IF(N201>1,COUNTIF($H$7:H201,H201),7)","v":7},1,1,null,null,null,"",":","","0","",""]
[null,196,"","","",null,null,"",null,"","",{"$f":"IF(E202=\"\",\"\",IF(COUNTIF(V$7:$V202,V202)=1,\"\",dcall))","v":""},{"$f":"IF(N202>1,COUNTIF($H$7:H202,H202),7)","v":7},1,1,null,null,null,"",":","","0","",""]
[null,197,"","","",null,null,"",null,"","",{"$f":"IF(E203=\"\",\"\",IF(COUNTIF(V$7:$V203,V203)=1,\"\",dcall))","v":""},{"$f":"IF(N203>1,COUNTIF($H$7:H203,H203),7)","v":7},1,1,null,null,null,"",":","","0","",""]
[null,198,"","","",null,null,"",null,"","",{"$f":"IF(E204=\"\",\"\",IF(COUNTIF(V$7:$V204,V204)=1,\"\",dcall))","v":""},{"$f":"IF(N204>1,COUNTIF($H$7:H204,H204),7)","v":7},1,1,null,null,null,"",":","","0","",""]
[null,199,"","","",null,null,"",null,"","",{"$f":"IF(E205=\"\",\"\",IF(COUNTIF(V$7:$V205,V205)=1,\"\",dcall))","v":""},{"$f":"IF(N205>1,COUNTIF($H$7:H205,H205),7)","v":7},1,1,null,null,null,"",":","","0","",""]
[null,200,"","","",null,null,"",null,"","",{"$f":"IF(E206=\"\",\"\",IF(COUNTIF(V$7:$V206,V206)=1,\"\",dcall))","v":""},{"$f":"IF(N206>1,COUNTIF($H$7:H206,H206),7)","v":7},1,1,null,null,null,"",":","","0","",""]
[null,201,"","","",null,null,"",null,"","",{"$f":"IF(E207=\"\",\"\",IF(COUNTIF(V$7:$V207,V207)=1,\"\",dcall))","v":""},{"$f":"IF(N207>1,COUNTIF($H$7:H207,H207),7)","v":7},1,1,null,null,null,"",":","","0","",""]
[null,202,"","","",null,null,"",null,"","",{"$f":"IF(E208=\"\",\"\",IF(COUNTIF(V$7:$V208,V208)=1,\"\",dcall))","v":""},{"$f":"IF(N208>1,COUNTIF($H$7:H208,H208),7)","v":7},1,1,null,null,null,"",":","","0","",""]
[null,203,"","","",null,null,"",null,"","",{"$f":"IF(E209=\"\",\"\",IF(COUNTIF(V$7:$V209,V209)=1,\"\",dcall))","v":""},{"$f":"IF(N209>1,COUNTIF($H$7:H209,H209),7)","v":7},1,1,null,null,null,"",":","","0","",""]
[null,204,"","","",null,null,"",null,"","",{"$f":"IF(E210=\"\",\"\",IF(COUNTIF(V$7:$V210,V210)=1,\"\",dcall))","v":""},{"$f":"IF(N210>1,COUNTIF($H$7:H210,H210),7)","v":7},1,1,null,null,null,"",":","","0","",""]
[null,205,"","","",null,null,"",null,"","",{"$f":"IF(E211=\"\",\"\",IF(COUNTIF(V$7:$V211,V211)=1,\"\",dcall))","v":""},{"$f":"IF(N211>1,COUNTIF($H$7:H211,H211),7)","v":7},1,1,null,null,null,"",":","","0","",""]
[null,206,"","","",null,null,"",null,"","",{"$f":"IF(E212=\"\",\"\",IF(COUNTIF(V$7:$V212,V212)=1,\"\",dcall))","v":""},{"$f":"IF(N212>1,COUNTIF($H$7:H212,H212),7)","v":7},1,1,null,null,null,"",":","","0","",""]
[null,207,"","","",null,null,"",null,"",{"$f":"IF(E213=\"\",\"\",IF(M213=1,1,\"\"))","v":""},{"$f":"IF(E213=\"\",\"\",IF(COUNTIF(V$7:$V213,V213)=1,\"\",dcall))","v":""},{"$f":"IF(N213>1,COUNTIF($H$7:H213,H213),7)","v":7},1,1,null,null,null,"",":","","0","",""]
[null,208,"","","",null,null,"",null,"","",{"$f":"IF(E214=\"\",\"\",IF(COUNTIF(V$7:$V214,V214)=1,\"\",dcall))","v":""},{"$f":"IF(N214>1,COUNTIF($H$7:H214,H214),7)","v":7},1,1,null,null,null,"",":","","0","",""]
[null,209,"","","",null,null,"",null,"","",{"$f":"IF(E215=\"\",\"\",IF(COUNTIF(V$7:$V215,V215)=1,\"\",dcall))","v":""},{"$f":"IF(N215>1,COUNTIF($H$7:H215,H215),7)","v":7},1,1,null,null,null,"",":","","0","",""]
[null,210,"","","",null,null,"",null,"","",{"$f":"IF(E216=\"\",\"\",IF(COUNTIF(V$7:$V216,V216)=1,\"\",dcall))","v":""},{"$f":"IF(N216>1,COUNTIF($H$7:H216,H216),7)","v":7},1,1,null,null,null,"",":","","0","",""]
[null,211,"","","",null,null,"",null,"","",{"$f":"IF(E217=\"\",\"\",IF(COUNTIF(V$7:$V217,V217)=1,\"\",dcall))","v":""},{"$f":"IF(N217>1,COUNTIF($H$7:H217,H217),7)","v":7},1,1,null,null,null,"",":","","0","",""]
[null,212,"","","",null,null,"",null,"","",{"$f":"IF(E218=\"\",\"\",IF(COUNTIF(V$7:$V218,V218)=1,\"\",dcall))","v":""},{"$f":"IF(N218>1,COUNTIF($H$7:H218,H218),7)","v":7},1,1,null,null,null,"",":","","0","",""]
[null,213,"","","",null,null,"",null,"","",{"$f":"IF(E219=\"\",\"\",IF(COUNTIF(V$7:$V219,V219)=1,\"\",dcall))","v":""},{"$f":"IF(N219>1,COUNTIF($H$7:H219,H219),7)","v":7},1,1,null,null,null,"",":","","0","",""]
[null,214,"","","",null,null,"",null,"","",{"$f":"IF(E220=\"\",\"\",IF(COUNTIF(V$7:$V220,V220)=1,\"\",dcall))","v":""},{"$f":"IF(N220>1,COUNTIF($H$7:H220,H220),7)","v":7},1,1,null,null,null,"",":","","0","",""]
[null,215,"","","",null,null,"",null,"","",{"$f":"IF(E221=\"\",\"\",IF(COUNTIF(V$7:$V221,V221)=1,\"\",dcall))","v":""},{"$f":"IF(N221>1,COUNTIF($H$7:H221,H221),7)","v":7},1,1,null,null,null,"",":","","0","",""]
[null,216,"","","",null,null,"",null,"","",{"$f":"IF(E222=\"\",\"\",IF(COUNTIF(V$7:$V222,V222)=1,\"\",dcall))","v":""},{"$f":"IF(N222>1,COUNTIF($H$7:H222,H222),7)","v":7},1,1,null,null,null,"",":","","0","",""]
[null,217,"","","",null,null,"",null,"","",{"$f":"IF(E223=\"\",\"\",IF(COUNTIF(V$7:$V223,V223)=1,\"\",dcall))","v":""},{"$f":"IF(N223>1,COUNTIF($H$7:H223,H223),7)","v":7},1,1,null,null,null,"",":","","0","",""]
[null,218,"","","",null,null,"",null,"","",{"$f":"IF(E224=\"\",\"\",IF(COUNTIF(V$7:$V224,V224)=1,\"\",dcall))","v":""},{"$f":"IF(N224>1,COUNTIF($H$7:H224,H224),7)","v":7},1,1,null,null,null,"",":","","0","",""]
[null,219,"","","",null,null,"",null,"","",{"$f":"IF(E225=\"\",\"\",IF(COUNTIF(V$7:$V225,V225)=1,\"\",dcall))","v":""},{"$f":"IF(N225>1,COUNTIF($H$7:H225,H225),7)","v":7},1,1,null,null,null,"",":","","0","",""]
[null,220,"","","",null,null,"",null,"","",{"$f":"IF(E226=\"\",\"\",IF(COUNTIF(V$7:$V226,V226)=1,\"\",dcall))","v":""},{"$f":"IF(N226>1,COUNTIF($H$7:H226,H226),7)","v":7},1,1,null,null,null,"",":","","0","",""]
[null,221,"","","",null,null,"",null,"","",{"$f":"IF(E227=\"\",\"\",IF(COUNTIF(V$7:$V227,V227)=1,\"\",dcall))","v":""},{"$f":"IF(N227>1,COUNTIF($H$7:H227,H227),7)","v":7},1,1,null,null,null,"",":","","0","",""]
[null,222,"","","",null,null,"",null,"","",{"$f":"IF(E228=\"\",\"\",IF(COUNTIF(V$7:$V228,V228)=1,\"\",dcall))","v":""},{"$f":"IF(N228>1,COUNTIF($H$7:H228,H228),7)","v":7},1,1,null,null,null,"",":","","0","",""]
[null,223,"","","",null,null,"",null,"","",{"$f":"IF(E229=\"\",\"\",IF(COUNTIF(V$7:$V229,V229)=1,\"\",dcall))","v":""},{"$f":"IF(N229>1,COUNTIF($H$7:H229,H229),7)","v":7},1,1,null,null,null,"",":","","0","",""]
[null,224,"","","",null,null,"",null,"","",{"$f":"IF(E230=\"\",\"\",IF(COUNTIF(V$7:$V230,V230)=1,\"\",dcall))","v":""},{"$f":"IF(N230>1,COUNTIF($H$7:H230,H230),7)","v":7},1,1,null,null,null,"",":","","0","",""]
[null,225,"","","",null,null,"",null,"","",{"$f":"IF(E231=\"\",\"\",IF(COUNTIF(V$7:$V231,V231)=1,\"\",dcall))","v":""},{"$f":"IF(N231>1,COUNTIF($H$7:H231,H231),7)","v":7},1,1,null,null,null,"",":","","0","",""]
[null,226,"","","",null,null,"",null,"","",{"$f":"IF(E232=\"\",\"\",IF(COUNTIF(V$7:$V232,V232)=1,\"\",dcall))","v":""},{"$f":"IF(N232>1,COUNTIF($H$7:H232,H232),7)","v":7},1,1,null,null,null,"",":","","0","",""]
[null,227,"","","",null,null,"",null,"","",{"$f":"IF(E233=\"\",\"\",IF(COUNTIF(V$7:$V233,V233)=1,\"\",dcall))","v":""},{"$f":"IF(N233>1,COUNTIF($H$7:H233,H233),7)","v":7},1,1,null,null,null,"",":","","0","",""]
[null,228,"","","",null,null,"",null,"","",{"$f":"IF(E234=\"\",\"\",IF(COUNTIF(V$7:$V234,V234)=1,\"\",dcall))","v":""},{"$f":"IF(N234>1,COUNTIF($H$7:H234,H234),7)","v":7},1,1,null,null,null,"",":","","0","",""]
[null,229,"","","",null,null,"",null,"","",{"$f":"IF(E235=\"\",\"\",IF(COUNTIF(V$7:$V235,V235)=1,\"\",dcall))","v":""},{"$f":"IF(N235>1,COUNTIF($H$7:H235,H235),7)","v":7},1,1,null,null,null,"",":","","0","",""]
[null,230,"","","",null,null,"",null,"","",{"$f":"IF(E236=\"\",\"\",IF(COUNTIF(V$7:$V236,V236)=1,\"\",dcall))","v":""},{"$f":"IF(N236>1,COUNTIF($H$7:H236,H236),7)","v":7},1,1,null,null,null,"",":","","0","",""]
[null,231,"","","",null,null,"",null,"","",{"$f":"IF(E237=\"\",\"\",IF(COUNTIF(V$7:$V237,V237)=1,\"\",dcall))","v":""},{"$f":"IF(N237>1,COUNTIF($H$7:H237,H237),7)","v":7},1,1,null,null,null,"",":","","0","",""]
[null,232,"","","",null,null,"",null,"","",{"$f":"IF(E238=\"\",\"\",IF(COUNTIF(V$7:$V238,V238)=1,\"\",dcall))","v":""},{"$f":"IF(N238>1,COUNTIF($H$7:H238,H238),7)","v":7},1,1,null,null,null,"",":","","0","",""]
[null,233,"","","",null,null,"",null,"","",{"$f":"IF(E239=\"\",\"\",IF(COUNTIF(V$7:$V239,V239)=1,\"\",dcall))","v":""},{"$f":"IF(N239>1,COUNTIF($H$7:H239,H239),7)","v":7},1,1,null,null,null,"",":","","0","",""]
[null,234,"","","",null,null,"",null,"","",{"$f":"IF(E240=\"\",\"\",IF(COUNTIF(V$7:$V240,V240)=1,\"\",dcall))","v":""},{"$f":"IF(N240>1,COUNTIF($H$7:H240,H240),7)","v":7},1,1,null,null,null,"",":","","0","",""]
[null,235,"","","",null,null,"",null,"","",{"$f":"IF(E241=\"\",\"\",IF(COUNTIF(V$7:$V241,V241)=1,\"\",dcall))","v":""},{"$f":"IF(N241>1,COUNTIF($H$7:H241,H241),7)","v":7},1,1,null,null,null,"",":","","0","",""]
[null,236,"","","",null,null,"",null,"","",{"$f":"IF(E242=\"\",\"\",IF(COUNTIF(V$7:$V242,V242)=1,\"\",dcall))","v":""},{"$f":"IF(N242>1,COUNTIF($H$7:H242,H242),7)","v":7},1,1,null,null,null,"",":","","0","",""]
[null,237,"","","",null,null,"",null,"","",{"$f":"IF(E243=\"\",\"\",IF(COUNTIF(V$7:$V243,V243)=1,\"\",dcall))","v":""},{"$f":"IF(N243>1,COUNTIF($H$7:H243,H243),7)","v":7},1,1,null,null,null,"",":","","0","",""]
[null,238,"","","",null,null,"",null,"","",{"$f":"IF(E244=\"\",\"\",IF(COUNTIF(V$7:$V244,V244)=1,\"\",dcall))","v":""},{"$f":"IF(N244>1,COUNTIF($H$7:H244,H244),7)","v":7},1,1,null,null,null,"",":","","0","",""]
[null,239,"","","",null,null,"",null,"","",{"$f":"IF(E245=\"\",\"\",IF(COUNTIF(V$7:$V245,V245)=1,\"\",dcall))","v":""},{"$f":"IF(N245>1,COUNTIF($H$7:H245,H245),7)","v":7},1,1,null,null,null,"",":","","0","",""]
[null,240,"","","",null,null,"",null,"","",{"$f":"IF(E246=\"\",\"\",IF(COUNTIF(V$7:$V246,V246)=1,\"\",dcall))","v":""},{"$f":"IF(N246>1,COUNTIF($H$7:H246,H246),7)","v":7},1,1,null,null,null,"",":","","0","",""]
[null,241,"","","",null,null,"",null,"","",{"$f":"IF(E247=\"\",\"\",IF(COUNTIF(V$7:$V247,V247)=1,\"\",dcall))","v":""},{"$f":"IF(N247>1,COUNTIF($H$7:H247,H247),7)","v":7},1,1,null,null,null,"",":","","0","",""]
[null,242,"","","",null,null,"",null,"","",{"$f":"IF(E248=\"\",\"\",IF(COUNTIF(V$7:$V248,V248)=1,\"\",dcall))","v":""},{"$f":"IF(N248>1,COUNTIF($H$7:H248,H248),7)","v":7},1,1,null,null,null,"",":","","0","",""]
[null,243,"","","",null,null,"",null,"","",{"$f":"IF(E249=\"\",\"\",IF(COUNTIF(V$7:$V249,V249)=1,\"\",dcall))","v":""},{"$f":"IF(N249>1,COUNTIF($H$7:H249,H249),7)","v":7},1,1,null,null,null,"",":","","0","",""]
[null,244,"","","",null,null,"",null,"","",{"$f":"IF(E250=\"\",\"\",IF(COUNTIF(V$7:$V250,V250)=1,\"\",dcall))","v":""},{"$f":"IF(N250>1,COUNTIF($H$7:H250,H250),7)","v":7},1,1,null,null,null,"",":","","0","",""]
[null,245,"","","",null,null,"",null,"","",{"$f":"IF(E251=\"\",\"\",IF(COUNTIF(V$7:$V251,V251)=1,\"\",dcall))","v":""},{"$f":"IF(N251>1,COUNTIF($H$7:H251,H251),7)","v":7},1,1,null,null,null,"",":","","0","",""]
[null,246,"","","",null,null,"",null,"","",{"$f":"IF(E252=\"\",\"\",IF(COUNTIF(V$7:$V252,V252)=1,\"\",dcall))","v":""},{"$f":"IF(N252>1,COUNTIF($H$7:H252,H252),7)","v":7},1,1,null,null,null,"",":","","0","",""]
[null,247,"","","",null,null,"",null,"","",{"$f":"IF(E253=\"\",\"\",IF(COUNTIF(V$7:$V253,V253)=1,\"\",dcall))","v":""},{"$f":"IF(N253>1,COUNTIF($H$7:H253,H253),7)","v":7},1,1,null,null,null,"",":","","0","",""]
[null,248,"","","",null,null,"",null,"","",{"$f":"IF(E254=\"\",\"\",IF(COUNTIF(V$7:$V254,V254)=1,\"\",dcall))","v":""},{"$f":"IF(N254>1,COUNTIF($H$7:H254,H254),7)","v":7},1,1,null,null,null,"",":","","0","",""]
[null,249,"","","",null,null,"",null,"","",{"$f":"IF(E255=\"\",\"\",IF(COUNTIF(V$7:$V255,V255)=1,\"\",dcall))","v":""},{"$f":"IF(N255>1,COUNTIF($H$7:H255,H255),7)","v":7},1,1,null,null,null,"",":","","0","",""]
[null,250,{"$f":"IF(F256>0,date1,\"\")","v":""},"","",null,null,"",null,{"$f":"IF(E256=\"\",\"\",IF(L256=\"\",O256,0))","v":""},{"$f":"IF(E256=\"\",\"\",IF(M256=1,1,\"\"))","v":""},{"$f":"IF(E256=\"\",\"\",IF(COUNTIF(V$7:$V256,V256)=1,\"\",dcall))","v":""},{"$f":"IF(N256>1,COUNTIF($H$7:H256,H256),7)","v":7},{"$f":"IF(COUNTIF(dokli,H256)>0,5,IF(COUNTIF(vfdbdok,H256)>0,10,1))","v":1},{"$f":"IF(H256=dok,0,N256)","v":1},null,null,null,{"$f":"UPPER(SUBSTITUTE(H256,\" \",\"\",1))","v":""},":",{"$f":"UPPER(E256)","v":""},{"$f":"CONCATENATE(E256,LEN(G256))","v":"0"},"",""]
[null,251,"",null,null,null,null,null,null,"","",{"$f":"IF(E257=\"\",\"\",IF(COUNTIF(V$7:$V257,V257)=1,\"\",dcall))","v":""},{"$f":"IF(N257>1,COUNTIF($H$7:H257,H257),7)","v":7},1,1,null,null,null,"","","","0",0,""]
[null,252,"",null,null,null,null,null,null,"","",{"$f":"IF(E258=\"\",\"\",IF(COUNTIF(V$7:$V258,V258)=1,\"\",dcall))","v":""},{"$f":"IF(N258>1,COUNTIF($H$7:H258,H258),7)","v":7},1,1,null,null,null,"","","","0",0,""]
[null,253,"",null,null,null,null,null,null,"","",{"$f":"IF(E259=\"\",\"\",IF(COUNTIF(V$7:$V259,V259)=1,\"\",dcall))","v":""},{"$f":"IF(N259>1,COUNTIF($H$7:H259,H259),7)","v":7},1,1,null,null,null,"","","","0",0,""]
[null,254,"",null,null,null,null,null,null,"","",{"$f":"IF(E260=\"\",\"\",IF(COUNTIF(V$7:$V260,V260)=1,\"\",dcall))","v":""},{"$f":"IF(N260>1,COUNTIF($H$7:H260,H260),7)","v":7},1,1,null,null,null,"","","","0",0,""]
[null,255,"",null,null,null,null,null,null,"","",{"$f":"IF(E261=\"\",\"\",IF(COUNTIF(V$7:$V261,V261)=1,\"\",dcall))","v":""},{"$f":"IF(N261>1,COUNTIF($H$7:H261,H261),7)","v":7},1,1,null,null,null,"","","","0",0,""]
[null,256,"",null,null,null,null,null,null,"","",{"$f":"IF(E262=\"\",\"\",IF(COUNTIF(V$7:$V262,V262)=1,\"\",dcall))","v":""},{"$f":"IF(N262>1,COUNTIF($H$7:H262,H262),7)","v":7},1,1,null,null,null,"","","","0",0,""]
[null,257,"",null,null,null,null,null,null,"","",{"$f":"IF(E263=\"\",\"\",IF(COUNTIF(V$7:$V263,V263)=1,\"\",dcall))","v":""},{"$f":"IF(N263>1,COUNTIF($H$7:H263,H263),7)","v":7},1,1,null,null,null,"",{"$f":"IF(W263=0,\"\",IF(W263=5,W263,CONCATENATE(LEFT(W263,2),\":\",RIGHT(W263,2))))","v":""},"","0",0,""]
[null,258,"",null,null,null,null,null,null,"","",{"$f":"IF(E264=\"\",\"\",IF(COUNTIF(V$7:$V264,V264)=1,\"\",dcall))","v":""},{"$f":"IF(N264>1,COUNTIF($H$7:H264,H264),7)","v":7},1,1,null,null,null,"","","","0",{"$f":"IF(X264=\":\",IF(LEN(D264)=4,CONCATENATE(\"0\",LEFT(D264,1),RIGHT(D264,2)),D264),IF(LEN(D264)=3,CONCATENATE(\"0\",D264),D264))","v":0},{"$f":"IF(LEN(D264)=4,MID(D264,2,1),MID(D264,3,1))","v":""}]
[null,259,"",null,null,null,null,null,null,"","",{"$f":"IF(E265=\"\",\"\",IF(COUNTIF(V$7:$V265,V265)=1,\"\",dcall))","v":""},{"$f":"IF(N265>1,COUNTIF($H$7:H265,H265),7)","v":7},1,1,null,null,null,"","","","0",0,""]
[null,260,"",null,null,null,null,null,null,"","",{"$f":"IF(E266=\"\",\"\",IF(COUNTIF(V$7:$V266,V266)=1,\"\",dcall))","v":""},{"$f":"IF(N266>1,COUNTIF($H$7:H266,H266),7)","v":7},1,1,null,null,null,"","","","0",0,""]
[null,261,"",null,null,null,null,null,null,"","",{"$f":"IF(E267=\"\",\"\",IF(COUNTIF(V$7:$V267,V267)=1,\"\",dcall))","v":""},{"$f":"IF(N267>1,COUNTIF($H$7:H267,H267),7)","v":7},1,1,null,null,null,"","","","0",0,""]
[null,262,"",null,null,null,null,null,null,"","",{"$f":"IF(E268=\"\",\"\",IF(COUNTIF(V$7:$V268,V268)=1,\"\",dcall))","v":""},{"$f":"IF(N268>1,COUNTIF($H$7:H268,H268),7)","v":7},1,1,null,null,null,"","","","0",0,""]
[null,263,"",null,null,null,null,null,null,"","",{"$f":"IF(E269=\"\",\"\",IF(COUNTIF(V$7:$V269,V269)=1,\"\",dcall))","v":""},{"$f":"IF(N269>1,COUNTIF($H$7:H269,H269),7)","v":7},1,1,null,null,null,"","","","0",0,""]
[null,264,"",null,null,null,null,null,null,"","",{"$f":"IF(E270=\"\",\"\",IF(COUNTIF(V$7:$V270,V270)=1,\"\",dcall))","v":""},{"$f":"IF(N270>1,COUNTIF($H$7:H270,H270),7)","v":7},1,1,null,null,null,"","","","0",0,""]
[null,265,"",null,null,null,null,null,null,"","",{"$f":"IF(E271=\"\",\"\",IF(COUNTIF(V$7:$V271,V271)=1,\"\",dcall))","v":""},{"$f":"IF(N271>1,COUNTIF($H$7:H271,H271),7)","v":7},1,1,null,null,null,"","","","0",0,""]
[null,266,"",null,null,null,null,null,null,"","",{"$f":"IF(E272=\"\",\"\",IF(COUNTIF(V$7:$V272,V272)=1,\"\",dcall))","v":""},{"$f":"IF(N272>1,COUNTIF($H$7:H272,H272),7)","v":7},1,1,null,null,null,"","","","0",0,""]
[null,267,"",null,null,null,null,null,null,"","",{"$f":"IF(E273=\"\",\"\",IF(COUNTIF(V$7:$V273,V273)=1,\"\",dcall))","v":""},{"$f":"IF(N273>1,COUNTIF($H$7:H273,H273),7)","v":7},1,1,null,null,null,"","","","0",0,""]
[null,268,"",null,null,null,null,null,null,"","",{"$f":"IF(E274=\"\",\"\",IF(COUNTIF(V$7:$V274,V274)=1,\"\",dcall))","v":""},{"$f":"IF(N274>1,COUNTIF($H$7:H274,H274),7)","v":7},1,1,null,null,null,"","","","0",0,""]
[null,269,"",null,null,null,null,null,null,"","",{"$f":"IF(E275=\"\",\"\",IF(COUNTIF(V$7:$V275,V275)=1,\"\",dcall))","v":""},{"$f":"IF(N275>1,COUNTIF($H$7:H275,H275),7)","v":7},1,1,null,null,null,"","","","0",0,""]
[null,270,"",null,null,null,null,null,null,"","",{"$f":"IF(E276=\"\",\"\",IF(COUNTIF(V$7:$V276,V276)=1,\"\",dcall))","v":""},{"$f":"IF(N276>1,COUNTIF($H$7:H276,H276),7)","v":7},1,1,null,null,null,"","","","0",0,""]
[null,271,"",null,null,null,null,null,null,"","",{"$f":"IF(E277=\"\",\"\",IF(COUNTIF(V$7:$V277,V277)=1,\"\",dcall))","v":""},{"$f":"IF(N277>1,COUNTIF($H$7:H277,H277),7)","v":7},1,1,null,null,null,"","","","0",0,""]
[null,272,"",null,null,null,null,null,null,"","",{"$f":"IF(E278=\"\",\"\",IF(COUNTIF(V$7:$V278,V278)=1,\"\",dcall))","v":""},{"$f":"IF(N278>1,COUNTIF($H$7:H278,H278),7)","v":7},1,1,null,null,null,"","","","0",0,""]
[null,273,"",null,null,null,null,null,null,"","",{"$f":"IF(E279=\"\",\"\",IF(COUNTIF(V$7:$V279,V279)=1,\"\",dcall))","v":""},{"$f":"IF(N279>1,COUNTIF($H$7:H279,H279),7)","v":7},1,1,null,null,null,"","","","0",0,""]
[null,274,"",null,null,null,null,null,null,"","",{"$f":"IF(E280=\"\",\"\",IF(COUNTIF(V$7:$V280,V280)=1,\"\",dcall))","v":""},{"$f":"IF(N280>1,COUNTIF($H$7:H280,H280),7)","v":7},1,1,null,null,null,"","","","0",0,""]
[null,275,"",null,null,null,null,null,null,"","",{"$f":"IF(E281=\"\",\"\",IF(COUNTIF(V$7:$V281,V281)=1,\"\",dcall))","v":""},{"$f":"IF(N281>1,COUNTIF($H$7:H281,H281),7)","v":7},1,1,null,null,null,"","","","0",0,""]
[null,276,"",null,null,null,null,null,null,"","",{"$f":"IF(E282=\"\",\"\",IF(COUNTIF(V$7:$V282,V282)=1,\"\",dcall))","v":""},{"$f":"IF(N282>1,COUNTIF($H$7:H282,H282),7)","v":7},1,1,null,null,null,"","","","0",0,""]
[null,277,"",null,null,null,null,null,null,"","",{"$f":"IF(E283=\"\",\"\",IF(COUNTIF(V$7:$V283,V283)=1,\"\",dcall))","v":""},{"$f":"IF(N283>1,COUNTIF($H$7:H283,H283),7)","v":7},1,1,null,null,null,"","","","0",0,""]
[null,278,"",null,null,null,null,null,null,"","",{"$f":"IF(E284=\"\",\"\",IF(COUNTIF(V$7:$V284,V284)=1,\"\",dcall))","v":""},{"$f":"IF(N284>1,COUNTIF($H$7:H284,H284),7)","v":7},1,1,null,null,null,"","","","0",0,""]
[null,279,"",null,null,null,null,null,null,"","",{"$f":"IF(E285=\"\",\"\",IF(COUNTIF(V$7:$V285,V285)=1,\"\",dcall))","v":""},{"$f":"IF(N285>1,COUNTIF($H$7:H285,H285),7)","v":7},1,1,null,null,null,"","","","0",0,""]
[null,280,"",null,null,null,null,null,null,"","",{"$f":"IF(E286=\"\",\"\",IF(COUNTIF(V$7:$V286,V286)=1,\"\",dcall))","v":""},{"$f":"IF(N286>1,COUNTIF($H$7:H286,H286),7)","v":7},1,1,null,null,null,"","","","0",0,""]
[null,281,"",null,null,null,null,null,null,"","",{"$f":"IF(E287=\"\",\"\",IF(COUNTIF(V$7:$V287,V287)=1,\"\",dcall))","v":""},{"$f":"IF(N287>1,COUNTIF($H$7:H287,H287),7)","v":7},1,1,null,null,null,"","","","0",0,""]
[null,282,"",null,null,null,null,null,null,"","",{"$f":"IF(E288=\"\",\"\",IF(COUNTIF(V$7:$V288,V288)=1,\"\",dcall))","v":""},{"$f":"IF(N288>1,COUNTIF($H$7:H288,H288),7)","v":7},1,1,null,null,null,"","","","0",0,""]
[null,283,"",null,null,null,null,null,null,"","",{"$f":"IF(E289=\"\",\"\",IF(COUNTIF(V$7:$V289,V289)=1,\"\",dcall))","v":""},{"$f":"IF(N289>1,COUNTIF($H$7:H289,H289),7)","v":7},1,1,null,null,null,"","","","0",0,""]
[null,284,"",null,null,null,null,null,null,"","",{"$f":"IF(E290=\"\",\"\",IF(COUNTIF(V$7:$V290,V290)=1,\"\",dcall))","v":""},{"$f":"IF(N290>1,COUNTIF($H$7:H290,H290),7)","v":7},1,1,null,null,null,"","","","0",0,""]
[null,285,"",null,null,null,null,null,null,"","",{"$f":"IF(E291=\"\",\"\",IF(COUNTIF(V$7:$V291,V291)=1,\"\",dcall))","v":""},{"$f":"IF(N291>1,COUNTIF($H$7:H291,H291),7)","v":7},1,1,null,null,null,"","","","0",0,""]
[null,286,"",null,null,null,null,null,null,"","",{"$f":"IF(E292=\"\",\"\",IF(COUNTIF(V$7:$V292,V292)=1,\"\",dcall))","v":""},{"$f":"IF(N292>1,COUNTIF($H$7:H292,H292),7)","v":7},1,1,null,null,null,"","","","0",0,""]
[null,287,"",null,null,null,null,null,null,"","",{"$f":"IF(E293=\"\",\"\",IF(COUNTIF(V$7:$V293,V293)=1,\"\",dcall))","v":""},{"$f":"IF(N293>1,COUNTIF($H$7:H293,H293),7)","v":7},1,1,null,null,null,"","","","0",0,""]
[null,288,"",null,null,null,null,null,null,"","",{"$f":"IF(E294=\"\",\"\",IF(COUNTIF(V$7:$V294,V294)=1,\"\",dcall))","v":""},{"$f":"IF(N294>1,COUNTIF($H$7:H294,H294),7)","v":7},1,1,null,null,null,"","","","0",0,""]
[null,289,"",null,null,null,null,null,null,"","",{"$f":"IF(E295=\"\",\"\",IF(COUNTIF(V$7:$V295,V295)=1,\"\",dcall))","v":""},{"$f":"IF(N295>1,COUNTIF($H$7:H295,H295),7)","v":7},1,1,null,null,null,"","","","0",0,""]
[null,290,"",null,null,null,null,null,null,"","",{"$f":"IF(E296=\"\",\"\",IF(COUNTIF(V$7:$V296,V296)=1,\"\",dcall))","v":""},{"$f":"IF(N296>1,COUNTIF($H$7:H296,H296),7)","v":7},1,1,null,null,null,"","","","0",0,""]
[null,291,"",null,null,null,null,null,null,"","",{"$f":"IF(E297=\"\",\"\",IF(COUNTIF(V$7:$V297,V297)=1,\"\",dcall))","v":""},{"$f":"IF(N297>1,COUNTIF($H$7:H297,H297),7)","v":7},1,1,null,null,null,"","","","0",0,""]
[null,292,"",null,null,null,null,null,null,"","",{"$f":"IF(E298=\"\",\"\",IF(COUNTIF(V$7:$V298,V298)=1,\"\",dcall))","v":""},{"$f":"IF(N298>1,COUNTIF($H$7:H298,H298),7)","v":7},1,1,null,null,null,"","","","0",0,""]
[null,293,"",null,null,null,null,null,null,"","",{"$f":"IF(E299=\"\",\"\",IF(COUNTIF(V$7:$V299,V299)=1,\"\",dcall))","v":""},{"$f":"IF(N299>1,COUNTIF($H$7:H299,H299),7)","v":7},1,1,null,null,null,"","","","0",0,""]
[null,294,"",null,null,null,null,null,null,"","",{"$f":"IF(E300=\"\",\"\",IF(COUNTIF(V$7:$V300,V300)=1,\"\",dcall))","v":""},{"$f":"IF(N300>1,COUNTIF($H$7:H300,H300),7)","v":7},1,1,null,null,null,"","","","0",0,""]
[null,295,"",null,null,null,null,null,null,"","",{"$f":"IF(E301=\"\",\"\",IF(COUNTIF(V$7:$V301,V301)=1,\"\",dcall))","v":""},{"$f":"IF(N301>1,COUNTIF($H$7:H301,H301),7)","v":7},1,1,null,null,null,"","","","0",0,""]
[null,296,"",null,null,null,null,null,null,"","",{"$f":"IF(E302=\"\",\"\",IF(COUNTIF(V$7:$V302,V302)=1,\"\",dcall))","v":""},{"$f":"IF(N302>1,COUNTIF($H$7:H302,H302),7)","v":7},1,1,null,null,null,"","","","0",0,""]
[null,297,"",null,null,null,null,null,null,"","",{"$f":"IF(E303=\"\",\"\",IF(COUNTIF(V$7:$V303,V303)=1,\"\",dcall))","v":""},{"$f":"IF(N303>1,COUNTIF($H$7:H303,H303),7)","v":7},1,1,null,null,null,"","","","0",0,""]
[null,298,"",null,null,null,null,null,null,"","",{"$f":"IF(E304=\"\",\"\",IF(COUNTIF(V$7:$V304,V304)=1,\"\",dcall))","v":""},{"$f":"IF(N304>1,COUNTIF($H$7:H304,H304),7)","v":7},1,1,null,null,null,"","","","0",0,""]
[null,299,"",null,null,null,null,null,null,"","",{"$f":"IF(E305=\"\",\"\",IF(COUNTIF(V$7:$V305,V305)=1,\"\",dcall))","v":""},{"$f":"IF(N305>1,COUNTIF($H$7:H305,H305),7)","v":7},1,1,null,null,null,"","","","0",0,""]
[null,300,"",null,null,null,null,null,null,"","",{"$f":"IF(E306=\"\",\"\",IF(COUNTIF(V$7:$V306,V306)=1,\"\",dcall))","v":""},{"$f":"IF(N306>1,COUNTIF($H$7:H306,H306),7)","v":7},1,1,null,null,null,"","","","0",0,""]
[null,301,"",null,null,null,null,null,null,"","",{"$f":"IF(E307=\"\",\"\",IF(COUNTIF(V$7:$V307,V307)=1,\"\",dcall))","v":""},{"$f":"IF(N307>1,COUNTIF($H$7:H307,H307),7)","v":7},1,1,null,null,null,"","","","0",0,""]
[null,302,"",null,null,null,null,null,null,"","",{"$f":"IF(E308=\"\",\"\",IF(COUNTIF(V$7:$V308,V308)=1,\"\",dcall))","v":""},{"$f":"IF(N308>1,COUNTIF($H$7:H308,H308),7)","v":7},1,1,null,null,null,"","","","0",0,""]
[null,303,"",null,null,null,null,null,null,"","",{"$f":"IF(E309=\"\",\"\",IF(COUNTIF(V$7:$V309,V309)=1,\"\",dcall))","v":""},{"$f":"IF(N309>1,COUNTIF($H$7:H309,H309),7)","v":7},1,1,null,null,null,"","","","0",0,""]
[null,304,"",null,null,null,null,null,null,"","",{"$f":"IF(E310=\"\",\"\",IF(COUNTIF(V$7:$V310,V310)=1,\"\",dcall))","v":""},{"$f":"IF(N310>1,COUNTIF($H$7:H310,H310),7)","v":7},1,1,null,null,null,"","","","0",0,""]
[null,305,"",null,null,null,null,null,null,"","",{"$f":"IF(E311=\"\",\"\",IF(COUNTIF(V$7:$V311,V311)=1,\"\",dcall))","v":""},{"$f":"IF(N311>1,COUNTIF($H$7:H311,H311),7)","v":7},1,1,null,null,null,"","","","0",0,""]
[null,306,"",null,null,null,null,null,null,"","",{"$f":"IF(E312=\"\",\"\",IF(COUNTIF(V$7:$V312,V312)=1,\"\",dcall))","v":""},{"$f":"IF(N312>1,COUNTIF($H$7:H312,H312),7)","v":7},1,1,null,null,null,"","","","0",0,""]
[null,307,"",null,null,null,null,null,null,"","",{"$f":"IF(E313=\"\",\"\",IF(COUNTIF(V$7:$V313,V313)=1,\"\",dcall))","v":""},{"$f":"IF(N313>1,COUNTIF($H$7:H313,H313),7)","v":7},1,1,null,null,null,"","","","0",0,""]
[null,308,"",null,null,null,null,null,null,"","",{"$f":"IF(E314=\"\",\"\",IF(COUNTIF(V$7:$V314,V314)=1,\"\",dcall))","v":""},{"$f":"IF(N314>1,COUNTIF($H$7:H314,H314),7)","v":7},1,1,null,null,null,"","","","0",0,""]
[null,309,"",null,null,null,null,null,null,"","",{"$f":"IF(E315=\"\",\"\",IF(COUNTIF(V$7:$V315,V315)=1,\"\",dcall))","v":""},{"$f":"IF(N315>1,COUNTIF($H$7:H315,H315),7)","v":7},1,1,null,null,null,"","","","0",0,""]
[null,310,"",null,null,null,null,null,null,"","",{"$f":"IF(E316=\"\",\"\",IF(COUNTIF(V$7:$V316,V316)=1,\"\",dcall))","v":""},{"$f":"IF(N316>1,COUNTIF($H$7:H316,H316),7)","v":7},1,1,null,null,null,"","","","0",0,""]
[null,311,"",null,null,null,null,null,null,"","",{"$f":"IF(E317=\"\",\"\",IF(COUNTIF(V$7:$V317,V317)=1,\"\",dcall))","v":""},{"$f":"IF(N317>1,COUNTIF($H$7:H317,H317),7)","v":7},1,1,null,null,null,"","","","0",0,""]
[null,312,"",null,null,null,null,null,null,"","",{"$f":"IF(E318=\"\",\"\",IF(COUNTIF(V$7:$V318,V318)=1,\"\",dcall))","v":""},{"$f":"IF(N318>1,COUNTIF($H$7:H318,H318),7)","v":7},1,1,null,null,null,"","","","0",0,""]
[null,313,"",null,null,null,null,null,null,"","",{"$f":"IF(E319=\"\",\"\",IF(COUNTIF(V$7:$V319,V319)=1,\"\",dcall))","v":""},{"$f":"IF(N319>1,COUNTIF($H$7:H319,H319),7)","v":7},1,1,null,null,null,"","","","0",0,""]
[null,314,{"$f":"IF(F320>0,date1,\"\")","v":""},null,null,null,null,null,null,{"$f":"IF(E320=\"\",\"\",IF(L320=\"\",O320,0))","v":""},{"$f":"IF(E320=\"\",\"\",IF(M320=1,1,\"\"))","v":""},{"$f":"IF(E320=\"\",\"\",IF(COUNTIF(V$7:$V320,V320)=1,\"\",dcall))","v":""},{"$f":"IF(N320>1,COUNTIF($H$7:H320,H320),7)","v":7},{"$f":"IF(COUNTIF(dokli,H320)>0,5,IF(COUNTIF(vfdbdok,H320)>0,10,1))","v":1},{"$f":"IF(H320=dok,0,N320)","v":1},null,null,null,{"$f":"UPPER(SUBSTITUTE(H320,\" \",\"\",1))","v":""},"",{"$f":"UPPER(E320)","v":""},{"$f":"CONCATENATE(E320,LEN(G320))","v":"0"},0,""]
[null,315,"",null,null,null,null,null,null,"","",{"$f":"IF(E321=\"\",\"\",IF(COUNTIF(V$7:$V321,V321)=1,\"\",dcall))","v":""},{"$f":"IF(N321>1,COUNTIF($H$7:H321,H321),7)","v":7},1,1,null,null,null,"","","","0",0,""]
[null,316,"",null,null,null,null,null,null,"","",{"$f":"IF(E322=\"\",\"\",IF(COUNTIF(V$7:$V322,V322)=1,\"\",dcall))","v":""},{"$f":"IF(N322>1,COUNTIF($H$7:H322,H322),7)","v":7},1,1,null,null,null,"","","","0",0,""]
[null,317,"",null,null,null,null,null,null,"","",{"$f":"IF(E323=\"\",\"\",IF(COUNTIF(V$7:$V323,V323)=1,\"\",dcall))","v":""},{"$f":"IF(N323>1,COUNTIF($H$7:H323,H323),7)","v":7},1,1,null,null,null,"","","","0",0,""]
[null,318,"",null,null,null,null,null,null,"","",{"$f":"IF(E324=\"\",\"\",IF(COUNTIF(V$7:$V324,V324)=1,\"\",dcall))","v":""},{"$f":"IF(N324>1,COUNTIF($H$7:H324,H324),7)","v":7},1,1,null,null,null,"","","","0",0,""]
[null,319,"",null,null,null,null,null,null,"","",{"$f":"IF(E325=\"\",\"\",IF(COUNTIF(V$7:$V325,V325)=1,\"\",dcall))","v":""},{"$f":"IF(N325>1,COUNTIF($H$7:H325,H325),7)","v":7},1,1,null,null,null,"","","","0",0,""]
[null,320,"",null,null,null,null,null,null,"","",{"$f":"IF(E326=\"\",\"\",IF(COUNTIF(V$7:$V326,V326)=1,\"\",dcall))","v":""},{"$f":"IF(N326>1,COUNTIF($H$7:H326,H326),7)","v":7},1,1,null,null,null,"","","","0",0,""]
[null,321,"",null,null,null,null,null,null,"","",{"$f":"IF(E327=\"\",\"\",IF(COUNTIF(V$7:$V327,V327)=1,\"\",dcall))","v":""},{"$f":"IF(N327>1,COUNTIF($H$7:H327,H327),7)","v":7},1,1,null,null,null,"",{"$f":"IF(W327=0,\"\",IF(W327=5,W327,CONCATENATE(LEFT(W327,2),\":\",RIGHT(W327,2))))","v":""},"","0",0,""]
[null,322,"",null,null,null,null,null,null,"","",{"$f":"IF(E328=\"\",\"\",IF(COUNTIF(V$7:$V328,V328)=1,\"\",dcall))","v":""},{"$f":"IF(N328>1,COUNTIF($H$7:H328,H328),7)","v":7},1,1,null,null,null,"","","","0",{"$f":"IF(X328=\":\",IF(LEN(D328)=4,CONCATENATE(\"0\",LEFT(D328,1),RIGHT(D328,2)),D328),IF(LEN(D328)=3,CONCATENATE(\"0\",D328),D328))","v":0},{"$f":"IF(LEN(D328)=4,MID(D328,2,1),MID(D328,3,1))","v":""}]
[null,323,"",null,null,null,null,null,null,"","",{"$f":"IF(E329=\"\",\"\",IF(COUNTIF(V$7:$V329,V329)=1,\"\",dcall))","v":""},{"$f":"IF(N329>1,COUNTIF($H$7:H329,H329),7)","v":7},1,1,null,null,null,"","","","0",0,""]
[null,324,"",null,null,null,null,null,null,"","",{"$f":"IF(E330=\"\",\"\",IF(COUNTIF(V$7:$V330,V330)=1,\"\",dcall))","v":""},{"$f":"IF(N330>1,COUNTIF($H$7:H330,H330),7)","v":7},1,1,null,null,null,"","","","0",0,""]
[null,325,"",null,null,null,null,null,null,"","",{"$f":"IF(E331=\"\",\"\",IF(COUNTIF(V$7:$V331,V331)=1,\"\",dcall))","v":""},{"$f":"IF(N331>1,COUNTIF($H$7:H331,H331),7)","v":7},1,1,null,null,null,"","","","0",0,""]
[null,326,"",null,null,null,null,null,null,"","",{"$f":"IF(E332=\"\",\"\",IF(COUNTIF(V$7:$V332,V332)=1,\"\",dcall))","v":""},{"$f":"IF(N332>1,COUNTIF($H$7:H332,H332),7)","v":7},1,1,null,null,null,"","","","0",0,""]
[null,327,"",null,null,null,null,null,null,"","",{"$f":"IF(E333=\"\",\"\",IF(COUNTIF(V$7:$V333,V333)=1,\"\",dcall))","v":""},{"$f":"IF(N333>1,COUNTIF($H$7:H333,H333),7)","v":7},1,1,null,null,null,"","","","0",0,""]
[null,328,"",null,null,null,null,null,null,"","",{"$f":"IF(E334=\"\",\"\",IF(COUNTIF(V$7:$V334,V334)=1,\"\",dcall))","v":""},{"$f":"IF(N334>1,COUNTIF($H$7:H334,H334),7)","v":7},1,1,null,null,null,"","","","0",0,""]
[null,329,"",null,null,null,null,null,null,"","",{"$f":"IF(E335=\"\",\"\",IF(COUNTIF(V$7:$V335,V335)=1,\"\",dcall))","v":""},{"$f":"IF(N335>1,COUNTIF($H$7:H335,H335),7)","v":7},1,1,null,null,null,"","","","0",0,""]
[null,330,"",null,null,null,null,null,null,"","",{"$f":"IF(E336=\"\",\"\",IF(COUNTIF(V$7:$V336,V336)=1,\"\",dcall))","v":""},{"$f":"IF(N336>1,COUNTIF($H$7:H336,H336),7)","v":7},1,1,null,null,null,"","","","0",0,""]
[null,331,"",null,null,null,null,null,null,"","",{"$f":"IF(E337=\"\",\"\",IF(COUNTIF(V$7:$V337,V337)=1,\"\",dcall))","v":""},{"$f":"IF(N337>1,COUNTIF($H$7:H337,H337),7)","v":7},1,1,null,null,null,"","","","0",0,""]
[null,332,"",null,null,null,null,null,null,"","",{"$f":"IF(E338=\"\",\"\",IF(COUNTIF(V$7:$V338,V338)=1,\"\",dcall))","v":""},{"$f":"IF(N338>1,COUNTIF($H$7:H338,H338),7)","v":7},1,1,null,null,null,"","","","0",0,""]
[null,333,"",null,null,null,null,null,null,"","",{"$f":"IF(E339=\"\",\"\",IF(COUNTIF(V$7:$V339,V339)=1,\"\",dcall))","v":""},{"$f":"IF(N339>1,COUNTIF($H$7:H339,H339),7)","v":7},1,1,null,null,null,"","","","0",0,""]
[null,334,"",null,null,null,null,null,null,"","",{"$f":"IF(E340=\"\",\"\",IF(COUNTIF(V$7:$V340,V340)=1,\"\",dcall))","v":""},{"$f":"IF(N340>1,COUNTIF($H$7:H340,H340),7)","v":7},1,1,null,null,null,"","","","0",0,""]
[null,335,"",null,null,null,null,null,null,"","",{"$f":"IF(E341=\"\",\"\",IF(COUNTIF(V$7:$V341,V341)=1,\"\",dcall))","v":""},{"$f":"IF(N341>1,COUNTIF($H$7:H341,H341),7)","v":7},1,1,null,null,null,"","","","0",0,""]
[null,336,"",null,null,null,null,null,null,"","",{"$f":"IF(E342=\"\",\"\",IF(COUNTIF(V$7:$V342,V342)=1,\"\",dcall))","v":""},{"$f":"IF(N342>1,COUNTIF($H$7:H342,H342),7)","v":7},1,1,null,null,null,"","","","0",0,""]
[null,337,"",null,null,null,null,null,null,"","",{"$f":"IF(E343=\"\",\"\",IF(COUNTIF(V$7:$V343,V343)=1,\"\",dcall))","v":""},{"$f":"IF(N343>1,COUNTIF($H$7:H343,H343),7)","v":7},1,1,null,null,null,"","","","0",0,""]
[null,338,"",null,null,null,null,null,null,"","",{"$f":"IF(E344=\"\",\"\",IF(COUNTIF(V$7:$V344,V344)=1,\"\",dcall))","v":""},{"$f":"IF(N344>1,COUNTIF($H$7:H344,H344),7)","v":7},1,1,null,null,null,"","","","0",0,""]
[null,339,"",null,null,null,null,null,null,"","",{"$f":"IF(E345=\"\",\"\",IF(COUNTIF(V$7:$V345,V345)=1,\"\",dcall))","v":""},{"$f":"IF(N345>1,COUNTIF($H$7:H345,H345),7)","v":7},1,1,null,null,null,"","","","0",0,""]
[null,340,"",null,null,null,null,null,null,"","",{"$f":"IF(E346=\"\",\"\",IF(COUNTIF(V$7:$V346,V346)=1,\"\",dcall))","v":""},{"$f":"IF(N346>1,COUNTIF($H$7:H346,H346),7)","v":7},1,1,null,null,null,"","","","0",0,""]
[null,341,"",null,null,null,null,null,null,"","",{"$f":"IF(E347=\"\",\"\",IF(COUNTIF(V$7:$V347,V347)=1,\"\",dcall))","v":""},{"$f":"IF(N347>1,COUNTIF($H$7:H347,H347),7)","v":7},1,1,null,null,null,"","","","0",0,""]
[null,342,"",null,null,null,null,null,null,"","",{"$f":"IF(E348=\"\",\"\",IF(COUNTIF(V$7:$V348,V348)=1,\"\",dcall))","v":""},{"$f":"IF(N348>1,COUNTIF($H$7:H348,H348),7)","v":7},1,1,null,null,null,"","","","0",0,""]
[null,343,"",null,null,null,null,null,null,"","",{"$f":"IF(E349=\"\",\"\",IF(COUNTIF(V$7:$V349,V349)=1,\"\",dcall))","v":""},{"$f":"IF(N349>1,COUNTIF($H$7:H349,H349),7)","v":7},1,1,null,null,null,"","","","0",0,""]
[null,344,"",null,null,null,null,null,null,"","",{"$f":"IF(E350=\"\",\"\",IF(COUNTIF(V$7:$V350,V350)=1,\"\",dcall))","v":""},{"$f":"IF(N350>1,COUNTIF($H$7:H350,H350),7)","v":7},1,1,null,null,null,"","","","0",0,""]
[null,345,"",null,null,null,null,null,null,"","",{"$f":"IF(E351=\"\",\"\",IF(COUNTIF(V$7:$V351,V351)=1,\"\",dcall))","v":""},{"$f":"IF(N351>1,COUNTIF($H$7:H351,H351),7)","v":7},1,1,null,null,null,"","","","0",0,""]
[null,346,"",null,null,null,null,null,null,"","",{"$f":"IF(E352=\"\",\"\",IF(COUNTIF(V$7:$V352,V352)=1,\"\",dcall))","v":""},{"$f":"IF(N352>1,COUNTIF($H$7:H352,H352),7)","v":7},1,1,null,null,null,"","","","0",0,""]
[null,347,"",null,null,null,null,null,null,"","",{"$f":"IF(E353=\"\",\"\",IF(COUNTIF(V$7:$V353,V353)=1,\"\",dcall))","v":""},{"$f":"IF(N353>1,COUNTIF($H$7:H353,H353),7)","v":7},1,1,null,null,null,"","","","0",0,""]
[null,348,"",null,null,null,null,null,null,"","",{"$f":"IF(E354=\"\",\"\",IF(COUNTIF(V$7:$V354,V354)=1,\"\",dcall))","v":""},{"$f":"IF(N354>1,COUNTIF($H$7:H354,H354),7)","v":7},1,1,null,null,null,"","","","0",0,""]
[null,349,"",null,null,null,null,null,null,"","",{"$f":"IF(E355=\"\",\"\",IF(COUNTIF(V$7:$V355,V355)=1,\"\",dcall))","v":""},{"$f":"IF(N355>1,COUNTIF($H$7:H355,H355),7)","v":7},1,1,null,null,null,"","","","0",0,""]
[null,350,"",null,null,null,null,null,null,"","",{"$f":"IF(E356=\"\",\"\",IF(COUNTIF(V$7:$V356,V356)=1,\"\",dcall))","v":""},{"$f":"IF(N356>1,COUNTIF($H$7:H356,H356),7)","v":7},1,1,null,null,null,"","","","0",0,""]
[null,351,"",null,null,null,null,null,null,"","",{"$f":"IF(E357=\"\",\"\",IF(COUNTIF(V$7:$V357,V357)=1,\"\",dcall))","v":""},{"$f":"IF(N357>1,COUNTIF($H$7:H357,H357),7)","v":7},1,1,null,null,null,"","","","0",0,""]
[null,352,"",null,null,null,null,null,null,"","",{"$f":"IF(E358=\"\",\"\",IF(COUNTIF(V$7:$V358,V358)=1,\"\",dcall))","v":""},{"$f":"IF(N358>1,COUNTIF($H$7:H358,H358),7)","v":7},1,1,null,null,null,"","","","0",0,""]
[null,353,"",null,null,null,null,null,null,"","",{"$f":"IF(E359=\"\",\"\",IF(COUNTIF(V$7:$V359,V359)=1,\"\",dcall))","v":""},{"$f":"IF(N359>1,COUNTIF($H$7:H359,H359),7)","v":7},1,1,null,null,null,"","","","0",0,""]
[null,354,"",null,null,null,null,null,null,"","",{"$f":"IF(E360=\"\",\"\",IF(COUNTIF(V$7:$V360,V360)=1,\"\",dcall))","v":""},{"$f":"IF(N360>1,COUNTIF($H$7:H360,H360),7)","v":7},1,1,null,null,null,"","","","0",0,""]
[null,355,"",null,null,null,null,null,null,"","",{"$f":"IF(E361=\"\",\"\",IF(COUNTIF(V$7:$V361,V361)=1,\"\",dcall))","v":""},{"$f":"IF(N361>1,COUNTIF($H$7:H361,H361),7)","v":7},1,1,null,null,null,"","","","0",0,""]
[null,356,"",null,null,null,null,null,null,"","",{"$f":"IF(E362=\"\",\"\",IF(COUNTIF(V$7:$V362,V362)=1,\"\",dcall))","v":""},{"$f":"IF(N362>1,COUNTIF($H$7:H362,H362),7)","v":7},1,1,null,null,null,"","","","0",0,""]
[null,357,"",null,null,null,null,null,null,"","",{"$f":"IF(E363=\"\",\"\",IF(COUNTIF(V$7:$V363,V363)=1,\"\",dcall))","v":""},{"$f":"IF(N363>1,COUNTIF($H$7:H363,H363),7)","v":7},1,1,null,null,null,"","","","0",0,""]
[null,358,"",null,null,null,null,null,null,"","",{"$f":"IF(E364=\"\",\"\",IF(COUNTIF(V$7:$V364,V364)=1,\"\",dcall))","v":""},{"$f":"IF(N364>1,COUNTIF($H$7:H364,H364),7)","v":7},1,1,null,null,null,"","","","0",0,""]
[null,359,"",null,null,null,null,null,null,"","",{"$f":"IF(E365=\"\",\"\",IF(COUNTIF(V$7:$V365,V365)=1,\"\",dcall))","v":""},{"$f":"IF(N365>1,COUNTIF($H$7:H365,H365),7)","v":7},1,1,null,null,null,"","","","0",0,""]
[null,360,"",null,null,null,null,null,null,"","",{"$f":"IF(E366=\"\",\"\",IF(COUNTIF(V$7:$V366,V366)=1,\"\",dcall))","v":""},{"$f":"IF(N366>1,COUNTIF($H$7:H366,H366),7)","v":7},1,1,null,null,null,"","","","0",0,""]
[null,361,"",null,null,null,null,null,null,"","",{"$f":"IF(E367=\"\",\"\",IF(COUNTIF(V$7:$V367,V367)=1,\"\",dcall))","v":""},{"$f":"IF(N367>1,COUNTIF($H$7:H367,H367),7)","v":7},1,1,null,null,null,"","","","0",0,""]
[null,362,"",null,null,null,null,null,null,"","",{"$f":"IF(E368=\"\",\"\",IF(COUNTIF(V$7:$V368,V368)=1,\"\",dcall))","v":""},{"$f":"IF(N368>1,COUNTIF($H$7:H368,H368),7)","v":7},1,1,null,null,null,"","","","0",0,""]
[null,363,"",null,null,null,null,null,null,"","",{"$f":"IF(E369=\"\",\"\",IF(COUNTIF(V$7:$V369,V369)=1,\"\",dcall))","v":""},{"$f":"IF(N369>1,COUNTIF($H$7:H369,H369),7)","v":7},1,1,null,null,null,"","","","0",0,""]
[null,364,"",null,null,null,null,null,null,"","",{"$f":"IF(E370=\"\",\"\",IF(COUNTIF(V$7:$V370,V370)=1,\"\",dcall))","v":""},{"$f":"IF(N370>1,COUNTIF($H$7:H370,H370),7)","v":7},1,1,null,null,null,"","","","0",0,""]
[null,365,"",null,null,null,null,null,null,"","",{"$f":"IF(E371=\"\",\"\",IF(COUNTIF(V$7:$V371,V371)=1,\"\",dcall))","v":""},{"$f":"IF(N371>1,COUNTIF($H$7:H371,H371),7)","v":7},1,1,null,null,null,"","","","0",0,""]
[null,366,"",null,null,null,null,null,null,"","",{"$f":"IF(E372=\"\",\"\",IF(COUNTIF(V$7:$V372,V372)=1,\"\",dcall))","v":""},{"$f":"IF(N372>1,COUNTIF($H$7:H372,H372),7)","v":7},1,1,null,null,null,"","","","0",0,""]
[null,367,"",null,null,null,null,null,null,"","",{"$f":"IF(E373=\"\",\"\",IF(COUNTIF(V$7:$V373,V373)=1,\"\",dcall))","v":""},{"$f":"IF(N373>1,COUNTIF($H$7:H373,H373),7)","v":7},1,1,null,null,null,"","","","0",0,""]
[null,368,"",null,null,null,null,null,null,"","",{"$f":"IF(E374=\"\",\"\",IF(COUNTIF(V$7:$V374,V374)=1,\"\",dcall))","v":""},{"$f":"IF(N374>1,COUNTIF($H$7:H374,H374),7)","v":7},1,1,null,null,null,"","","","0",0,""]
[null,369,"",null,null,null,null,null,null,"","",{"$f":"IF(E375=\"\",\"\",IF(COUNTIF(V$7:$V375,V375)=1,\"\",dcall))","v":""},{"$f":"IF(N375>1,COUNTIF($H$7:H375,H375),7)","v":7},1,1,null,null,null,"","","","0",0,""]
[null,370,"",null,null,null,null,null,null,"","",{"$f":"IF(E376=\"\",\"\",IF(COUNTIF(V$7:$V376,V376)=1,\"\",dcall))","v":""},{"$f":"IF(N376>1,COUNTIF($H$7:H376,H376),7)","v":7},1,1,null,null,null,"","","","0",0,""]
[null,371,"",null,null,null,null,null,null,"","",{"$f":"IF(E377=\"\",\"\",IF(COUNTIF(V$7:$V377,V377)=1,\"\",dcall))","v":""},{"$f":"IF(N377>1,COUNTIF($H$7:H377,H377),7)","v":7},1,1,null,null,null,"","","","0",0,""]
[null,372,"",null,null,null,null,null,null,"","",{"$f":"IF(E378=\"\",\"\",IF(COUNTIF(V$7:$V378,V378)=1,\"\",dcall))","v":""},{"$f":"IF(N378>1,COUNTIF($H$7:H378,H378),7)","v":7},1,1,null,null,null,"","","","0",0,""]
[null,373,"",null,null,null,null,null,null,"","",{"$f":"IF(E379=\"\",\"\",IF(COUNTIF(V$7:$V379,V379)=1,\"\",dcall))","v":""},{"$f":"IF(N379>1,COUNTIF($H$7:H379,H379),7)","v":7},1,1,null,null,null,"","","","0",0,""]
[null,374,"",null,null,null,null,null,null,"","",{"$f":"IF(E380=\"\",\"\",IF(COUNTIF(V$7:$V380,V380)=1,\"\",dcall))","v":""},{"$f":"IF(N380>1,COUNTIF($H$7:H380,H380),7)","v":7},1,1,null,null,null,"","","","0",0,""]
[null,375,"",null,null,null,null,null,null,"","",{"$f":"IF(E381=\"\",\"\",IF(COUNTIF(V$7:$V381,V381)=1,\"\",dcall))","v":""},{"$f":"IF(N381>1,COUNTIF($H$7:H381,H381),7)","v":7},1,1,null,null,null,"","","","0",0,""]
[null,376,"",null,null,null,null,null,null,"","",{"$f":"IF(E382=\"\",\"\",IF(COUNTIF(V$7:$V382,V382)=1,\"\",dcall))","v":""},{"$f":"IF(N382>1,COUNTIF($H$7:H382,H382),7)","v":7},1,1,null,null,null,"","","","0",0,""]
[null,377,"",null,null,null,null,null,null,"","",{"$f":"IF(E383=\"\",\"\",IF(COUNTIF(V$7:$V383,V383)=1,\"\",dcall))","v":""},{"$f":"IF(N383>1,COUNTIF($H$7:H383,H383),7)","v":7},1,1,null,null,null,"","","","0",0,""]
[null,378,{"$f":"IF(F384>0,date1,\"\")","v":""},null,null,null,null,null,null,{"$f":"IF(E384=\"\",\"\",IF(L384=\"\",O384,0))","v":""},{"$f":"IF(E384=\"\",\"\",IF(M384=1,1,\"\"))","v":""},{"$f":"IF(E384=\"\",\"\",IF(COUNTIF(V$7:$V384,V384)=1,\"\",dcall))","v":""},{"$f":"IF(N384>1,COUNTIF($H$7:H384,H384),7)","v":7},{"$f":"IF(COUNTIF(dokli,H384)>0,5,IF(COUNTIF(vfdbdok,H384)>0,10,1))","v":1},{"$f":"IF(H384=dok,0,N384)","v":1},null,null,null,{"$f":"UPPER(SUBSTITUTE(H384,\" \",\"\",1))","v":""},"",{"$f":"UPPER(E384)","v":""},{"$f":"CONCATENATE(E384,LEN(G384))","v":"0"},0,""]
[null,379,"",null,null,null,null,null,null,"","",{"$f":"IF(E385=\"\",\"\",IF(COUNTIF(V$7:$V385,V385)=1,\"\",dcall))","v":""},{"$f":"IF(N385>1,COUNTIF($H$7:H385,H385),7)","v":7},1,1,null,null,null,"","","","0",0,""]
[null,380,"",null,null,null,null,null,null,"","",{"$f":"IF(E386=\"\",\"\",IF(COUNTIF(V$7:$V386,V386)=1,\"\",dcall))","v":""},{"$f":"IF(N386>1,COUNTIF($H$7:H386,H386),7)","v":7},1,1,null,null,null,"","","","0",0,""]
[null,381,"",null,null,null,null,null,null,"","",{"$f":"IF(E387=\"\",\"\",IF(COUNTIF(V$7:$V387,V387)=1,\"\",dcall))","v":""},{"$f":"IF(N387>1,COUNTIF($H$7:H387,H387),7)","v":7},1,1,null,null,null,"","","","0",0,""]
[null,382,"",null,null,null,null,null,null,"","",{"$f":"IF(E388=\"\",\"\",IF(COUNTIF(V$7:$V388,V388)=1,\"\",dcall))","v":""},{"$f":"IF(N388>1,COUNTIF($H$7:H388,H388),7)","v":7},1,1,null,null,null,"","","","0",0,""]
[null,383,"",null,null,null,null,null,null,"","",{"$f":"IF(E389=\"\",\"\",IF(COUNTIF(V$7:$V389,V389)=1,\"\",dcall))","v":""},{"$f":"IF(N389>1,COUNTIF($H$7:H389,H389),7)","v":7},1,1,null,null,null,"","","","0",0,""]
[null,384,"",null,null,null,null,null,null,"","",{"$f":"IF(E390=\"\",\"\",IF(COUNTIF(V$7:$V390,V390)=1,\"\",dcall))","v":""},{"$f":"IF(N390>1,COUNTIF($H$7:H390,H390),7)","v":7},1,1,null,null,null,"","","","0",0,""]
[null,385,"",null,null,null,null,null,null,"","",{"$f":"IF(E391=\"\",\"\",IF(COUNTIF(V$7:$V391,V391)=1,\"\",dcall))","v":""},{"$f":"IF(N391>1,COUNTIF($H$7:H391,H391),7)","v":7},1,1,null,null,null,"",{"$f":"IF(W391=0,\"\",IF(W391=5,W391,CONCATENATE(LEFT(W391,2),\":\",RIGHT(W391,2))))","v":""},"","0",0,""]
[null,386,"",null,null,null,null,null,null,"","",{"$f":"IF(E392=\"\",\"\",IF(COUNTIF(V$7:$V392,V392)=1,\"\",dcall))","v":""},{"$f":"IF(N392>1,COUNTIF($H$7:H392,H392),7)","v":7},1,1,null,null,null,"","","","0",{"$f":"IF(X392=\":\",IF(LEN(D392)=4,CONCATENATE(\"0\",LEFT(D392,1),RIGHT(D392,2)),D392),IF(LEN(D392)=3,CONCATENATE(\"0\",D392),D392))","v":0},{"$f":"IF(LEN(D392)=4,MID(D392,2,1),MID(D392,3,1))","v":""}]
[null,387,"",null,null,null,null,null,null,"","",{"$f":"IF(E393=\"\",\"\",IF(COUNTIF(V$7:$V393,V393)=1,\"\",dcall))","v":""},{"$f":"IF(N393>1,COUNTIF($H$7:H393,H393),7)","v":7},1,1,null,null,null,"","","","0",0,""]
[null,388,"",null,null,null,null,null,null,"","",{"$f":"IF(E394=\"\",\"\",IF(COUNTIF(V$7:$V394,V394)=1,\"\",dcall))","v":""},{"$f":"IF(N394>1,COUNTIF($H$7:H394,H394),7)","v":7},1,1,null,null,null,"","","","0",0,""]
[null,389,"",null,null,null,null,null,null,"","",{"$f":"IF(E395=\"\",\"\",IF(COUNTIF(V$7:$V395,V395)=1,\"\",dcall))","v":""},{"$f":"IF(N395>1,COUNTIF($H$7:H395,H395),7)","v":7},1,1,null,null,null,"","","","0",0,""]
[null,390,"",null,null,null,null,null,null,"","",{"$f":"IF(E396=\"\",\"\",IF(COUNTIF(V$7:$V396,V396)=1,\"\",dcall))","v":""},{"$f":"IF(N396>1,COUNTIF($H$7:H396,H396),7)","v":7},1,1,null,null,null,"","","","0",0,""]
[null,391,"",null,null,null,null,null,null,"","",{"$f":"IF(E397=\"\",\"\",IF(COUNTIF(V$7:$V397,V397)=1,\"\",dcall))","v":""},{"$f":"IF(N397>1,COUNTIF($H$7:H397,H397),7)","v":7},1,1,null,null,null,"","","","0",0,""]
[null,392,"",null,null,null,null,null,null,"","",{"$f":"IF(E398=\"\",\"\",IF(COUNTIF(V$7:$V398,V398)=1,\"\",dcall))","v":""},{"$f":"IF(N398>1,COUNTIF($H$7:H398,H398),7)","v":7},1,1,null,null,null,"","","","0",0,""]
[null,393,"",null,null,null,null,null,null,"","",{"$f":"IF(E399=\"\",\"\",IF(COUNTIF(V$7:$V399,V399)=1,\"\",dcall))","v":""},{"$f":"IF(N399>1,COUNTIF($H$7:H399,H399),7)","v":7},1,1,null,null,null,"","","","0",0,""]
[null,394,"",null,null,null,null,null,null,"","",{"$f":"IF(E400=\"\",\"\",IF(COUNTIF(V$7:$V400,V400)=1,\"\",dcall))","v":""},{"$f":"IF(N400>1,COUNTIF($H$7:H400,H400),7)","v":7},1,1,null,null,null,"","","","0",0,""]
[null,395,"",null,null,null,null,null,null,"","",{"$f":"IF(E401=\"\",\"\",IF(COUNTIF(V$7:$V401,V401)=1,\"\",dcall))","v":""},{"$f":"IF(N401>1,COUNTIF($H$7:H401,H401),7)","v":7},1,1,null,null,null,"","","","0",0,""]
[null,396,"",null,null,null,null,null,null,"","",{"$f":"IF(E402=\"\",\"\",IF(COUNTIF(V$7:$V402,V402)=1,\"\",dcall))","v":""},{"$f":"IF(N402>1,COUNTIF($H$7:H402,H402),7)","v":7},1,1,null,null,null,"","","","0",0,""]
[null,397,"",null,null,null,null,null,null,"","",{"$f":"IF(E403=\"\",\"\",IF(COUNTIF(V$7:$V403,V403)=1,\"\",dcall))","v":""},{"$f":"IF(N403>1,COUNTIF($H$7:H403,H403),7)","v":7},1,1,null,null,null,"","","","0",0,""]
[null,398,"",null,null,null,null,null,null,"","",{"$f":"IF(E404=\"\",\"\",IF(COUNTIF(V$7:$V404,V404)=1,\"\",dcall))","v":""},{"$f":"IF(N404>1,COUNTIF($H$7:H404,H404),7)","v":7},1,1,null,null,null,"","","","0",0,""]
[null,399,"",null,null,null,null,null,null,"","",{"$f":"IF(E405=\"\",\"\",IF(COUNTIF(V$7:$V405,V405)=1,\"\",dcall))","v":""},{"$f":"IF(N405>1,COUNTIF($H$7:H405,H405),7)","v":7},1,1,null,null,null,"","","","0",0,""]
[null,400,"",null,null,null,null,null,null,"","",{"$f":"IF(E406=\"\",\"\",IF(COUNTIF(V$7:$V406,V406)=1,\"\",dcall))","v":""},{"$f":"IF(N406>1,COUNTIF($H$7:H406,H406),7)","v":7},1,1,null,null,null,"","","","0",0,""]
[null,401,"",null,null,null,null,null,null,"","",{"$f":"IF(E407=\"\",\"\",IF(COUNTIF(V$7:$V407,V407)=1,\"\",dcall))","v":""},{"$f":"IF(N407>1,COUNTIF($H$7:H407,H407),7)","v":7},1,1,null,null,null,"","","","0",0,""]
[null,402,"",null,null,null,null,null,null,"","",{"$f":"IF(E408=\"\",\"\",IF(COUNTIF(V$7:$V408,V408)=1,\"\",dcall))","v":""},{"$f":"IF(N408>1,COUNTIF($H$7:H408,H408),7)","v":7},1,1,null,null,null,"","","","0",0,""]
[null,403,"",null,null,null,null,null,null,"","",{"$f":"IF(E409=\"\",\"\",IF(COUNTIF(V$7:$V409,V409)=1,\"\",dcall))","v":""},{"$f":"IF(N409>1,COUNTIF($H$7:H409,H409),7)","v":7},1,1,null,null,null,"","","","0",0,""]
[null,404,"",null,null,null,null,null,null,"","",{"$f":"IF(E410=\"\",\"\",IF(COUNTIF(V$7:$V410,V410)=1,\"\",dcall))","v":""},{"$f":"IF(N410>1,COUNTIF($H$7:H410,H410),7)","v":7},1,1,null,null,null,"","","","0",0,""]
[null,405,"",null,null,null,null,null,null,"","",{"$f":"IF(E411=\"\",\"\",IF(COUNTIF(V$7:$V411,V411)=1,\"\",dcall))","v":""},{"$f":"IF(N411>1,COUNTIF($H$7:H411,H411),7)","v":7},1,1,null,null,null,"","","","0",0,""]
[null,406,"",null,null,null,null,null,null,"","",{"$f":"IF(E412=\"\",\"\",IF(COUNTIF(V$7:$V412,V412)=1,\"\",dcall))","v":""},{"$f":"IF(N412>1,COUNTIF($H$7:H412,H412),7)","v":7},1,1,null,null,null,"","","","0",0,""]
[null,407,"",null,null,null,null,null,null,"","",{"$f":"IF(E413=\"\",\"\",IF(COUNTIF(V$7:$V413,V413)=1,\"\",dcall))","v":""},{"$f":"IF(N413>1,COUNTIF($H$7:H413,H413),7)","v":7},1,1,null,null,null,"","","","0",0,""]
[null,408,"",null,null,null,null,null,null,"","",{"$f":"IF(E414=\"\",\"\",IF(COUNTIF(V$7:$V414,V414)=1,\"\",dcall))","v":""},{"$f":"IF(N414>1,COUNTIF($H$7:H414,H414),7)","v":7},1,1,null,null,null,"","","","0",0,""]
[null,409,"",null,null,null,null,null,null,"","",{"$f":"IF(E415=\"\",\"\",IF(COUNTIF(V$7:$V415,V415)=1,\"\",dcall))","v":""},{"$f":"IF(N415>1,COUNTIF($H$7:H415,H415),7)","v":7},1,1,null,null,null,"","","","0",0,""]
[null,410,"",null,null,null,null,null,null,"","",{"$f":"IF(E416=\"\",\"\",IF(COUNTIF(V$7:$V416,V416)=1,\"\",dcall))","v":""},{"$f":"IF(N416>1,COUNTIF($H$7:H416,H416),7)","v":7},1,1,null,null,null,"","","","0",0,""]
[null,411,"",null,null,null,null,null,null,"","",{"$f":"IF(E417=\"\",\"\",IF(COUNTIF(V$7:$V417,V417)=1,\"\",dcall))","v":""},{"$f":"IF(N417>1,COUNTIF($H$7:H417,H417),7)","v":7},1,1,null,null,null,"","","","0",0,""]
[null,412,"",null,null,null,null,null,null,"","",{"$f":"IF(E418=\"\",\"\",IF(COUNTIF(V$7:$V418,V418)=1,\"\",dcall))","v":""},{"$f":"IF(N418>1,COUNTIF($H$7:H418,H418),7)","v":7},1,1,null,null,null,"","","","0",0,""]
[null,413,"",null,null,null,null,null,null,"","",{"$f":"IF(E419=\"\",\"\",IF(COUNTIF(V$7:$V419,V419)=1,\"\",dcall))","v":""},{"$f":"IF(N419>1,COUNTIF($H$7:H419,H419),7)","v":7},1,1,null,null,null,"","","","0",0,""]
[null,414,"",null,null,null,null,null,null,"","",{"$f":"IF(E420=\"\",\"\",IF(COUNTIF(V$7:$V420,V420)=1,\"\",dcall))","v":""},{"$f":"IF(N420>1,COUNTIF($H$7:H420,H420),7)","v":7},1,1,null,null,null,"","","","0",0,""]
[null,415,"",null,null,null,null,null,null,"","",{"$f":"IF(E421=\"\",\"\",IF(COUNTIF(V$7:$V421,V421)=1,\"\",dcall))","v":""},{"$f":"IF(N421>1,COUNTIF($H$7:H421,H421),7)","v":7},1,1,null,null,null,"","","","0",0,""]
[null,416,"",null,null,null,null,null,null,"","",{"$f":"IF(E422=\"\",\"\",IF(COUNTIF(V$7:$V422,V422)=1,\"\",dcall))","v":""},{"$f":"IF(N422>1,COUNTIF($H$7:H422,H422),7)","v":7},1,1,null,null,null,"","","","0",0,""]
[null,417,"",null,null,null,null,null,null,"","",{"$f":"IF(E423=\"\",\"\",IF(COUNTIF(V$7:$V423,V423)=1,\"\",dcall))","v":""},{"$f":"IF(N423>1,COUNTIF($H$7:H423,H423),7)","v":7},1,1,null,null,null,"","","","0",0,""]
[null,418,"",null,null,null,null,null,null,"","",{"$f":"IF(E424=\"\",\"\",IF(COUNTIF(V$7:$V424,V424)=1,\"\",dcall))","v":""},{"$f":"IF(N424>1,COUNTIF($H$7:H424,H424),7)","v":7},1,1,null,null,null,"","","","0",0,""]
[null,419,"",null,null,null,null,null,null,"","",{"$f":"IF(E425=\"\",\"\",IF(COUNTIF(V$7:$V425,V425)=1,\"\",dcall))","v":""},{"$f":"IF(N425>1,COUNTIF($H$7:H425,H425),7)","v":7},1,1,null,null,null,"","","","0",0,""]
[null,420,"",null,null,null,null,null,null,"","",{"$f":"IF(E426=\"\",\"\",IF(COUNTIF(V$7:$V426,V426)=1,\"\",dcall))","v":""},{"$f":"IF(N426>1,COUNTIF($H$7:H426,H426),7)","v":7},1,1,null,null,null,"","","","0",0,""]
[null,421,"",null,null,null,null,null,null,"","",{"$f":"IF(E427=\"\",\"\",IF(COUNTIF(V$7:$V427,V427)=1,\"\",dcall))","v":""},{"$f":"IF(N427>1,COUNTIF($H$7:H427,H427),7)","v":7},1,1,null,null,null,"","","","0",0,""]
[null,422,"",null,null,null,null,null,null,"","",{"$f":"IF(E428=\"\",\"\",IF(COUNTIF(V$7:$V428,V428)=1,\"\",dcall))","v":""},{"$f":"IF(N428>1,COUNTIF($H$7:H428,H428),7)","v":7},1,1,null,null,null,"","","","0",0,""]
[null,423,"",null,null,null,null,null,null,"","",{"$f":"IF(E429=\"\",\"\",IF(COUNTIF(V$7:$V429,V429)=1,\"\",dcall))","v":""},{"$f":"IF(N429>1,COUNTIF($H$7:H429,H429),7)","v":7},1,1,null,null,null,"","","","0",0,""]
[null,424,"",null,null,null,null,null,null,"","",{"$f":"IF(E430=\"\",\"\",IF(COUNTIF(V$7:$V430,V430)=1,\"\",dcall))","v":""},{"$f":"IF(N430>1,COUNTIF($H$7:H430,H430),7)","v":7},1,1,null,null,null,"","","","0",0,""]
[null,425,"",null,null,null,null,null,null,"","",{"$f":"IF(E431=\"\",\"\",IF(COUNTIF(V$7:$V431,V431)=1,\"\",dcall))","v":""},{"$f":"IF(N431>1,COUNTIF($H$7:H431,H431),7)","v":7},1,1,null,null,null,"","","","0",0,""]
[null,426,"",null,null,null,null,null,null,"","",{"$f":"IF(E432=\"\",\"\",IF(COUNTIF(V$7:$V432,V432)=1,\"\",dcall))","v":""},{"$f":"IF(N432>1,COUNTIF($H$7:H432,H432),7)","v":7},1,1,null,null,null,"","","","0",0,""]
[null,427,"",null,null,null,null,null,null,"","",{"$f":"IF(E433=\"\",\"\",IF(COUNTIF(V$7:$V433,V433)=1,\"\",dcall))","v":""},{"$f":"IF(N433>1,COUNTIF($H$7:H433,H433),7)","v":7},1,1,null,null,null,"","","","0",0,""]
[null,428,"",null,null,null,null,null,null,"","",{"$f":"IF(E434=\"\",\"\",IF(COUNTIF(V$7:$V434,V434)=1,\"\",dcall))","v":""},{"$f":"IF(N434>1,COUNTIF($H$7:H434,H434),7)","v":7},1,1,null,null,null,"","","","0",0,""]
[null,429,"",null,null,null,null,null,null,"","",{"$f":"IF(E435=\"\",\"\",IF(COUNTIF(V$7:$V435,V435)=1,\"\",dcall))","v":""},{"$f":"IF(N435>1,COUNTIF($H$7:H435,H435),7)","v":7},1,1,null,null,null,"","","","0",0,""]
[null,430,"",null,null,null,null,null,null,"","",{"$f":"IF(E436=\"\",\"\",IF(COUNTIF(V$7:$V436,V436)=1,\"\",dcall))","v":""},{"$f":"IF(N436>1,COUNTIF($H$7:H436,H436),7)","v":7},1,1,null,null,null,"","","","0",0,""]
[null,431,"",null,null,null,null,null,null,"","",{"$f":"IF(E437=\"\",\"\",IF(COUNTIF(V$7:$V437,V437)=1,\"\",dcall))","v":""},{"$f":"IF(N437>1,COUNTIF($H$7:H437,H437),7)","v":7},1,1,null,null,null,"","","","0",0,""]
[null,432,"",null,null,null,null,null,null,"","",{"$f":"IF(E438=\"\",\"\",IF(COUNTIF(V$7:$V438,V438)=1,\"\",dcall))","v":""},{"$f":"IF(N438>1,COUNTIF($H$7:H438,H438),7)","v":7},1,1,null,null,null,"","","","0",0,""]
[null,433,"",null,null,null,null,null,null,"","",{"$f":"IF(E439=\"\",\"\",IF(COUNTIF(V$7:$V439,V439)=1,\"\",dcall))","v":""},{"$f":"IF(N439>1,COUNTIF($H$7:H439,H439),7)","v":7},1,1,null,null,null,"","","","0",0,""]
[null,434,"",null,null,null,null,null,null,"","",{"$f":"IF(E440=\"\",\"\",IF(COUNTIF(V$7:$V440,V440)=1,\"\",dcall))","v":""},{"$f":"IF(N440>1,COUNTIF($H$7:H440,H440),7)","v":7},1,1,null,null,null,"","","","0",0,""]
[null,435,"",null,null,null,null,null,null,"","",{"$f":"IF(E441=\"\",\"\",IF(COUNTIF(V$7:$V441,V441)=1,\"\",dcall))","v":""},{"$f":"IF(N441>1,COUNTIF($H$7:H441,H441),7)","v":7},1,1,null,null,null,"","","","0",0,""]
[null,436,"",null,null,null,null,null,null,"","",{"$f":"IF(E442=\"\",\"\",IF(COUNTIF(V$7:$V442,V442)=1,\"\",dcall))","v":""},{"$f":"IF(N442>1,COUNTIF($H$7:H442,H442),7)","v":7},1,1,null,null,null,"","","","0",0,""]
[null,437,"",null,null,null,null,null,null,"","",{"$f":"IF(E443=\"\",\"\",IF(COUNTIF(V$7:$V443,V443)=1,\"\",dcall))","v":""},{"$f":"IF(N443>1,COUNTIF($H$7:H443,H443),7)","v":7},1,1,null,null,null,"","","","0",0,""]
[null,438,"",null,null,null,null,null,null,"","",{"$f":"IF(E444=\"\",\"\",IF(COUNTIF(V$7:$V444,V444)=1,\"\",dcall))","v":""},{"$f":"IF(N444>1,COUNTIF($H$7:H444,H444),7)","v":7},1,1,null,null,null,"","","","0",0,""]
[null,439,"",null,null,null,null,null,null,"","",{"$f":"IF(E445=\"\",\"\",IF(COUNTIF(V$7:$V445,V445)=1,\"\",dcall))","v":""},{"$f":"IF(N445>1,COUNTIF($H$7:H445,H445),7)","v":7},1,1,null,null,null,"","","","0",0,""]
[null,440,"",null,null,null,null,null,null,"","",{"$f":"IF(E446=\"\",\"\",IF(COUNTIF(V$7:$V446,V446)=1,\"\",dcall))","v":""},{"$f":"IF(N446>1,COUNTIF($H$7:H446,H446),7)","v":7},1,1,null,null,null,"","","","0",0,""]
[null,441,"",null,null,null,null,null,null,"","",{"$f":"IF(E447=\"\",\"\",IF(COUNTIF(V$7:$V447,V447)=1,\"\",dcall))","v":""},{"$f":"IF(N447>1,COUNTIF($H$7:H447,H447),7)","v":7},1,1,null,null,null,"","","","0",0,""]
[null,442,{"$f":"IF(F448>0,date1,\"\")","v":""},null,null,null,null,null,null,{"$f":"IF(E448=\"\",\"\",IF(L448=\"\",O448,0))","v":""},{"$f":"IF(E448=\"\",\"\",IF(M448=1,1,\"\"))","v":""},{"$f":"IF(E448=\"\",\"\",IF(COUNTIF(V$7:$V448,V448)=1,\"\",dcall))","v":""},{"$f":"IF(N448>1,COUNTIF($H$7:H448,H448),7)","v":7},{"$f":"IF(COUNTIF(dokli,H448)>0,5,IF(COUNTIF(vfdbdok,H448)>0,10,1))","v":1},{"$f":"IF(H448=dok,0,N448)","v":1},null,null,null,{"$f":"UPPER(SUBSTITUTE(H448,\" \",\"\",1))","v":""},"",{"$f":"UPPER(E448)","v":""},{"$f":"CONCATENATE(E448,LEN(G448))","v":"0"},0,""]
[null,443,"",null,null,null,null,null,null,"","",{"$f":"IF(E449=\"\",\"\",IF(COUNTIF(V$7:$V449,V449)=1,\"\",dcall))","v":""},{"$f":"IF(N449>1,COUNTIF($H$7:H449,H449),7)","v":7},1,1,null,null,null,"","","","0",0,""]
[null,444,"",null,null,null,null,null,null,"","",{"$f":"IF(E450=\"\",\"\",IF(COUNTIF(V$7:$V450,V450)=1,\"\",dcall))","v":""},{"$f":"IF(N450>1,COUNTIF($H$7:H450,H450),7)","v":7},1,1,null,null,null,"","","","0",0,""]
[null,445,"",null,null,null,null,null,null,"","",{"$f":"IF(E451=\"\",\"\",IF(COUNTIF(V$7:$V451,V451)=1,\"\",dcall))","v":""},{"$f":"IF(N451>1,COUNTIF($H$7:H451,H451),7)","v":7},1,1,null,null,null,"","","","0",0,""]
[null,446,"",null,null,null,null,null,null,"","",{"$f":"IF(E452=\"\",\"\",IF(COUNTIF(V$7:$V452,V452)=1,\"\",dcall))","v":""},{"$f":"IF(N452>1,COUNTIF($H$7:H452,H452),7)","v":7},1,1,null,null,null,"","","","0",0,""]
[null,447,"",null,null,null,null,null,null,"","",{"$f":"IF(E453=\"\",\"\",IF(COUNTIF(V$7:$V453,V453)=1,\"\",dcall))","v":""},{"$f":"IF(N453>1,COUNTIF($H$7:H453,H453),7)","v":7},1,1,null,null,null,"","","","0",0,""]
[null,448,"",null,null,null,null,null,null,"","",{"$f":"IF(E454=\"\",\"\",IF(COUNTIF(V$7:$V454,V454)=1,\"\",dcall))","v":""},{"$f":"IF(N454>1,COUNTIF($H$7:H454,H454),7)","v":7},1,1,null,null,null,"","","","0",0,""]
[null,449,"",null,null,null,null,null,null,"","",{"$f":"IF(E455=\"\",\"\",IF(COUNTIF(V$7:$V455,V455)=1,\"\",dcall))","v":""},{"$f":"IF(N455>1,COUNTIF($H$7:H455,H455),7)","v":7},1,1,null,null,null,"",{"$f":"IF(W455=0,\"\",IF(W455=5,W455,CONCATENATE(LEFT(W455,2),\":\",RIGHT(W455,2))))","v":""},"","0",0,""]
[null,450,"",null,null,null,null,null,null,"","",{"$f":"IF(E456=\"\",\"\",IF(COUNTIF(V$7:$V456,V456)=1,\"\",dcall))","v":""},{"$f":"IF(N456>1,COUNTIF($H$7:H456,H456),7)","v":7},1,1,null,null,null,"","","","0",{"$f":"IF(X456=\":\",IF(LEN(D456)=4,CONCATENATE(\"0\",LEFT(D456,1),RIGHT(D456,2)),D456),IF(LEN(D456)=3,CONCATENATE(\"0\",D456),D456))","v":0},{"$f":"IF(LEN(D456)=4,MID(D456,2,1),MID(D456,3,1))","v":""}]
[null,451,"",null,null,null,null,null,null,"","",{"$f":"IF(E457=\"\",\"\",IF(COUNTIF(V$7:$V457,V457)=1,\"\",dcall))","v":""},{"$f":"IF(N457>1,COUNTIF($H$7:H457,H457),7)","v":7},1,1,null,null,null,"","","","0",0,""]
[null,452,"",null,null,null,null,null,null,"","",{"$f":"IF(E458=\"\",\"\",IF(COUNTIF(V$7:$V458,V458)=1,\"\",dcall))","v":""},{"$f":"IF(N458>1,COUNTIF($H$7:H458,H458),7)","v":7},1,1,null,null,null,"","","","0",0,""]
[null,453,"",null,null,null,null,null,null,"","",{"$f":"IF(E459=\"\",\"\",IF(COUNTIF(V$7:$V459,V459)=1,\"\",dcall))","v":""},{"$f":"IF(N459>1,COUNTIF($H$7:H459,H459),7)","v":7},1,1,null,null,null,"","","","0",0,""]
[null,454,"",null,null,null,null,null,null,"","",{"$f":"IF(E460=\"\",\"\",IF(COUNTIF(V$7:$V460,V460)=1,\"\",dcall))","v":""},{"$f":"IF(N460>1,COUNTIF($H$7:H460,H460),7)","v":7},1,1,null,null,null,"","","","0",0,""]
[null,455,"",null,null,null,null,null,null,"","",{"$f":"IF(E461=\"\",\"\",IF(COUNTIF(V$7:$V461,V461)=1,\"\",dcall))","v":""},{"$f":"IF(N461>1,COUNTIF($H$7:H461,H461),7)","v":7},1,1,null,null,null,"","","","0",0,""]
[null,456,"",null,null,null,null,null,null,"","",{"$f":"IF(E462=\"\",\"\",IF(COUNTIF(V$7:$V462,V462)=1,\"\",dcall))","v":""},{"$f":"IF(N462>1,COUNTIF($H$7:H462,H462),7)","v":7},1,1,null,null,null,"","","","0",0,""]
[null,457,"",null,null,null,null,null,null,"","",{"$f":"IF(E463=\"\",\"\",IF(COUNTIF(V$7:$V463,V463)=1,\"\",dcall))","v":""},{"$f":"IF(N463>1,COUNTIF($H$7:H463,H463),7)","v":7},1,1,null,null,null,"","","","0",0,""]
[null,458,"",null,null,null,null,null,null,"","",{"$f":"IF(E464=\"\",\"\",IF(COUNTIF(V$7:$V464,V464)=1,\"\",dcall))","v":""},{"$f":"IF(N464>1,COUNTIF($H$7:H464,H464),7)","v":7},1,1,null,null,null,"","","","0",0,""]
[null,459,"",null,null,null,null,null,null,"","",{"$f":"IF(E465=\"\",\"\",IF(COUNTIF(V$7:$V465,V465)=1,\"\",dcall))","v":""},{"$f":"IF(N465>1,COUNTIF($H$7:H465,H465),7)","v":7},1,1,null,null,null,"","","","0",0,""]
[null,460,"",null,null,null,null,null,null,"","",{"$f":"IF(E466=\"\",\"\",IF(COUNTIF(V$7:$V466,V466)=1,\"\",dcall))","v":""},{"$f":"IF(N466>1,COUNTIF($H$7:H466,H466),7)","v":7},1,1,null,null,null,"","","","0",0,""]
[null,461,"",null,null,null,null,null,null,"","",{"$f":"IF(E467=\"\",\"\",IF(COUNTIF(V$7:$V467,V467)=1,\"\",dcall))","v":""},{"$f":"IF(N467>1,COUNTIF($H$7:H467,H467),7)","v":7},1,1,null,null,null,"","","","0",0,""]
[null,462,"",null,null,null,null,null,null,"","",{"$f":"IF(E468=\"\",\"\",IF(COUNTIF(V$7:$V468,V468)=1,\"\",dcall))","v":""},{"$f":"IF(N468>1,COUNTIF($H$7:H468,H468),7)","v":7},1,1,null,null,null,"","","","0",0,""]
[null,463,"",null,null,null,null,null,null,"","",{"$f":"IF(E469=\"\",\"\",IF(COUNTIF(V$7:$V469,V469)=1,\"\",dcall))","v":""},{"$f":"IF(N469>1,COUNTIF($H$7:H469,H469),7)","v":7},1,1,null,null,null,"","","","0",0,""]
[null,464,"",null,null,null,null,null,null,"","",{"$f":"IF(E470=\"\",\"\",IF(COUNTIF(V$7:$V470,V470)=1,\"\",dcall))","v":""},{"$f":"IF(N470>1,COUNTIF($H$7:H470,H470),7)","v":7},1,1,null,null,null,"","","","0",0,""]
[null,465,"",null,null,null,null,null,null,"","",{"$f":"IF(E471=\"\",\"\",IF(COUNTIF(V$7:$V471,V471)=1,\"\",dcall))","v":""},{"$f":"IF(N471>1,COUNTIF($H$7:H471,H471),7)","v":7},1,1,null,null,null,"","","","0",0,""]
[null,466,"",null,null,null,null,null,null,"","",{"$f":"IF(E472=\"\",\"\",IF(COUNTIF(V$7:$V472,V472)=1,\"\",dcall))","v":""},{"$f":"IF(N472>1,COUNTIF($H$7:H472,H472),7)","v":7},1,1,null,null,null,"","","","0",0,""]
[null,467,"",null,null,null,null,null,null,"","",{"$f":"IF(E473=\"\",\"\",IF(COUNTIF(V$7:$V473,V473)=1,\"\",dcall))","v":""},{"$f":"IF(N473>1,COUNTIF($H$7:H473,H473),7)","v":7},1,1,null,null,null,"","","","0",0,""]
[null,468,"",null,null,null,null,null,null,"","",{"$f":"IF(E474=\"\",\"\",IF(COUNTIF(V$7:$V474,V474)=1,\"\",dcall))","v":""},{"$f":"IF(N474>1,COUNTIF($H$7:H474,H474),7)","v":7},1,1,null,null,null,"","","","0",0,""]
[null,469,"",null,null,null,null,null,null,"","",{"$f":"IF(E475=\"\",\"\",IF(COUNTIF(V$7:$V475,V475)=1,\"\",dcall))","v":""},{"$f":"IF(N475>1,COUNTIF($H$7:H475,H475),7)","v":7},1,1,null,null,null,"","","","0",0,""]
[null,470,"",null,null,null,null,null,null,"","",{"$f":"IF(E476=\"\",\"\",IF(COUNTIF(V$7:$V476,V476)=1,\"\",dcall))","v":""},{"$f":"IF(N476>1,COUNTIF($H$7:H476,H476),7)","v":7},1,1,null,null,null,"","","","0",0,""]
[null,471,"",null,null,null,null,null,null,"","",{"$f":"IF(E477=\"\",\"\",IF(COUNTIF(V$7:$V477,V477)=1,\"\",dcall))","v":""},{"$f":"IF(N477>1,COUNTIF($H$7:H477,H477),7)","v":7},1,1,null,null,null,"","","","0",0,""]
[null,472,"",null,null,null,null,null,null,"","",{"$f":"IF(E478=\"\",\"\",IF(COUNTIF(V$7:$V478,V478)=1,\"\",dcall))","v":""},{"$f":"IF(N478>1,COUNTIF($H$7:H478,H478),7)","v":7},1,1,null,null,null,"","","","0",0,""]
[null,473,"",null,null,null,null,null,null,"","",{"$f":"IF(E479=\"\",\"\",IF(COUNTIF(V$7:$V479,V479)=1,\"\",dcall))","v":""},{"$f":"IF(N479>1,COUNTIF($H$7:H479,H479),7)","v":7},1,1,null,null,null,"","","","0",0,""]
[null,474,"",null,null,null,null,null,null,"","",{"$f":"IF(E480=\"\",\"\",IF(COUNTIF(V$7:$V480,V480)=1,\"\",dcall))","v":""},{"$f":"IF(N480>1,COUNTIF($H$7:H480,H480),7)","v":7},1,1,null,null,null,"","","","0",0,""]
[null,475,"",null,null,null,null,null,null,"","",{"$f":"IF(E481=\"\",\"\",IF(COUNTIF(V$7:$V481,V481)=1,\"\",dcall))","v":""},{"$f":"IF(N481>1,COUNTIF($H$7:H481,H481),7)","v":7},1,1,null,null,null,"","","","0",0,""]
[null,476,"",null,null,null,null,null,null,"","",{"$f":"IF(E482=\"\",\"\",IF(COUNTIF(V$7:$V482,V482)=1,\"\",dcall))","v":""},{"$f":"IF(N482>1,COUNTIF($H$7:H482,H482),7)","v":7},1,1,null,null,null,"","","","0",0,""]
[null,477,"",null,null,null,null,null,null,"","",{"$f":"IF(E483=\"\",\"\",IF(COUNTIF(V$7:$V483,V483)=1,\"\",dcall))","v":""},{"$f":"IF(N483>1,COUNTIF($H$7:H483,H483),7)","v":7},1,1,null,null,null,"","","","0",0,""]
[null,478,"",null,null,null,null,null,null,"","",{"$f":"IF(E484=\"\",\"\",IF(COUNTIF(V$7:$V484,V484)=1,\"\",dcall))","v":""},{"$f":"IF(N484>1,COUNTIF($H$7:H484,H484),7)","v":7},1,1,null,null,null,"","","","0",0,""]
[null,479,"",null,null,null,null,null,null,"","",{"$f":"IF(E485=\"\",\"\",IF(COUNTIF(V$7:$V485,V485)=1,\"\",dcall))","v":""},{"$f":"IF(N485>1,COUNTIF($H$7:H485,H485),7)","v":7},1,1,null,null,null,"","","","0",0,""]
[null,480,"",null,null,null,null,null,null,"","",{"$f":"IF(E486=\"\",\"\",IF(COUNTIF(V$7:$V486,V486)=1,\"\",dcall))","v":""},{"$f":"IF(N486>1,COUNTIF($H$7:H486,H486),7)","v":7},1,1,null,null,null,"","","","0",0,""]
[null,481,"",null,null,null,null,null,null,"","",{"$f":"IF(E487=\"\",\"\",IF(COUNTIF(V$7:$V487,V487)=1,\"\",dcall))","v":""},{"$f":"IF(N487>1,COUNTIF($H$7:H487,H487),7)","v":7},1,1,null,null,null,"","","","0",0,""]
[null,482,"",null,null,null,null,null,null,"","",{"$f":"IF(E488=\"\",\"\",IF(COUNTIF(V$7:$V488,V488)=1,\"\",dcall))","v":""},{"$f":"IF(N488>1,COUNTIF($H$7:H488,H488),7)","v":7},1,1,null,null,null,"","","","0",0,""]
[null,483,"",null,null,null,null,null,null,"","",{"$f":"IF(E489=\"\",\"\",IF(COUNTIF(V$7:$V489,V489)=1,\"\",dcall))","v":""},{"$f":"IF(N489>1,COUNTIF($H$7:H489,H489),7)","v":7},1,1,null,null,null,"","","","0",0,""]
[null,484,"",null,null,null,null,null,null,"","",{"$f":"IF(E490=\"\",\"\",IF(COUNTIF(V$7:$V490,V490)=1,\"\",dcall))","v":""},{"$f":"IF(N490>1,COUNTIF($H$7:H490,H490),7)","v":7},1,1,null,null,null,"","","","0",0,""]
[null,485,"",null,null,null,null,null,null,"","",{"$f":"IF(E491=\"\",\"\",IF(COUNTIF(V$7:$V491,V491)=1,\"\",dcall))","v":""},{"$f":"IF(N491>1,COUNTIF($H$7:H491,H491),7)","v":7},1,1,null,null,null,"","","","0",0,""]
[null,486,"",null,null,null,null,null,null,"","",{"$f":"IF(E492=\"\",\"\",IF(COUNTIF(V$7:$V492,V492)=1,\"\",dcall))","v":""},{"$f":"IF(N492>1,COUNTIF($H$7:H492,H492),7)","v":7},1,1,null,null,null,"","","","0",0,""]
[null,487,"",null,null,null,null,null,null,"","",{"$f":"IF(E493=\"\",\"\",IF(COUNTIF(V$7:$V493,V493)=1,\"\",dcall))","v":""},{"$f":"IF(N493>1,COUNTIF($H$7:H493,H493),7)","v":7},1,1,null,null,null,"","","","0",0,""]
[null,488,"",null,null,null,null,null,null,"","",{"$f":"IF(E494=\"\",\"\",IF(COUNTIF(V$7:$V494,V494)=1,\"\",dcall))","v":""},{"$f":"IF(N494>1,COUNTIF($H$7:H494,H494),7)","v":7},1,1,null,null,null,"","","","0",0,""]
[null,489,"",null,null,null,null,null,null,"","",{"$f":"IF(E495=\"\",\"\",IF(COUNTIF(V$7:$V495,V495)=1,\"\",dcall))","v":""},{"$f":"IF(N495>1,COUNTIF($H$7:H495,H495),7)","v":7},1,1,null,null,null,"","","","0",0,""]
[null,490,"",null,null,null,null,null,null,"","",{"$f":"IF(E496=\"\",\"\",IF(COUNTIF(V$7:$V496,V496)=1,\"\",dcall))","v":""},{"$f":"IF(N496>1,COUNTIF($H$7:H496,H496),7)","v":7},1,1,null,null,null,"","","","0",0,""]
[null,491,"",null,null,null,null,null,null,"","",{"$f":"IF(E497=\"\",\"\",IF(COUNTIF(V$7:$V497,V497)=1,\"\",dcall))","v":""},{"$f":"IF(N497>1,COUNTIF($H$7:H497,H497),7)","v":7},1,1,null,null,null,"","","","0",0,""]
[null,492,"",null,null,null,null,null,null,"","",{"$f":"IF(E498=\"\",\"\",IF(COUNTIF(V$7:$V498,V498)=1,\"\",dcall))","v":""},{"$f":"IF(N498>1,COUNTIF($H$7:H498,H498),7)","v":7},1,1,null,null,null,"","","","0",0,""]
[null,493,"",null,null,null,null,null,null,"","",{"$f":"IF(E499=\"\",\"\",IF(COUNTIF(V$7:$V499,V499)=1,\"\",dcall))","v":""},{"$f":"IF(N499>1,COUNTIF($H$7:H499,H499),7)","v":7},1,1,null,null,null,"","","","0",0,""]
[null,494,"",null,null,null,null,null,null,"","",{"$f":"IF(E500=\"\",\"\",IF(COUNTIF(V$7:$V500,V500)=1,\"\",dcall))","v":""},{"$f":"IF(N500>1,COUNTIF($H$7:H500,H500),7)","v":7},1,1,null,null,null,"","","","0",0,""]
[null,495,"",null,null,null,null,null,null,"","",{"$f":"IF(E501=\"\",\"\",IF(COUNTIF(V$7:$V501,V501)=1,\"\",dcall))","v":""},{"$f":"IF(N501>1,COUNTIF($H$7:H501,H501),7)","v":7},1,1,null,null,null,"","","","0",0,""]
[null,496,"",null,null,null,null,null,null,"","",{"$f":"IF(E502=\"\",\"\",IF(COUNTIF(V$7:$V502,V502)=1,\"\",dcall))","v":""},{"$f":"IF(N502>1,COUNTIF($H$7:H502,H502),7)","v":7},1,1,null,null,null,"","","","0",0,""]
[null,497,"",null,null,null,null,null,null,"","",{"$f":"IF(E503=\"\",\"\",IF(COUNTIF(V$7:$V503,V503)=1,\"\",dcall))","v":""},{"$f":"IF(N503>1,COUNTIF($H$7:H503,H503),7)","v":7},1,1,null,null,null,"","","","0",0,""]
[null,498,"",null,null,null,null,null,null,"","",{"$f":"IF(E504=\"\",\"\",IF(COUNTIF(V$7:$V504,V504)=1,\"\",dcall))","v":""},{"$f":"IF(N504>1,COUNTIF($H$7:H504,H504),7)","v":7},1,1,null,null,null,"","","","0",0,""]
[null,499,"",null,null,null,null,null,null,"","",{"$f":"IF(E505=\"\",\"\",IF(COUNTIF(V$7:$V505,V505)=1,\"\",dcall))","v":""},{"$f":"IF(N505>1,COUNTIF($H$7:H505,H505),7)","v":7},1,1,null,null,null,"","","","0",0,""]
[null,500,{"$f":"IF(F506>0,date1,\"\")","v":""},null,null,null,null,null,null,{"$f":"IF(E506=\"\",\"\",IF(L506=\"\",O506,0))","v":""},{"$f":"IF(E506=\"\",\"\",IF(M506=1,1,\"\"))","v":""},{"$f":"IF(E506=\"\",\"\",IF(COUNTIF(V$7:$V506,V506)=1,\"\",dcall))","v":""},{"$f":"IF(N506>1,COUNTIF($H$7:H506,H506),7)","v":7},{"$f":"IF(COUNTIF(dokli,H506)>0,5,IF(COUNTIF(vfdbdok,H506)>0,10,1))","v":1},{"$f":"IF(H506=dok,0,N506)","v":1},null,null,null,{"$f":"UPPER(SUBSTITUTE(H506,\" \",\"\",1))","v":""},"",{"$f":"UPPER(E506)","v":""},{"$f":"CONCATENATE(E506,LEN(G506))","v":"0"},0,""]

{"sheet":"Hinweise","index":4,"n_rows":35,"n_cols":9,"rows_kept":35,"cut":false,"hidden":false,"merged":[]}
[]
["Hallo liebe YL, lieber OM, ",null,null,null,"Es sind nur die gelben Felder in den Blättern auszufüllen !"]
["hier einige Hinweise zum Umgang mit dieser Datei.",null,null,null,"bernd-z60","joachim-z84","aktivwo-03","chris-z87","cont-03"]
["Es sind nur die gelben Felder in den Blättern \"Allg_Angaben\", \"Auswertung\", \"Blatt1\" und \"Blatt2\" auszufüllen."]
["Der Rest erfolgt automatisch."]
["Die Datei ist für je 500 QSOs ausgelegt. Werden größere Dateien benötigt, bitte melden."]
["Die Locator-Daten (Großfelder) werden durch Betätigen des Buttons auf dem Auswerte-Blatt berechnet."]
[]
["Hinweis zum Eintrag des DOKs : Es sind 3 Varianten der DOK-Eingabe möglich : z.B.  z87, z 87, Z87 "]
["Hinweis zum Eintrag der Zeit : ",null,null,"Die Eingabe kann ohne Doppelpunkt erfolgen. Nach Abschluß des Kontestes ist der"]
[null,null,null,"Button \"Log fertig\" je Blatt zu betätigen. Somit wird die Uhrzeit konvertiert."]
["Beim Ausdrucken von Blatt 1 und 2 (Log) ist die Anzahl der Seiten über \"Seitenansicht\" zu ermitteln"]
["und in der Druckeroption unter \"von .. bis .. \" einzutragen, da sonst unnötig leere Blätter"]
["gedruckt werden."]
[]
["Der Ausdruck der Tabelle \"Allg_Angaben\" ist die Vorderseite des geforderten Deckblattes. "]
["Die Rückseite wird durch den Ausdruck der Tabelle \"Auswertung\" erzielt."]
["Der gefertigte Ausdruck kann nun mit Unterschrift an den Contest-Manager per Post gesandt werden."]
["Es besteht auch die Möglichkeit des Versandes per Anlage zur E-Mail."]
["Beim Versand als E-Mail bitte die Datei so benennen : co<Teil>-<Call>.xls  (Beispiel: co56-DO5HCS.xls)"]
["Versand-Adresse des Contest-Managers : dl6on@vfdb.org",null,null,null,null,null,"Nicht an DO5HCS !"]
[]
["Durch den Kontest-Auswerter erfolgt dann eine bestätigte Weiterleitung an den Diplom-Manager. "]
["Gleichzeitig erhältst Du eine Mail als Nachweis."]
["Ich hoffe, dass diese Form der Logaufbereitung auch für Euch hilfreich ist."]
[null,null,null,null,null,"Vy 73 de DO5HCS  (E-Mail: do5hcs@gmx.de)"]
["Vorteile der Datei :"]
[null," - Übernahme der Daten \"Allg.Angaben\" auf die Log-Blätter und das Auswertungsblatt"]
[null," - Automatische Berechnung der QSO-Punkte und Multiplikatoren"]
[null," - Berechnung der Punkte erfolgt selbstständig"]
[null," - Doppelte QSOs werden erkannt, markiert und mit 0 Punkten berechnet"]
[null," - Der Eintrag der gearbeiteten Z-DOKs einschließlich der SDOKs in die Übersicht erfolgt automatisch"]
["Nachteile der Datei : "]
[null," - Bei UKW-Contesten muss der Locator noch manuell in die Auswerteliste eingetragen werden"]
[null," - Die Datei arbeitet nur korrekt bei EXCEL-Versionen ab 5.0 bzw.97"]

{"sheet":"Tabelle1","index":5,"n_rows":0,"n_cols":0,"rows_kept":0,"cut":false,"hidden":true,"merged":[]}

{"sheet":"Tabelle2","index":6,"n_rows":0,"n_cols":0,"rows_kept":0,"cut":false,"hidden":true,"merged":[]}

{"sheet":"Ausschreibung","index":7,"n_rows":61,"n_cols":8,"rows_kept":61,"cut":false,"hidden":true,"merged":[]}
["Ausschreibung VFDB-Kontest 2018"]
["Der VFDB lädt alle Funkamateure zur Teilnahme am Z-Kontest 2018 ein."]
["Kontestteile und -zeiten"]
["Teil","Datum","Zeit (UTC)","Band Mode"]
[1,"10.02.18      07:00-09:00      80 m SSB"]
[2,"10.02.18      09:00-11:00      40 m SSB"]
[]
[3,"09.06.18      12:00-14:00      2 m SSB/CW"]
[4,"09.06.18      14:00-15:00      70 cm SSB/CW"]
[]
[5,"13.10.18      06:00-08:00      80 m CW"]
[6,"13.10.18      08:00-10:00      40 m CW"]
[]
["Die Einhaltung des Bandplanes der IARU-Region 1 wird vorgeschrieben.",null,null,null,null,"Achtung: Kontestfreie Bereiche sind"]
["Kontestteile 1 und 2 am 10.02.2018:",null,null,"3,650 – 3,700 MHz,","3,775 – 3,800 MHz"]
["Kontestteile 5 und 6 am 13.10.2018:",null,null,"3,500 – 3,510 MHz,","3,560 – 3,800 MHz",null,"7,100 – 7,130 MHz","7,040 – 7,200 MHz"]
["Wertungsgruppen"]
["VFDB: Stationen mit Z-DOK bzw. VFDB Sonder-DOK"]
["Gäste: alle anderen Stationen"]
["SWL: SWL"]
["Betriebsabwicklung"]
["Jede Station darf je Wettbewerbsteil nur einmal gearbeitet werden. Austausch: RS(T) + DOK, bei UKW zusätzlich"]
["den Locator. Stationen ohne DOK geben RS(T) und die laufende QSO-Nummer. Bei gearbeiteten Stationen, die"]
["keine Kontrollnummer vergeben haben, ist 000 einzusetzen. Doppelverbindungen sind als solche im Log zu"]
["kennzeichnen und mit 0 Punkten zu werten."]
["Wertung","QSO-Punkte"]
["Je QSO mit Stationen aus VFDB-OVs (Z-DOK und evtl. Kurzzeit-Sonder-DOKs):",null,null,null,null,null,"5 Punkte"]
["Je QSO mit VFDB-Sonderstn. (DB/DF/DK/DL0DBP, DK/DQ0Z , DF/DL0FTP), DL0YLZ: 10 Punkte"]
["Je QSO mit einer anderen Station:",null,null,null,null,null,"1 Punkt"]
["QSOs von Stationen mit dem eigenen DOK werden mit 0 QSO-Punkten gewertet"]
["Multiplikator"]
["Jeder Z-DOK (auch der eigene) und jeder Sonder-DOK des VFDB zählen pro Band",null,null,null,null,null,"1 Punkt"]
["(wenn keiner dieser DOKs des VFDB gearbeitet wurde, dann Multi = 1)"]
["Bei UKW zählt zusätzlich",null,"jedes Großfeld 5 Punkte"]
["Endpunktzahl"]
["Summe der QSO-Punkte mal Summe der Multiplikator-Punkte."]
["Jeder Kontestteil wird getrennt gewertet."]
["SWL-Wertung"]
["Analog, aber pro QSO beide Rufzeichen und mindestens ein kompletter Kontestrapport."]
["Ein Rufzeichen darf pro Kontestteil nur maximal 5 mal pro Band geloggt werden."]
["QSOs von Stationen aus dem eigenen OV werden nicht gewertet."]
["keine SWL–Logs von aktiven Teilnehmern"]
["Logs"]
["Die Verwendung des VFDB-Kontestdeckblattes (siehe z. B. Mittelteil der CQ VFDB 3/2001) wird empfohlen."]
["Hilfsweise ist eine übersichtliche Aufstellung der Daten, insbesondere der gearbeiteten Z-DOKs und Großfelder,"]
["beizufügen. Die Benutzung der VFDB-Kontest-Logblätter wird ebenfalls empfohlen."]
["Beide sind auch gegen SASE (an sich selbst adressierter, ausreichend frankierter C5-Umschlag) beim"]
["Kontestmanager und via",null,"www.vfdb.org",null,"erhältlich."]
[]
["Von Stationen, die mit einem PC geloggt haben, wird ein elektronisches Log mit den üblichen Angaben auf gän-"]
["gigem Datenträger oder per E-Mail erwartet."]
["Logs sind innerhalb von 14 Tagen (Datum des Poststempels) nach dem Kontest an den"]
["Kontestmanager"]
["Joachim Gebauer, DL6ON, Holzhäusen 14, 29225 Celle einzusenden."]
["Bei unzureichend frankierten Sendungen wird die Annahme verweigert."]
["Logs per E-Mail bitte an",null,"dl6on@vfdb.org"]
[]
[". Logs per E-Mail sind erwünscht. Es werden alle Formate",null,null,null,"(außer pdf)"]
["mit den üblichen Angaben entgegengenommen. Folgende Programme unterstützen den Kontest:"]
["„DO5HCS-Format“ Entsprechende Vorlagen können von der VFDB-Seite",null,null,null,null,null,"www.vfdb.org"]
["im Internet geladen",null,"werden."]